BEGIN:VCALENDAR
VERSION:2.0
PRODID:-//Holy Rosary Shrine - ECPv6.15.20//NONSGML v1.0//EN
CALSCALE:GREGORIAN
METHOD:PUBLISH
X-WR-CALNAME:Holy Rosary Shrine
X-ORIGINAL-URL:https://www.hrslawrence.org
X-WR-CALDESC:Events for Holy Rosary Shrine
REFRESH-INTERVAL;VALUE=DURATION:PT1H
X-Robots-Tag:noindex
X-PUBLISHED-TTL:PT1H
BEGIN:VTIMEZONE
TZID:America/New_York
BEGIN:DAYLIGHT
TZOFFSETFROM:-0500
TZOFFSETTO:-0400
TZNAME:EDT
DTSTART:20240310T070000
END:DAYLIGHT
BEGIN:STANDARD
TZOFFSETFROM:-0400
TZOFFSETTO:-0500
TZNAME:EST
DTSTART:20241103T060000
END:STANDARD
BEGIN:DAYLIGHT
TZOFFSETFROM:-0500
TZOFFSETTO:-0400
TZNAME:EDT
DTSTART:20250309T070000
END:DAYLIGHT
BEGIN:STANDARD
TZOFFSETFROM:-0400
TZOFFSETTO:-0500
TZNAME:EST
DTSTART:20251102T060000
END:STANDARD
BEGIN:DAYLIGHT
TZOFFSETFROM:-0500
TZOFFSETTO:-0400
TZNAME:EDT
DTSTART:20260308T070000
END:DAYLIGHT
BEGIN:STANDARD
TZOFFSETFROM:-0400
TZOFFSETTO:-0500
TZNAME:EST
DTSTART:20261101T060000
END:STANDARD
END:VTIMEZONE
BEGIN:VEVENT
DTSTART;TZID=America/New_York:20250511T103000
DTEND;TZID=America/New_York:20250511T103000
DTSTAMP:20260425T235948
CREATED:20250426T031747Z
LAST-MODIFIED:20250426T031747Z
UID:10213-1746959400-1746959400@www.hrslawrence.org
SUMMARY:Catecismo para Adultos en Español
DESCRIPTION:Centro del Santuario
URL:https://www.hrslawrence.org/event/catecismo-para-adultos-en-espanol-17/
END:VEVENT
BEGIN:VEVENT
DTSTART;TZID=America/New_York:20250511T111500
DTEND;TZID=America/New_York:20250511T111500
DTSTAMP:20260425T235948
CREATED:20250426T031744Z
LAST-MODIFIED:20250426T031744Z
UID:10212-1746962100-1746962100@www.hrslawrence.org
SUMMARY:Adult Education
DESCRIPTION:Shrine center
URL:https://www.hrslawrence.org/event/adult-education-20/
END:VEVENT
BEGIN:VEVENT
DTSTART;TZID=America/New_York:20250511T200000
DTEND;TZID=America/New_York:20250511T200000
DTSTAMP:20260425T235948
CREATED:20250222T034258Z
LAST-MODIFIED:20250222T034351Z
UID:9634-1746993600-1746993600@www.hrslawrence.org
SUMMARY:Our Lady of Fatima Candlelight Procession
DESCRIPTION:Holy Rosary Shrine Jubilee Events\nUpper church
URL:https://www.hrslawrence.org/event/our-lady-of-fatima-candlelight-procession/
END:VEVENT
END:VCALENDAR