BEGIN:VCALENDAR
VERSION:2.0
PRODID:-//Holy Rosary Shrine - ECPv6.15.20//NONSGML v1.0//EN
CALSCALE:GREGORIAN
METHOD:PUBLISH
X-WR-CALNAME:Holy Rosary Shrine
X-ORIGINAL-URL:https://www.hrslawrence.org
X-WR-CALDESC:Events for Holy Rosary Shrine
REFRESH-INTERVAL;VALUE=DURATION:PT1H
X-Robots-Tag:noindex
X-PUBLISHED-TTL:PT1H
BEGIN:VTIMEZONE
TZID:America/New_York
BEGIN:DAYLIGHT
TZOFFSETFROM:-0500
TZOFFSETTO:-0400
TZNAME:EDT
DTSTART:20240310T070000
END:DAYLIGHT
BEGIN:STANDARD
TZOFFSETFROM:-0400
TZOFFSETTO:-0500
TZNAME:EST
DTSTART:20241103T060000
END:STANDARD
BEGIN:DAYLIGHT
TZOFFSETFROM:-0500
TZOFFSETTO:-0400
TZNAME:EDT
DTSTART:20250309T070000
END:DAYLIGHT
BEGIN:STANDARD
TZOFFSETFROM:-0400
TZOFFSETTO:-0500
TZNAME:EST
DTSTART:20251102T060000
END:STANDARD
BEGIN:DAYLIGHT
TZOFFSETFROM:-0500
TZOFFSETTO:-0400
TZNAME:EDT
DTSTART:20260308T070000
END:DAYLIGHT
BEGIN:STANDARD
TZOFFSETFROM:-0400
TZOFFSETTO:-0500
TZNAME:EST
DTSTART:20261101T060000
END:STANDARD
END:VTIMEZONE
BEGIN:VEVENT
DTSTART;VALUE=DATE:20250619
DTEND;VALUE=DATE:20250620
DTSTAMP:20260425T223706
CREATED:20250613T021840Z
LAST-MODIFIED:20250613T021840Z
UID:10618-1750291200-1750377599@www.hrslawrence.org
SUMMARY:Office Closed
DESCRIPTION:Holy Rosary Shrine Office will be closed on Thursday\, June 19th\, 2025 in observance of “Juneteeth National Independence Day”. \nMass and confession will be at usual time. \n \n 
URL:https://www.hrslawrence.org/event/office-closed-4/
END:VEVENT
BEGIN:VEVENT
DTSTART;TZID=America/New_York:20250619T100000
DTEND;TZID=America/New_York:20250619T100000
DTSTAMP:20260425T223706
CREATED:20250614T030823Z
LAST-MODIFIED:20250614T030823Z
UID:10636-1750327200-1750327200@www.hrslawrence.org
SUMMARY:Legión de María
DESCRIPTION:Iglesia de abajo
URL:https://www.hrslawrence.org/event/legion-de-maria-43/
END:VEVENT
BEGIN:VEVENT
DTSTART;TZID=America/New_York:20250619T173000
DTEND;TZID=America/New_York:20250619T173000
DTSTAMP:20260425T223706
CREATED:20250612T025805Z
LAST-MODIFIED:20250612T025805Z
UID:10591-1750354200-1750354200@www.hrslawrence.org
SUMMARY:Curso Bíblico
DESCRIPTION:Iglesia de abajo
URL:https://www.hrslawrence.org/event/curso-biblico-27/
END:VEVENT
BEGIN:VEVENT
DTSTART;TZID=America/New_York:20250619T180000
DTEND;TZID=America/New_York:20250619T184500
DTSTAMP:20260425T223706
CREATED:20250612T025801Z
LAST-MODIFIED:20250612T025801Z
UID:10592-1750356000-1750358700@www.hrslawrence.org
SUMMARY:Confessions / Confesiones
DESCRIPTION:Lower church / Iglesia de abajo
URL:https://www.hrslawrence.org/event/confessions-confesiones-16/
END:VEVENT
BEGIN:VEVENT
DTSTART;TZID=America/New_York:20250619T200000
DTEND;TZID=America/New_York:20250619T200000
DTSTAMP:20260425T223706
CREATED:20250612T025743Z
LAST-MODIFIED:20250612T025743Z
UID:10594-1750363200-1750363200@www.hrslawrence.org
SUMMARY:Reunión del Grupo CERS
DESCRIPTION:Centro del santuario
URL:https://www.hrslawrence.org/event/reunion-del-grupo-cers-2/
END:VEVENT
BEGIN:VEVENT
DTSTART;TZID=America/New_York:20250619T200000
DTEND;TZID=America/New_York:20250619T200000
DTSTAMP:20260425T223706
CREATED:20250612T025748Z
LAST-MODIFIED:20250612T025748Z
UID:10593-1750363200-1750363200@www.hrslawrence.org
SUMMARY:Charismatic Prayer Group
DESCRIPTION:Iglesia de abajo
URL:https://www.hrslawrence.org/event/charismatic-prayer-group-33/
END:VEVENT
END:VCALENDAR