BEGIN:VCALENDAR
VERSION:2.0
PRODID:-//Holy Rosary Shrine - ECPv6.15.20//NONSGML v1.0//EN
CALSCALE:GREGORIAN
METHOD:PUBLISH
X-WR-CALNAME:Holy Rosary Shrine
X-ORIGINAL-URL:https://www.hrslawrence.org
X-WR-CALDESC:Events for Holy Rosary Shrine
REFRESH-INTERVAL;VALUE=DURATION:PT1H
X-Robots-Tag:noindex
X-PUBLISHED-TTL:PT1H
BEGIN:VTIMEZONE
TZID:America/New_York
BEGIN:DAYLIGHT
TZOFFSETFROM:-0500
TZOFFSETTO:-0400
TZNAME:EDT
DTSTART:20240310T070000
END:DAYLIGHT
BEGIN:STANDARD
TZOFFSETFROM:-0400
TZOFFSETTO:-0500
TZNAME:EST
DTSTART:20241103T060000
END:STANDARD
BEGIN:DAYLIGHT
TZOFFSETFROM:-0500
TZOFFSETTO:-0400
TZNAME:EDT
DTSTART:20250309T070000
END:DAYLIGHT
BEGIN:STANDARD
TZOFFSETFROM:-0400
TZOFFSETTO:-0500
TZNAME:EST
DTSTART:20251102T060000
END:STANDARD
BEGIN:DAYLIGHT
TZOFFSETFROM:-0500
TZOFFSETTO:-0400
TZNAME:EDT
DTSTART:20260308T070000
END:DAYLIGHT
BEGIN:STANDARD
TZOFFSETFROM:-0400
TZOFFSETTO:-0500
TZNAME:EST
DTSTART:20261101T060000
END:STANDARD
END:VTIMEZONE
BEGIN:VEVENT
DTSTART;TZID=America/New_York:20250630T093000
DTEND;TZID=America/New_York:20250703T113000
DTSTAMP:20260425T212602
CREATED:20250628T032834Z
LAST-MODIFIED:20250628T032834Z
UID:10703-1751275800-1751542200@www.hrslawrence.org
SUMMARY:Teen Summer Camp
DESCRIPTION:This week we are offering a Teen Summer Class in Church History from 9:30 am to 11:30 am\, Monday to Thursday in the Lower Church. We will study the major Ecumenical Councils of the Church. Anyone from ages 14-20 who likes Church History and wishes to learn more is welcome to attend. Afterwards\, participants can pray the Rosary\, attend Mass\, and stay for lunch. \nPlease bring your own bag lunch\, we are only providing snacks and water. If there is sufficient interest\, we can have an outdoor activity until 3:00 pm. I will offer a similar program of study for adults in the Fall. ~Fr. Andrew. \n 
URL:https://www.hrslawrence.org/event/teen-summer-camp/
END:VEVENT
BEGIN:VEVENT
DTSTART;TZID=America/New_York:20250701T190000
DTEND;TZID=America/New_York:20250701T190000
DTSTAMP:20260425T212602
CREATED:20250628T033700Z
LAST-MODIFIED:20250628T033700Z
UID:10716-1751396400-1751396400@www.hrslawrence.org
SUMMARY:Curso Bíblico
DESCRIPTION:Centro del Santuario
URL:https://www.hrslawrence.org/event/curso-biblico-32/
END:VEVENT
END:VCALENDAR