BEGIN:VCALENDAR
VERSION:2.0
PRODID:-//Holy Rosary Shrine - ECPv6.15.20//NONSGML v1.0//EN
CALSCALE:GREGORIAN
METHOD:PUBLISH
X-ORIGINAL-URL:https://www.hrslawrence.org
X-WR-CALDESC:Events for Holy Rosary Shrine
REFRESH-INTERVAL;VALUE=DURATION:PT1H
X-Robots-Tag:noindex
X-PUBLISHED-TTL:PT1H
BEGIN:VTIMEZONE
TZID:America/New_York
BEGIN:DAYLIGHT
TZOFFSETFROM:-0500
TZOFFSETTO:-0400
TZNAME:EDT
DTSTART:20240310T070000
END:DAYLIGHT
BEGIN:STANDARD
TZOFFSETFROM:-0400
TZOFFSETTO:-0500
TZNAME:EST
DTSTART:20241103T060000
END:STANDARD
BEGIN:DAYLIGHT
TZOFFSETFROM:-0500
TZOFFSETTO:-0400
TZNAME:EDT
DTSTART:20250309T070000
END:DAYLIGHT
BEGIN:STANDARD
TZOFFSETFROM:-0400
TZOFFSETTO:-0500
TZNAME:EST
DTSTART:20251102T060000
END:STANDARD
BEGIN:DAYLIGHT
TZOFFSETFROM:-0500
TZOFFSETTO:-0400
TZNAME:EDT
DTSTART:20260308T070000
END:DAYLIGHT
BEGIN:STANDARD
TZOFFSETFROM:-0400
TZOFFSETTO:-0500
TZNAME:EST
DTSTART:20261101T060000
END:STANDARD
END:VTIMEZONE
BEGIN:VEVENT
DTSTART;TZID=America/New_York:20250710T100000
DTEND;TZID=America/New_York:20250710T100000
DTSTAMP:20260425T212645
CREATED:20250705T032703Z
LAST-MODIFIED:20250705T032703Z
UID:10779-1752141600-1752141600@www.hrslawrence.org
SUMMARY:Legión de María
DESCRIPTION:Iglesia de abajo
URL:https://www.hrslawrence.org/event/legion-de-maria-46/
END:VEVENT
BEGIN:VEVENT
DTSTART;TZID=America/New_York:20250710T173000
DTEND;TZID=America/New_York:20250710T173000
DTSTAMP:20260425T212645
CREATED:20250705T032226Z
LAST-MODIFIED:20250705T032226Z
UID:10754-1752168600-1752168600@www.hrslawrence.org
SUMMARY:Curso Bíblico
DESCRIPTION:Centro del santuario
URL:https://www.hrslawrence.org/event/curso-biblico-33/
END:VEVENT
BEGIN:VEVENT
DTSTART;TZID=America/New_York:20250710T180000
DTEND;TZID=America/New_York:20250710T184500
DTSTAMP:20260425T212645
CREATED:20250705T032224Z
LAST-MODIFIED:20250705T032225Z
UID:10755-1752170400-1752173100@www.hrslawrence.org
SUMMARY:Confessions - Confesiones
DESCRIPTION:Iglesia de abajo
URL:https://www.hrslawrence.org/event/confessions-confesiones-25/
END:VEVENT
BEGIN:VEVENT
DTSTART;TZID=America/New_York:20250710T200000
DTEND;TZID=America/New_York:20250710T200000
DTSTAMP:20260425T212645
CREATED:20250705T032218Z
LAST-MODIFIED:20250705T032218Z
UID:10757-1752177600-1752177600@www.hrslawrence.org
SUMMARY:Reunión del Grupo CERS
DESCRIPTION:Centro del Santuario
URL:https://www.hrslawrence.org/event/reunion-del-grupo-cers-38/
END:VEVENT
BEGIN:VEVENT
DTSTART;TZID=America/New_York:20250710T200000
DTEND;TZID=America/New_York:20250710T200000
DTSTAMP:20260425T212646
CREATED:20250705T032222Z
LAST-MODIFIED:20250705T032222Z
UID:10756-1752177600-1752177600@www.hrslawrence.org
SUMMARY:Charismatic Prayer Group
DESCRIPTION:Lower church
URL:https://www.hrslawrence.org/event/charismatic-prayer-group-36/
END:VEVENT
END:VCALENDAR