BEGIN:VCALENDAR
VERSION:2.0
PRODID:-//Holy Rosary Shrine - ECPv6.15.20//NONSGML v1.0//EN
CALSCALE:GREGORIAN
METHOD:PUBLISH
X-WR-CALNAME:Holy Rosary Shrine
X-ORIGINAL-URL:https://www.hrslawrence.org
X-WR-CALDESC:Events for Holy Rosary Shrine
REFRESH-INTERVAL;VALUE=DURATION:PT1H
X-Robots-Tag:noindex
X-PUBLISHED-TTL:PT1H
BEGIN:VTIMEZONE
TZID:America/New_York
BEGIN:DAYLIGHT
TZOFFSETFROM:-0500
TZOFFSETTO:-0400
TZNAME:EDT
DTSTART:20240310T070000
END:DAYLIGHT
BEGIN:STANDARD
TZOFFSETFROM:-0400
TZOFFSETTO:-0500
TZNAME:EST
DTSTART:20241103T060000
END:STANDARD
BEGIN:DAYLIGHT
TZOFFSETFROM:-0500
TZOFFSETTO:-0400
TZNAME:EDT
DTSTART:20250309T070000
END:DAYLIGHT
BEGIN:STANDARD
TZOFFSETFROM:-0400
TZOFFSETTO:-0500
TZNAME:EST
DTSTART:20251102T060000
END:STANDARD
BEGIN:DAYLIGHT
TZOFFSETFROM:-0500
TZOFFSETTO:-0400
TZNAME:EDT
DTSTART:20260308T070000
END:DAYLIGHT
BEGIN:STANDARD
TZOFFSETFROM:-0400
TZOFFSETTO:-0500
TZNAME:EST
DTSTART:20261101T060000
END:STANDARD
END:VTIMEZONE
BEGIN:VEVENT
DTSTART;TZID=America/New_York:20250724T100000
DTEND;TZID=America/New_York:20250724T100000
DTSTAMP:20260425T213021
CREATED:20250717T022052Z
LAST-MODIFIED:20250717T022052Z
UID:10824-1753351200-1753351200@www.hrslawrence.org
SUMMARY:Legión de María
DESCRIPTION:Iglesia de abajo
URL:https://www.hrslawrence.org/event/legion-de-maria-48/
END:VEVENT
BEGIN:VEVENT
DTSTART;TZID=America/New_York:20250724T180000
DTEND;TZID=America/New_York:20250724T184500
DTSTAMP:20260425T213021
CREATED:20250717T022048Z
LAST-MODIFIED:20250717T022048Z
UID:10825-1753380000-1753382700@www.hrslawrence.org
SUMMARY:Confessions  - Confesiones
DESCRIPTION:Iglesia de abajo
URL:https://www.hrslawrence.org/event/confessions-confesiones-32/
END:VEVENT
BEGIN:VEVENT
DTSTART;TZID=America/New_York:20250724T200000
DTEND;TZID=America/New_York:20250724T200000
DTSTAMP:20260425T213021
CREATED:20250717T022042Z
LAST-MODIFIED:20250717T022042Z
UID:10827-1753387200-1753387200@www.hrslawrence.org
SUMMARY:Reunión del Grupo CERS
DESCRIPTION:Centro del Santuario
URL:https://www.hrslawrence.org/event/reunion-del-grupo-cers-40/
END:VEVENT
BEGIN:VEVENT
DTSTART;TZID=America/New_York:20250724T200000
DTEND;TZID=America/New_York:20250724T200000
DTSTAMP:20260425T213021
CREATED:20250717T022045Z
LAST-MODIFIED:20250717T022045Z
UID:10826-1753387200-1753387200@www.hrslawrence.org
SUMMARY:Charismatic Prayer Group
DESCRIPTION:Lower church
URL:https://www.hrslawrence.org/event/charismatic-prayer-group-38/
END:VEVENT
END:VCALENDAR