BEGIN:VCALENDAR
VERSION:2.0
PRODID:-//Holy Rosary Shrine - ECPv6.15.20//NONSGML v1.0//EN
CALSCALE:GREGORIAN
METHOD:PUBLISH
X-WR-CALNAME:Holy Rosary Shrine
X-ORIGINAL-URL:https://www.hrslawrence.org
X-WR-CALDESC:Events for Holy Rosary Shrine
REFRESH-INTERVAL;VALUE=DURATION:PT1H
X-Robots-Tag:noindex
X-PUBLISHED-TTL:PT1H
BEGIN:VTIMEZONE
TZID:America/New_York
BEGIN:DAYLIGHT
TZOFFSETFROM:-0500
TZOFFSETTO:-0400
TZNAME:EDT
DTSTART:20240310T070000
END:DAYLIGHT
BEGIN:STANDARD
TZOFFSETFROM:-0400
TZOFFSETTO:-0500
TZNAME:EST
DTSTART:20241103T060000
END:STANDARD
BEGIN:DAYLIGHT
TZOFFSETFROM:-0500
TZOFFSETTO:-0400
TZNAME:EDT
DTSTART:20250309T070000
END:DAYLIGHT
BEGIN:STANDARD
TZOFFSETFROM:-0400
TZOFFSETTO:-0500
TZNAME:EST
DTSTART:20251102T060000
END:STANDARD
BEGIN:DAYLIGHT
TZOFFSETFROM:-0500
TZOFFSETTO:-0400
TZNAME:EDT
DTSTART:20260308T070000
END:DAYLIGHT
BEGIN:STANDARD
TZOFFSETFROM:-0400
TZOFFSETTO:-0500
TZNAME:EST
DTSTART:20261101T060000
END:STANDARD
END:VTIMEZONE
BEGIN:VEVENT
DTSTART;TZID=America/New_York:20250801T100000
DTEND;TZID=America/New_York:20250801T150000
DTSTAMP:20260425T174619
CREATED:20250724T014616Z
LAST-MODIFIED:20250724T014616Z
UID:10880-1754042400-1754060400@www.hrslawrence.org
SUMMARY:Adoration - Adoración
DESCRIPTION:Upper church – Iglesia de arriba
URL:https://www.hrslawrence.org/event/adoration-adoracion-12/
END:VEVENT
BEGIN:VEVENT
DTSTART;TZID=America/New_York:20250801T100000
DTEND;TZID=America/New_York:20250801T150000
DTSTAMP:20260425T174619
CREATED:20250724T014620Z
LAST-MODIFIED:20250724T014620Z
UID:10879-1754042400-1754060400@www.hrslawrence.org
SUMMARY:Confessions - Confesiones
DESCRIPTION:Upper church – Iglesia de arriba
URL:https://www.hrslawrence.org/event/confessions-confesiones-34/
END:VEVENT
BEGIN:VEVENT
DTSTART;TZID=America/New_York:20250801T170000
DTEND;TZID=America/New_York:20250801T170000
DTSTAMP:20260425T174619
CREATED:20250724T015655Z
LAST-MODIFIED:20250724T015655Z
UID:10884-1754067600-1754067600@www.hrslawrence.org
SUMMARY:Sagrado Corazón de Jesús
DESCRIPTION:Iglesia de abajo
URL:https://www.hrslawrence.org/event/sagrado-corazon-de-jesus-3/
END:VEVENT
END:VCALENDAR