BEGIN:VCALENDAR
VERSION:2.0
PRODID:-//Holy Rosary Shrine - ECPv6.15.20//NONSGML v1.0//EN
CALSCALE:GREGORIAN
METHOD:PUBLISH
X-ORIGINAL-URL:https://www.hrslawrence.org
X-WR-CALDESC:Events for Holy Rosary Shrine
REFRESH-INTERVAL;VALUE=DURATION:PT1H
X-Robots-Tag:noindex
X-PUBLISHED-TTL:PT1H
BEGIN:VTIMEZONE
TZID:America/New_York
BEGIN:DAYLIGHT
TZOFFSETFROM:-0500
TZOFFSETTO:-0400
TZNAME:EDT
DTSTART:20240310T070000
END:DAYLIGHT
BEGIN:STANDARD
TZOFFSETFROM:-0400
TZOFFSETTO:-0500
TZNAME:EST
DTSTART:20241103T060000
END:STANDARD
BEGIN:DAYLIGHT
TZOFFSETFROM:-0500
TZOFFSETTO:-0400
TZNAME:EDT
DTSTART:20250309T070000
END:DAYLIGHT
BEGIN:STANDARD
TZOFFSETFROM:-0400
TZOFFSETTO:-0500
TZNAME:EST
DTSTART:20251102T060000
END:STANDARD
BEGIN:DAYLIGHT
TZOFFSETFROM:-0500
TZOFFSETTO:-0400
TZNAME:EDT
DTSTART:20260308T070000
END:DAYLIGHT
BEGIN:STANDARD
TZOFFSETFROM:-0400
TZOFFSETTO:-0500
TZNAME:EST
DTSTART:20261101T060000
END:STANDARD
END:VTIMEZONE
BEGIN:VEVENT
DTSTART;TZID=America/New_York:20250817T103000
DTEND;TZID=America/New_York:20250817T103000
DTSTAMP:20260424T184132
CREATED:20250807T022908Z
LAST-MODIFIED:20250807T022908Z
UID:10972-1755426600-1755426600@www.hrslawrence.org
SUMMARY:Catecismo para Adultos en Español
DESCRIPTION:Centro del Santuario
URL:https://www.hrslawrence.org/event/catecismo-para-adultos-en-espanol-31/
END:VEVENT
BEGIN:VEVENT
DTSTART;TZID=America/New_York:20250817T140000
DTEND;TZID=America/New_York:20250817T140000
DTSTAMP:20260424T184132
CREATED:20250807T023221Z
LAST-MODIFIED:20250807T023221Z
UID:10974-1755439200-1755439200@www.hrslawrence.org
SUMMARY:Clases de Bautismo
DESCRIPTION:Iglesia de arriba
URL:https://www.hrslawrence.org/event/clases-de-bautismo-4/
END:VEVENT
END:VCALENDAR