BEGIN:VCALENDAR
VERSION:2.0
PRODID:-//Holy Rosary Shrine - ECPv6.15.20//NONSGML v1.0//EN
CALSCALE:GREGORIAN
METHOD:PUBLISH
X-WR-CALNAME:Holy Rosary Shrine
X-ORIGINAL-URL:https://www.hrslawrence.org
X-WR-CALDESC:Events for Holy Rosary Shrine
REFRESH-INTERVAL;VALUE=DURATION:PT1H
X-Robots-Tag:noindex
X-PUBLISHED-TTL:PT1H
BEGIN:VTIMEZONE
TZID:America/New_York
BEGIN:DAYLIGHT
TZOFFSETFROM:-0500
TZOFFSETTO:-0400
TZNAME:EDT
DTSTART:20240310T070000
END:DAYLIGHT
BEGIN:STANDARD
TZOFFSETFROM:-0400
TZOFFSETTO:-0500
TZNAME:EST
DTSTART:20241103T060000
END:STANDARD
BEGIN:DAYLIGHT
TZOFFSETFROM:-0500
TZOFFSETTO:-0400
TZNAME:EDT
DTSTART:20250309T070000
END:DAYLIGHT
BEGIN:STANDARD
TZOFFSETFROM:-0400
TZOFFSETTO:-0500
TZNAME:EST
DTSTART:20251102T060000
END:STANDARD
BEGIN:DAYLIGHT
TZOFFSETFROM:-0500
TZOFFSETTO:-0400
TZNAME:EDT
DTSTART:20260308T070000
END:DAYLIGHT
BEGIN:STANDARD
TZOFFSETFROM:-0400
TZOFFSETTO:-0500
TZNAME:EST
DTSTART:20261101T060000
END:STANDARD
END:VTIMEZONE
BEGIN:VEVENT
DTSTART;TZID=America/New_York:20250904T090000
DTEND;TZID=America/New_York:20250904T090000
DTSTAMP:20260423T201804
CREATED:20250828T031918Z
LAST-MODIFIED:20250828T031918Z
UID:11109-1756976400-1756976400@www.hrslawrence.org
SUMMARY:RCA
DESCRIPTION:Lower church
URL:https://www.hrslawrence.org/event/rca/
END:VEVENT
BEGIN:VEVENT
DTSTART;TZID=America/New_York:20250904T100000
DTEND;TZID=America/New_York:20250904T100000
DTSTAMP:20260423T201804
CREATED:20250828T031935Z
LAST-MODIFIED:20250828T031935Z
UID:11104-1756980000-1756980000@www.hrslawrence.org
SUMMARY:Legión de María
DESCRIPTION:Iglesia de abajo
URL:https://www.hrslawrence.org/event/legion-de-maria-6/
END:VEVENT
BEGIN:VEVENT
DTSTART;TZID=America/New_York:20250904T173000
DTEND;TZID=America/New_York:20250904T173000
DTSTAMP:20260423T201804
CREATED:20250828T031921Z
LAST-MODIFIED:20250828T031921Z
UID:11108-1757007000-1757007000@www.hrslawrence.org
SUMMARY:Curso Bíblico Avanzado
DESCRIPTION:Centro del Santuario
URL:https://www.hrslawrence.org/event/curso-biblico-avanzado-2/
END:VEVENT
BEGIN:VEVENT
DTSTART;TZID=America/New_York:20250904T180000
DTEND;TZID=America/New_York:20250904T184500
DTSTAMP:20260423T201804
CREATED:20250828T031933Z
LAST-MODIFIED:20250828T031933Z
UID:11105-1757008800-1757011500@www.hrslawrence.org
SUMMARY:Confessions - Confesiones
DESCRIPTION:Lower church – Iglesia de abajo
URL:https://www.hrslawrence.org/event/confessions-confesiones-51/
END:VEVENT
BEGIN:VEVENT
DTSTART;TZID=America/New_York:20250904T200000
DTEND;TZID=America/New_York:20250904T200000
DTSTAMP:20260423T201804
CREATED:20250828T031924Z
LAST-MODIFIED:20250828T031924Z
UID:11107-1757016000-1757016000@www.hrslawrence.org
SUMMARY:Reunión del Grupo CERS
DESCRIPTION:Iglesia de abajo
URL:https://www.hrslawrence.org/event/reunion-del-grupo-cers-3/
END:VEVENT
BEGIN:VEVENT
DTSTART;TZID=America/New_York:20250904T200000
DTEND;TZID=America/New_York:20250904T200000
DTSTAMP:20260423T201804
CREATED:20250828T031930Z
LAST-MODIFIED:20250828T031930Z
UID:11106-1757016000-1757016000@www.hrslawrence.org
SUMMARY:Charismatic Prayer Group
DESCRIPTION:Lower church
URL:https://www.hrslawrence.org/event/charismatic-prayer-group-42/
END:VEVENT
END:VCALENDAR