BEGIN:VCALENDAR
VERSION:2.0
PRODID:-//Holy Rosary Shrine - ECPv6.15.20//NONSGML v1.0//EN
CALSCALE:GREGORIAN
METHOD:PUBLISH
X-WR-CALNAME:Holy Rosary Shrine
X-ORIGINAL-URL:https://www.hrslawrence.org
X-WR-CALDESC:Events for Holy Rosary Shrine
REFRESH-INTERVAL;VALUE=DURATION:PT1H
X-Robots-Tag:noindex
X-PUBLISHED-TTL:PT1H
BEGIN:VTIMEZONE
TZID:America/New_York
BEGIN:DAYLIGHT
TZOFFSETFROM:-0500
TZOFFSETTO:-0400
TZNAME:EDT
DTSTART:20240310T070000
END:DAYLIGHT
BEGIN:STANDARD
TZOFFSETFROM:-0400
TZOFFSETTO:-0500
TZNAME:EST
DTSTART:20241103T060000
END:STANDARD
BEGIN:DAYLIGHT
TZOFFSETFROM:-0500
TZOFFSETTO:-0400
TZNAME:EDT
DTSTART:20250309T070000
END:DAYLIGHT
BEGIN:STANDARD
TZOFFSETFROM:-0400
TZOFFSETTO:-0500
TZNAME:EST
DTSTART:20251102T060000
END:STANDARD
BEGIN:DAYLIGHT
TZOFFSETFROM:-0500
TZOFFSETTO:-0400
TZNAME:EDT
DTSTART:20260308T070000
END:DAYLIGHT
BEGIN:STANDARD
TZOFFSETFROM:-0400
TZOFFSETTO:-0500
TZNAME:EST
DTSTART:20261101T060000
END:STANDARD
END:VTIMEZONE
BEGIN:VEVENT
DTSTART;TZID=America/New_York:20250911T100000
DTEND;TZID=America/New_York:20250911T100000
DTSTAMP:20260423T201825
CREATED:20250904T023716Z
LAST-MODIFIED:20250904T023716Z
UID:11164-1757584800-1757584800@www.hrslawrence.org
SUMMARY:Legión de María
DESCRIPTION:Iglesia de abajo
URL:https://www.hrslawrence.org/event/legion-de-maria-7/
END:VEVENT
BEGIN:VEVENT
DTSTART;TZID=America/New_York:20250911T173000
DTEND;TZID=America/New_York:20250911T173000
DTSTAMP:20260423T201825
CREATED:20250904T023709Z
LAST-MODIFIED:20250904T023709Z
UID:11165-1757611800-1757611800@www.hrslawrence.org
SUMMARY:Curso Bíblico Avanzado
DESCRIPTION:Iglesia de abajo o centro del santuario
URL:https://www.hrslawrence.org/event/curso-biblico-avanzado-3/
END:VEVENT
BEGIN:VEVENT
DTSTART;TZID=America/New_York:20250911T180000
DTEND;TZID=America/New_York:20250911T184500
DTSTAMP:20260423T201825
CREATED:20250904T023712Z
LAST-MODIFIED:20250904T023712Z
UID:11163-1757613600-1757616300@www.hrslawrence.org
SUMMARY:Confessions - Confesiones
DESCRIPTION:Lower church / Iglesia de abajo
URL:https://www.hrslawrence.org/event/confessions-confesiones-54/
END:VEVENT
BEGIN:VEVENT
DTSTART;TZID=America/New_York:20250911T200000
DTEND;TZID=America/New_York:20250911T200000
DTSTAMP:20260423T201825
CREATED:20250904T023703Z
LAST-MODIFIED:20250904T023703Z
UID:11167-1757620800-1757620800@www.hrslawrence.org
SUMMARY:Reunión del Grupo CERS
DESCRIPTION:Iglesia de abajo o centro del santuario
URL:https://www.hrslawrence.org/event/reunion-del-grupo-cers-4/
END:VEVENT
BEGIN:VEVENT
DTSTART;TZID=America/New_York:20250911T200000
DTEND;TZID=America/New_York:20250911T200000
DTSTAMP:20260423T201825
CREATED:20250904T023706Z
LAST-MODIFIED:20250904T023706Z
UID:11166-1757620800-1757620800@www.hrslawrence.org
SUMMARY:Charismatic Prayer Group
DESCRIPTION:Lower church
URL:https://www.hrslawrence.org/event/charismatic-prayer-group-43/
END:VEVENT
END:VCALENDAR