BEGIN:VCALENDAR
VERSION:2.0
PRODID:-//Holy Rosary Shrine - ECPv6.15.20//NONSGML v1.0//EN
CALSCALE:GREGORIAN
METHOD:PUBLISH
X-WR-CALNAME:Holy Rosary Shrine
X-ORIGINAL-URL:https://www.hrslawrence.org
X-WR-CALDESC:Events for Holy Rosary Shrine
REFRESH-INTERVAL;VALUE=DURATION:PT1H
X-Robots-Tag:noindex
X-PUBLISHED-TTL:PT1H
BEGIN:VTIMEZONE
TZID:America/New_York
BEGIN:DAYLIGHT
TZOFFSETFROM:-0500
TZOFFSETTO:-0400
TZNAME:EDT
DTSTART:20240310T070000
END:DAYLIGHT
BEGIN:STANDARD
TZOFFSETFROM:-0400
TZOFFSETTO:-0500
TZNAME:EST
DTSTART:20241103T060000
END:STANDARD
BEGIN:DAYLIGHT
TZOFFSETFROM:-0500
TZOFFSETTO:-0400
TZNAME:EDT
DTSTART:20250309T070000
END:DAYLIGHT
BEGIN:STANDARD
TZOFFSETFROM:-0400
TZOFFSETTO:-0500
TZNAME:EST
DTSTART:20251102T060000
END:STANDARD
BEGIN:DAYLIGHT
TZOFFSETFROM:-0500
TZOFFSETTO:-0400
TZNAME:EDT
DTSTART:20260308T070000
END:DAYLIGHT
BEGIN:STANDARD
TZOFFSETFROM:-0400
TZOFFSETTO:-0500
TZNAME:EST
DTSTART:20261101T060000
END:STANDARD
END:VTIMEZONE
BEGIN:VEVENT
DTSTART;VALUE=DATE:20250926
DTEND;VALUE=DATE:20250928
DTSTAMP:20260423T201825
CREATED:20250918T020737Z
LAST-MODIFIED:20250918T020737Z
UID:11289-1758844800-1759017599@www.hrslawrence.org
SUMMARY:Retiro Comunidad Hispana
DESCRIPTION:Centro del Santuario\nViernes a partir de las 6pm \nSábado a partir de las 8am
URL:https://www.hrslawrence.org/event/retiro-comunidad-hispana/
END:VEVENT
BEGIN:VEVENT
DTSTART;TZID=America/New_York:20250926T100000
DTEND;TZID=America/New_York:20250926T150000
DTSTAMP:20260423T201825
CREATED:20250918T020739Z
LAST-MODIFIED:20250918T020739Z
UID:11288-1758880800-1758898800@www.hrslawrence.org
SUMMARY:Adoration / Adoración
DESCRIPTION:Upper church – Iglesia de arriba
URL:https://www.hrslawrence.org/event/adoration-adoracion-19/
END:VEVENT
BEGIN:VEVENT
DTSTART;TZID=America/New_York:20250926T100000
DTEND;TZID=America/New_York:20250926T150000
DTSTAMP:20260423T201825
CREATED:20250918T020742Z
LAST-MODIFIED:20250918T020742Z
UID:11287-1758880800-1758898800@www.hrslawrence.org
SUMMARY:Confessions / Confesiones
DESCRIPTION:Upper church / Iglesia de arriba
URL:https://www.hrslawrence.org/event/confessions-confesiones-59/
END:VEVENT
END:VCALENDAR