BEGIN:VCALENDAR
VERSION:2.0
PRODID:-//Holy Rosary Shrine - ECPv6.15.20//NONSGML v1.0//EN
CALSCALE:GREGORIAN
METHOD:PUBLISH
X-WR-CALNAME:Holy Rosary Shrine
X-ORIGINAL-URL:https://www.hrslawrence.org
X-WR-CALDESC:Events for Holy Rosary Shrine
REFRESH-INTERVAL;VALUE=DURATION:PT1H
X-Robots-Tag:noindex
X-PUBLISHED-TTL:PT1H
BEGIN:VTIMEZONE
TZID:America/New_York
BEGIN:DAYLIGHT
TZOFFSETFROM:-0500
TZOFFSETTO:-0400
TZNAME:EDT
DTSTART:20240310T070000
END:DAYLIGHT
BEGIN:STANDARD
TZOFFSETFROM:-0400
TZOFFSETTO:-0500
TZNAME:EST
DTSTART:20241103T060000
END:STANDARD
BEGIN:DAYLIGHT
TZOFFSETFROM:-0500
TZOFFSETTO:-0400
TZNAME:EDT
DTSTART:20250309T070000
END:DAYLIGHT
BEGIN:STANDARD
TZOFFSETFROM:-0400
TZOFFSETTO:-0500
TZNAME:EST
DTSTART:20251102T060000
END:STANDARD
BEGIN:DAYLIGHT
TZOFFSETFROM:-0500
TZOFFSETTO:-0400
TZNAME:EDT
DTSTART:20260308T070000
END:DAYLIGHT
BEGIN:STANDARD
TZOFFSETFROM:-0400
TZOFFSETTO:-0500
TZNAME:EST
DTSTART:20261101T060000
END:STANDARD
END:VTIMEZONE
BEGIN:VEVENT
DTSTART;TZID=America/New_York:20251113T100000
DTEND;TZID=America/New_York:20251113T100000
DTSTAMP:20260423T170702
CREATED:20251106T035724Z
LAST-MODIFIED:20251106T035831Z
UID:11625-1763028000-1763028000@www.hrslawrence.org
SUMMARY:Legión de María
DESCRIPTION:Iglesia de abajo
URL:https://www.hrslawrence.org/event/legin-de-mara-5/
END:VEVENT
BEGIN:VEVENT
DTSTART;TZID=America/New_York:20251113T173000
DTEND;TZID=America/New_York:20251113T173000
DTSTAMP:20260423T170702
CREATED:20251106T035713Z
LAST-MODIFIED:20251106T035713Z
UID:11627-1763055000-1763055000@www.hrslawrence.org
SUMMARY:Curso Bíblico
DESCRIPTION:Centro del santuario
URL:https://www.hrslawrence.org/event/curso-bblico-6/
END:VEVENT
BEGIN:VEVENT
DTSTART;TZID=America/New_York:20251113T180000
DTEND;TZID=America/New_York:20251113T180000
DTSTAMP:20260423T170702
CREATED:20251107T043056Z
LAST-MODIFIED:20251107T043056Z
UID:11658-1763056800-1763056800@www.hrslawrence.org
SUMMARY:Noche de Sanación con el Padre Chelo
DESCRIPTION:Iglesia de arriba
URL:https://www.hrslawrence.org/event/noche-de-sanacin-con-el-padre-chelo-2/
END:VEVENT
BEGIN:VEVENT
DTSTART;TZID=America/New_York:20251113T180000
DTEND;TZID=America/New_York:20251113T184500
DTSTAMP:20260423T170702
CREATED:20251106T035721Z
LAST-MODIFIED:20251106T035721Z
UID:11628-1763056800-1763059500@www.hrslawrence.org
SUMMARY:Confessions/Confesiones
DESCRIPTION:Lower church/Iglesia de abajo
URL:https://www.hrslawrence.org/event/confessions-confesiones-81/
END:VEVENT
BEGIN:VEVENT
DTSTART;TZID=America/New_York:20251113T200000
DTEND;TZID=America/New_York:20251113T200000
DTSTAMP:20260423T170702
CREATED:20251106T035707Z
LAST-MODIFIED:20251106T035707Z
UID:11629-1763064000-1763064000@www.hrslawrence.org
SUMMARY:Reunión del Grupo CERS
DESCRIPTION:Centro del santuario
URL:https://www.hrslawrence.org/event/reunin-del-grupo-cers-5/
END:VEVENT
END:VCALENDAR