BEGIN:VCALENDAR
VERSION:2.0
PRODID:-//Holy Rosary Shrine - ECPv6.15.20//NONSGML v1.0//EN
CALSCALE:GREGORIAN
METHOD:PUBLISH
X-WR-CALNAME:Holy Rosary Shrine
X-ORIGINAL-URL:https://www.hrslawrence.org
X-WR-CALDESC:Events for Holy Rosary Shrine
REFRESH-INTERVAL;VALUE=DURATION:PT1H
X-Robots-Tag:noindex
X-PUBLISHED-TTL:PT1H
BEGIN:VTIMEZONE
TZID:America/New_York
BEGIN:DAYLIGHT
TZOFFSETFROM:-0500
TZOFFSETTO:-0400
TZNAME:EDT
DTSTART:20240310T070000
END:DAYLIGHT
BEGIN:STANDARD
TZOFFSETFROM:-0400
TZOFFSETTO:-0500
TZNAME:EST
DTSTART:20241103T060000
END:STANDARD
BEGIN:DAYLIGHT
TZOFFSETFROM:-0500
TZOFFSETTO:-0400
TZNAME:EDT
DTSTART:20250309T070000
END:DAYLIGHT
BEGIN:STANDARD
TZOFFSETFROM:-0400
TZOFFSETTO:-0500
TZNAME:EST
DTSTART:20251102T060000
END:STANDARD
BEGIN:DAYLIGHT
TZOFFSETFROM:-0500
TZOFFSETTO:-0400
TZNAME:EDT
DTSTART:20260308T070000
END:DAYLIGHT
BEGIN:STANDARD
TZOFFSETFROM:-0400
TZOFFSETTO:-0500
TZNAME:EST
DTSTART:20261101T060000
END:STANDARD
END:VTIMEZONE
BEGIN:VEVENT
DTSTART;VALUE=DATE:20251127
DTEND;VALUE=DATE:20251201
DTSTAMP:20260423T170653
CREATED:20251122T040901Z
LAST-MODIFIED:20251122T040901Z
UID:11760-1764201600-1764547199@www.hrslawrence.org
SUMMARY:Shrine Office Closed
DESCRIPTION:Shrine office closed through the Holyday weekend.
URL:https://www.hrslawrence.org/event/shrine-office-closed-2/
END:VEVENT
BEGIN:VEVENT
DTSTART;TZID=America/New_York:20251128T100000
DTEND;TZID=America/New_York:20251128T150000
DTSTAMP:20260423T170653
CREATED:20251122T040853Z
LAST-MODIFIED:20251122T040853Z
UID:11762-1764324000-1764342000@www.hrslawrence.org
SUMMARY:Adoration/Adoración al Santísimo
DESCRIPTION:Upper church/Iglesia de arriba
URL:https://www.hrslawrence.org/event/adoration-adoracin-al-santsimo-6/
END:VEVENT
BEGIN:VEVENT
DTSTART;TZID=America/New_York:20251128T100000
DTEND;TZID=America/New_York:20251128T150000
DTSTAMP:20260423T170653
CREATED:20251122T040856Z
LAST-MODIFIED:20251122T040856Z
UID:11761-1764324000-1764342000@www.hrslawrence.org
SUMMARY:Confessions/Confesiones
DESCRIPTION:Upper church/Iglesia de arriba
URL:https://www.hrslawrence.org/event/confessions-confesiones-86/
END:VEVENT
END:VCALENDAR