BEGIN:VCALENDAR
VERSION:2.0
PRODID:-//Holy Rosary Shrine - ECPv6.15.20//NONSGML v1.0//EN
CALSCALE:GREGORIAN
METHOD:PUBLISH
X-ORIGINAL-URL:https://www.hrslawrence.org
X-WR-CALDESC:Events for Holy Rosary Shrine
REFRESH-INTERVAL;VALUE=DURATION:PT1H
X-Robots-Tag:noindex
X-PUBLISHED-TTL:PT1H
BEGIN:VTIMEZONE
TZID:America/New_York
BEGIN:DAYLIGHT
TZOFFSETFROM:-0500
TZOFFSETTO:-0400
TZNAME:EDT
DTSTART:20240310T070000
END:DAYLIGHT
BEGIN:STANDARD
TZOFFSETFROM:-0400
TZOFFSETTO:-0500
TZNAME:EST
DTSTART:20241103T060000
END:STANDARD
BEGIN:DAYLIGHT
TZOFFSETFROM:-0500
TZOFFSETTO:-0400
TZNAME:EDT
DTSTART:20250309T070000
END:DAYLIGHT
BEGIN:STANDARD
TZOFFSETFROM:-0400
TZOFFSETTO:-0500
TZNAME:EST
DTSTART:20251102T060000
END:STANDARD
BEGIN:DAYLIGHT
TZOFFSETFROM:-0500
TZOFFSETTO:-0400
TZNAME:EDT
DTSTART:20260308T070000
END:DAYLIGHT
BEGIN:STANDARD
TZOFFSETFROM:-0400
TZOFFSETTO:-0500
TZNAME:EST
DTSTART:20261101T060000
END:STANDARD
BEGIN:DAYLIGHT
TZOFFSETFROM:-0500
TZOFFSETTO:-0400
TZNAME:EDT
DTSTART:20270314T070000
END:DAYLIGHT
BEGIN:STANDARD
TZOFFSETFROM:-0400
TZOFFSETTO:-0500
TZNAME:EST
DTSTART:20271107T060000
END:STANDARD
END:VTIMEZONE
BEGIN:VEVENT
DTSTART;VALUE=DATE:20251231
DTEND;VALUE=DATE:20260102
DTSTAMP:20260423T141754
CREATED:20251224T214147Z
LAST-MODIFIED:20251224T214147Z
UID:11991-1767139200-1767311999@www.hrslawrence.org
SUMMARY:Solemnity of Mary\, Mother of God - María\, Madre de Dios
DESCRIPTION:Holyday of Obligation / Día de Precepto \nVigil mass on Wednesday\, December 31st. 4:00pm – Upper church. \nThursday January 1st\, 2026 \n10:00am – English mass \n12:00pm – Spanish mass
URL:https://www.hrslawrence.org/event/solemnity-of-mary-mother-of-god-maria-madre-de-dios/
END:VEVENT
BEGIN:VEVENT
DTSTART;TZID=America/New_York:20251231T130000
DTEND;TZID=America/New_York:20260101T170000
DTSTAMP:20260423T141754
CREATED:20251224T214145Z
LAST-MODIFIED:20251224T214145Z
UID:11992-1767186000-1767286800@www.hrslawrence.org
SUMMARY:Office closed/Oficina cerrada
DESCRIPTION:The Holy Rosary Shrine Office will be closed on Wednesday afternoon\, December 31st and Thursday all day\, January 1st\, due to New Year 2026. \n 
URL:https://www.hrslawrence.org/event/office-closed-oficina-cerrada/
END:VEVENT
END:VCALENDAR