BEGIN:VCALENDAR
VERSION:2.0
PRODID:-//Holy Rosary Shrine - ECPv6.15.20//NONSGML v1.0//EN
CALSCALE:GREGORIAN
METHOD:PUBLISH
X-WR-CALNAME:Holy Rosary Shrine
X-ORIGINAL-URL:https://www.hrslawrence.org
X-WR-CALDESC:Events for Holy Rosary Shrine
REFRESH-INTERVAL;VALUE=DURATION:PT1H
X-Robots-Tag:noindex
X-PUBLISHED-TTL:PT1H
BEGIN:VTIMEZONE
TZID:America/New_York
BEGIN:DAYLIGHT
TZOFFSETFROM:-0500
TZOFFSETTO:-0400
TZNAME:EDT
DTSTART:20250309T070000
END:DAYLIGHT
BEGIN:STANDARD
TZOFFSETFROM:-0400
TZOFFSETTO:-0500
TZNAME:EST
DTSTART:20251102T060000
END:STANDARD
BEGIN:DAYLIGHT
TZOFFSETFROM:-0500
TZOFFSETTO:-0400
TZNAME:EDT
DTSTART:20260308T070000
END:DAYLIGHT
BEGIN:STANDARD
TZOFFSETFROM:-0400
TZOFFSETTO:-0500
TZNAME:EST
DTSTART:20261101T060000
END:STANDARD
BEGIN:DAYLIGHT
TZOFFSETFROM:-0500
TZOFFSETTO:-0400
TZNAME:EDT
DTSTART:20270314T070000
END:DAYLIGHT
BEGIN:STANDARD
TZOFFSETFROM:-0400
TZOFFSETTO:-0500
TZNAME:EST
DTSTART:20271107T060000
END:STANDARD
END:VTIMEZONE
BEGIN:VEVENT
DTSTART;TZID=America/New_York:20260103T100000
DTEND;TZID=America/New_York:20260103T154500
DTSTAMP:20260423T140751
CREATED:20251224T214156Z
LAST-MODIFIED:20251224T214156Z
UID:11988-1767434400-1767455100@www.hrslawrence.org
SUMMARY:Confessions/Confesiones
DESCRIPTION:Upper church/Iglesia de arriba
URL:https://www.hrslawrence.org/event/confessions-confesiones-97/
END:VEVENT
BEGIN:VEVENT
DTSTART;TZID=America/New_York:20260103T133000
DTEND;TZID=America/New_York:20260103T133000
DTSTAMP:20260423T140751
CREATED:20251224T214152Z
LAST-MODIFIED:20251224T214152Z
UID:11989-1767447000-1767447000@www.hrslawrence.org
SUMMARY:St. Rita´s Dues Collection
DESCRIPTION:1:30pm – Shrine center \n3:15pm – Upper church
URL:https://www.hrslawrence.org/event/st-ritas-dues-collection/
END:VEVENT
END:VCALENDAR