BEGIN:VCALENDAR
VERSION:2.0
PRODID:-//Holy Rosary Shrine - ECPv6.15.20//NONSGML v1.0//EN
CALSCALE:GREGORIAN
METHOD:PUBLISH
X-WR-CALNAME:Holy Rosary Shrine
X-ORIGINAL-URL:https://www.hrslawrence.org
X-WR-CALDESC:Events for Holy Rosary Shrine
REFRESH-INTERVAL;VALUE=DURATION:PT1H
X-Robots-Tag:noindex
X-PUBLISHED-TTL:PT1H
BEGIN:VTIMEZONE
TZID:America/New_York
BEGIN:DAYLIGHT
TZOFFSETFROM:-0500
TZOFFSETTO:-0400
TZNAME:EDT
DTSTART:20250309T070000
END:DAYLIGHT
BEGIN:STANDARD
TZOFFSETFROM:-0400
TZOFFSETTO:-0500
TZNAME:EST
DTSTART:20251102T060000
END:STANDARD
BEGIN:DAYLIGHT
TZOFFSETFROM:-0500
TZOFFSETTO:-0400
TZNAME:EDT
DTSTART:20260308T070000
END:DAYLIGHT
BEGIN:STANDARD
TZOFFSETFROM:-0400
TZOFFSETTO:-0500
TZNAME:EST
DTSTART:20261101T060000
END:STANDARD
BEGIN:DAYLIGHT
TZOFFSETFROM:-0500
TZOFFSETTO:-0400
TZNAME:EDT
DTSTART:20270314T070000
END:DAYLIGHT
BEGIN:STANDARD
TZOFFSETFROM:-0400
TZOFFSETTO:-0500
TZNAME:EST
DTSTART:20271107T060000
END:STANDARD
END:VTIMEZONE
BEGIN:VEVENT
DTSTART;TZID=America/New_York:20260119T090000
DTEND;TZID=America/New_York:20260119T160000
DTSTAMP:20260423T140752
CREATED:20260108T024510Z
LAST-MODIFIED:20260108T024556Z
UID:12105-1768813200-1768838400@www.hrslawrence.org
SUMMARY:Retreat for Youth
DESCRIPTION:On Monday\, January 19th\, from 9am to 4pm\, there will be a day retreat for the youth. Mass at 2:00pm each day. We hope to also have Rosary\, talks\, games\, and Confessions\, and other activities . Lunch will be provided\, we hope\, by our generous volunteers. Please youth under 8 years old must be accompanied by parent/guardian throughout the event. \nOur Lady of Guadalupe and St. Francis\, pray for us!
URL:https://www.hrslawrence.org/event/retreat-for-youth/
END:VEVENT
BEGIN:VEVENT
DTSTART;TZID=America/New_York:20260119T190000
DTEND;TZID=America/New_York:20260119T190000
DTSTAMP:20260423T140752
CREATED:20260115T005646Z
LAST-MODIFIED:20260115T005646Z
UID:12138-1768849200-1768849200@www.hrslawrence.org
SUMMARY:Shrine Council Meeting
DESCRIPTION:Shrine center
URL:https://www.hrslawrence.org/event/shrine-council-meeting-9/
END:VEVENT
END:VCALENDAR