BEGIN:VCALENDAR
VERSION:2.0
PRODID:-//Holy Rosary Shrine - ECPv6.15.20//NONSGML v1.0//EN
CALSCALE:GREGORIAN
METHOD:PUBLISH
X-WR-CALNAME:Holy Rosary Shrine
X-ORIGINAL-URL:https://www.hrslawrence.org
X-WR-CALDESC:Events for Holy Rosary Shrine
REFRESH-INTERVAL;VALUE=DURATION:PT1H
X-Robots-Tag:noindex
X-PUBLISHED-TTL:PT1H
BEGIN:VTIMEZONE
TZID:America/New_York
BEGIN:DAYLIGHT
TZOFFSETFROM:-0500
TZOFFSETTO:-0400
TZNAME:EDT
DTSTART:20250309T070000
END:DAYLIGHT
BEGIN:STANDARD
TZOFFSETFROM:-0400
TZOFFSETTO:-0500
TZNAME:EST
DTSTART:20251102T060000
END:STANDARD
BEGIN:DAYLIGHT
TZOFFSETFROM:-0500
TZOFFSETTO:-0400
TZNAME:EDT
DTSTART:20260308T070000
END:DAYLIGHT
BEGIN:STANDARD
TZOFFSETFROM:-0400
TZOFFSETTO:-0500
TZNAME:EST
DTSTART:20261101T060000
END:STANDARD
BEGIN:DAYLIGHT
TZOFFSETFROM:-0500
TZOFFSETTO:-0400
TZNAME:EDT
DTSTART:20270314T070000
END:DAYLIGHT
BEGIN:STANDARD
TZOFFSETFROM:-0400
TZOFFSETTO:-0500
TZNAME:EST
DTSTART:20271107T060000
END:STANDARD
END:VTIMEZONE
BEGIN:VEVENT
DTSTART;TZID=America/New_York:20260122T100000
DTEND;TZID=America/New_York:20260122T100000
DTSTAMP:20260423T140751
CREATED:20260115T005700Z
LAST-MODIFIED:20260115T005700Z
UID:12135-1769076000-1769076000@www.hrslawrence.org
SUMMARY:Legión de María
DESCRIPTION:Iglesia de arriba
URL:https://www.hrslawrence.org/event/legion-de-maria-13/
END:VEVENT
BEGIN:VEVENT
DTSTART;TZID=America/New_York:20260122T173000
DTEND;TZID=America/New_York:20260122T173000
DTSTAMP:20260423T140751
CREATED:20260115T005652Z
LAST-MODIFIED:20260115T005652Z
UID:12137-1769103000-1769103000@www.hrslawrence.org
SUMMARY:Curso Bíblico
DESCRIPTION:Centro del Santuario
URL:https://www.hrslawrence.org/event/curso-biblico-57/
END:VEVENT
BEGIN:VEVENT
DTSTART;TZID=America/New_York:20260122T180000
DTEND;TZID=America/New_York:20260122T184500
DTSTAMP:20260423T140751
CREATED:20260115T005640Z
LAST-MODIFIED:20260115T005640Z
UID:12141-1769104800-1769107500@www.hrslawrence.org
SUMMARY:Confessions/Confesiones
DESCRIPTION:Lower church/Iglesia de abajo
URL:https://www.hrslawrence.org/event/confessions-confesiones-106/
END:VEVENT
BEGIN:VEVENT
DTSTART;TZID=America/New_York:20260122T200000
DTEND;TZID=America/New_York:20260122T200000
DTSTAMP:20260423T140751
CREATED:20260115T005644Z
LAST-MODIFIED:20260115T005644Z
UID:12140-1769112000-1769112000@www.hrslawrence.org
SUMMARY:Reunión del Grupo CERS
DESCRIPTION:Centro del Santuario
URL:https://www.hrslawrence.org/event/reunion-del-grupo-cers-13/
END:VEVENT
BEGIN:VEVENT
DTSTART;TZID=America/New_York:20260122T200000
DTEND;TZID=America/New_York:20260122T200000
DTSTAMP:20260423T140751
CREATED:20260115T005649Z
LAST-MODIFIED:20260115T005649Z
UID:12139-1769112000-1769112000@www.hrslawrence.org
SUMMARY:Charismatic Prayer Group
DESCRIPTION:Lower church
URL:https://www.hrslawrence.org/event/charismatic-prayer-group-12/
END:VEVENT
END:VCALENDAR