BEGIN:VCALENDAR
VERSION:2.0
PRODID:-//Holy Rosary Shrine - ECPv6.15.20//NONSGML v1.0//EN
CALSCALE:GREGORIAN
METHOD:PUBLISH
X-ORIGINAL-URL:https://www.hrslawrence.org
X-WR-CALDESC:Events for Holy Rosary Shrine
REFRESH-INTERVAL;VALUE=DURATION:PT1H
X-Robots-Tag:noindex
X-PUBLISHED-TTL:PT1H
BEGIN:VTIMEZONE
TZID:America/New_York
BEGIN:DAYLIGHT
TZOFFSETFROM:-0500
TZOFFSETTO:-0400
TZNAME:EDT
DTSTART:20250309T070000
END:DAYLIGHT
BEGIN:STANDARD
TZOFFSETFROM:-0400
TZOFFSETTO:-0500
TZNAME:EST
DTSTART:20251102T060000
END:STANDARD
BEGIN:DAYLIGHT
TZOFFSETFROM:-0500
TZOFFSETTO:-0400
TZNAME:EDT
DTSTART:20260308T070000
END:DAYLIGHT
BEGIN:STANDARD
TZOFFSETFROM:-0400
TZOFFSETTO:-0500
TZNAME:EST
DTSTART:20261101T060000
END:STANDARD
BEGIN:DAYLIGHT
TZOFFSETFROM:-0500
TZOFFSETTO:-0400
TZNAME:EDT
DTSTART:20270314T070000
END:DAYLIGHT
BEGIN:STANDARD
TZOFFSETFROM:-0400
TZOFFSETTO:-0500
TZNAME:EST
DTSTART:20271107T060000
END:STANDARD
END:VTIMEZONE
BEGIN:VEVENT
DTSTART;TZID=America/New_York:20260205T100000
DTEND;TZID=America/New_York:20260205T100000
DTSTAMP:20260423T124113
CREATED:20260129T022717Z
LAST-MODIFIED:20260129T022717Z
UID:12257-1770285600-1770285600@www.hrslawrence.org
SUMMARY:Legión de María
DESCRIPTION:Iglesia de abajo
URL:https://www.hrslawrence.org/event/legion-de-maria-15/
END:VEVENT
BEGIN:VEVENT
DTSTART;TZID=America/New_York:20260205T173000
DTEND;TZID=America/New_York:20260205T173000
DTSTAMP:20260423T124113
CREATED:20260129T022706Z
LAST-MODIFIED:20260129T022706Z
UID:12260-1770312600-1770312600@www.hrslawrence.org
SUMMARY:Curso Bíblico
DESCRIPTION:Shrine center
URL:https://www.hrslawrence.org/event/curso-biblico-61/
END:VEVENT
BEGIN:VEVENT
DTSTART;TZID=America/New_York:20260205T180000
DTEND;TZID=America/New_York:20260205T184500
DTSTAMP:20260423T124113
CREATED:20260129T022714Z
LAST-MODIFIED:20260129T022714Z
UID:12258-1770314400-1770317100@www.hrslawrence.org
SUMMARY:Confessions/Confesiones
DESCRIPTION:Lower church/Iglesia de abajo
URL:https://www.hrslawrence.org/event/confessions-confesiones-111/
END:VEVENT
BEGIN:VEVENT
DTSTART;TZID=America/New_York:20260205T200000
DTEND;TZID=America/New_York:20260205T200000
DTSTAMP:20260423T124113
CREATED:20260129T022710Z
LAST-MODIFIED:20260129T022710Z
UID:12259-1770321600-1770321600@www.hrslawrence.org
SUMMARY:Charismatic Prayer Group
DESCRIPTION:Lower church
URL:https://www.hrslawrence.org/event/charismatic-prayer-group-14/
END:VEVENT
BEGIN:VEVENT
DTSTART;TZID=America/New_York:20260205T200000
DTEND;TZID=America/New_York:20260205T200000
DTSTAMP:20260423T124113
CREATED:20260129T023201Z
LAST-MODIFIED:20260205T031146Z
UID:12281-1770321600-1770321600@www.hrslawrence.org
SUMMARY:Reunión del Grupo CERS
DESCRIPTION:Shrine center
URL:https://www.hrslawrence.org/event/reunion-del-grupo-cers-15/
END:VEVENT
END:VCALENDAR