BEGIN:VCALENDAR
VERSION:2.0
PRODID:-//Holy Rosary Shrine - ECPv6.15.20//NONSGML v1.0//EN
CALSCALE:GREGORIAN
METHOD:PUBLISH
X-ORIGINAL-URL:https://www.hrslawrence.org
X-WR-CALDESC:Events for Holy Rosary Shrine
REFRESH-INTERVAL;VALUE=DURATION:PT1H
X-Robots-Tag:noindex
X-PUBLISHED-TTL:PT1H
BEGIN:VTIMEZONE
TZID:America/New_York
BEGIN:DAYLIGHT
TZOFFSETFROM:-0500
TZOFFSETTO:-0400
TZNAME:EDT
DTSTART:20250309T070000
END:DAYLIGHT
BEGIN:STANDARD
TZOFFSETFROM:-0400
TZOFFSETTO:-0500
TZNAME:EST
DTSTART:20251102T060000
END:STANDARD
BEGIN:DAYLIGHT
TZOFFSETFROM:-0500
TZOFFSETTO:-0400
TZNAME:EDT
DTSTART:20260308T070000
END:DAYLIGHT
BEGIN:STANDARD
TZOFFSETFROM:-0400
TZOFFSETTO:-0500
TZNAME:EST
DTSTART:20261101T060000
END:STANDARD
BEGIN:DAYLIGHT
TZOFFSETFROM:-0500
TZOFFSETTO:-0400
TZNAME:EDT
DTSTART:20270314T070000
END:DAYLIGHT
BEGIN:STANDARD
TZOFFSETFROM:-0400
TZOFFSETTO:-0500
TZNAME:EST
DTSTART:20271107T060000
END:STANDARD
END:VTIMEZONE
BEGIN:VEVENT
DTSTART;TZID=America/New_York:20260207T100000
DTEND;TZID=America/New_York:20260207T100000
DTSTAMP:20260423T124113
CREATED:20260129T022654Z
LAST-MODIFIED:20260129T022654Z
UID:12265-1770458400-1770458400@www.hrslawrence.org
SUMMARY:Baptism
DESCRIPTION:Upper church
URL:https://www.hrslawrence.org/event/baptism-4/
END:VEVENT
BEGIN:VEVENT
DTSTART;TZID=America/New_York:20260207T100000
DTEND;TZID=America/New_York:20260207T154500
DTSTAMP:20260423T124113
CREATED:20260129T022656Z
LAST-MODIFIED:20260129T022656Z
UID:12264-1770458400-1770479100@www.hrslawrence.org
SUMMARY:Confessions/Confesiones
DESCRIPTION:Upper church/Iglesia de arriba
URL:https://www.hrslawrence.org/event/confessions-confesiones-109/
END:VEVENT
BEGIN:VEVENT
DTSTART;TZID=America/New_York:20260207T143000
DTEND;TZID=America/New_York:20260207T143000
DTSTAMP:20260423T124113
CREATED:20260129T023158Z
LAST-MODIFIED:20260129T023158Z
UID:12282-1770474600-1770474600@www.hrslawrence.org
SUMMARY:St Rita Sodality Meeting
DESCRIPTION:Shrine center
URL:https://www.hrslawrence.org/event/st-rita-sodality-meeting-3/
END:VEVENT
BEGIN:VEVENT
DTSTART;TZID=America/New_York:20260207T150000
DTEND;TZID=America/New_York:20260207T150000
DTSTAMP:20260423T124113
CREATED:20260129T023155Z
LAST-MODIFIED:20260129T023155Z
UID:12283-1770476400-1770476400@www.hrslawrence.org
SUMMARY:Choir Practice
DESCRIPTION:Upper church
URL:https://www.hrslawrence.org/event/choir-practice-11/
END:VEVENT
END:VCALENDAR