BEGIN:VCALENDAR
VERSION:2.0
PRODID:-//Holy Rosary Shrine - ECPv6.15.20//NONSGML v1.0//EN
CALSCALE:GREGORIAN
METHOD:PUBLISH
X-ORIGINAL-URL:https://www.hrslawrence.org
X-WR-CALDESC:Events for Holy Rosary Shrine
REFRESH-INTERVAL;VALUE=DURATION:PT1H
X-Robots-Tag:noindex
X-PUBLISHED-TTL:PT1H
BEGIN:VTIMEZONE
TZID:America/New_York
BEGIN:DAYLIGHT
TZOFFSETFROM:-0500
TZOFFSETTO:-0400
TZNAME:EDT
DTSTART:20250309T070000
END:DAYLIGHT
BEGIN:STANDARD
TZOFFSETFROM:-0400
TZOFFSETTO:-0500
TZNAME:EST
DTSTART:20251102T060000
END:STANDARD
BEGIN:DAYLIGHT
TZOFFSETFROM:-0500
TZOFFSETTO:-0400
TZNAME:EDT
DTSTART:20260308T070000
END:DAYLIGHT
BEGIN:STANDARD
TZOFFSETFROM:-0400
TZOFFSETTO:-0500
TZNAME:EST
DTSTART:20261101T060000
END:STANDARD
BEGIN:DAYLIGHT
TZOFFSETFROM:-0500
TZOFFSETTO:-0400
TZNAME:EDT
DTSTART:20270314T070000
END:DAYLIGHT
BEGIN:STANDARD
TZOFFSETFROM:-0400
TZOFFSETTO:-0500
TZNAME:EST
DTSTART:20271107T060000
END:STANDARD
END:VTIMEZONE
BEGIN:VEVENT
DTSTART;VALUE=DATE:20260216
DTEND;VALUE=DATE:20260220
DTSTAMP:20260423T124112
CREATED:20260212T030520Z
LAST-MODIFIED:20260212T030520Z
UID:12370-1771200000-1771545599@www.hrslawrence.org
SUMMARY:Franciscan Youth Retreat
DESCRIPTION:During the February vacation we will be having a retreat for the Youth from Monday through Thursday\, on February 16th to the 19th\, from 9:00am to 4:00pm. Mass at 2:00pm each day. \nWe hope to also have Rosary\, talks\, games\, and Confessions\, and other activities. Lunch will be provided\, we hope\, by our generous volunteers. Please\, youth under 8 years old must be accompanied by parent/guardian throughout the event. \nOur Lady of Guadalupe and St. Francis\, pray for us! ~Fr. Joseph
URL:https://www.hrslawrence.org/event/franciscan-youth-retreat/
END:VEVENT
BEGIN:VEVENT
DTSTART;VALUE=DATE:20260218
DTEND;VALUE=DATE:20260219
DTSTAMP:20260423T124112
CREATED:20260129T023542Z
LAST-MODIFIED:20260214T042855Z
UID:12284-1771372800-1771459199@www.hrslawrence.org
SUMMARY:Ash Wednesday
DESCRIPTION:On Ash Wednesday\, February 18th\, there will be three Masses / Misas del Miércoles de Ceniza \n12:05pm English\, \n6:00pm en Español\, and \n7:30pm English. \nAshes will not be distributed outside of Mass except for the homebound. \n*Las cenizas sólo se darán durante la Santa Misa. Por favor\, no solicite recibir las cenizas fuera de la Misa a menos que sea para una persona que esta confinada en casa y no puede asistir a la Iglesia. Gracias. \nThere will be Station of the Cross in the Lower Church every Thursday during Lent in Spanish at 6:00pm and every Friday in English at 7:00pm \nHabrá Via Crucis todos los Jueves de Cuaresma en Español a las 6:00PM y cada Viernes en Inglés a las 7:00 PM
URL:https://www.hrslawrence.org/event/ash-wednesday/
END:VEVENT
BEGIN:VEVENT
DTSTART;TZID=America/New_York:20260218T090000
DTEND;TZID=America/New_York:20260218T090000
DTSTAMP:20260423T124112
CREATED:20260212T030511Z
LAST-MODIFIED:20260212T030511Z
UID:12373-1771405200-1771405200@www.hrslawrence.org
SUMMARY:Regina Caeli Academy
DESCRIPTION:Shrine center
URL:https://www.hrslawrence.org/event/regina-caeli-academy-4/
END:VEVENT
BEGIN:VEVENT
DTSTART;TZID=America/New_York:20260218T190000
DTEND;TZID=America/New_York:20260218T190000
DTSTAMP:20260423T124112
CREATED:20260212T030508Z
LAST-MODIFIED:20260212T030508Z
UID:12374-1771441200-1771441200@www.hrslawrence.org
SUMMARY:Emmaús Prayer Group - Men
DESCRIPTION:Shrine center
URL:https://www.hrslawrence.org/event/emmaus-prayer-group-men-6/
END:VEVENT
END:VCALENDAR