BEGIN:VCALENDAR
VERSION:2.0
PRODID:-//Holy Rosary Shrine - ECPv6.15.20//NONSGML v1.0//EN
CALSCALE:GREGORIAN
METHOD:PUBLISH
X-ORIGINAL-URL:https://www.hrslawrence.org
X-WR-CALDESC:Events for Holy Rosary Shrine
REFRESH-INTERVAL;VALUE=DURATION:PT1H
X-Robots-Tag:noindex
X-PUBLISHED-TTL:PT1H
BEGIN:VTIMEZONE
TZID:America/New_York
BEGIN:DAYLIGHT
TZOFFSETFROM:-0500
TZOFFSETTO:-0400
TZNAME:EDT
DTSTART:20250309T070000
END:DAYLIGHT
BEGIN:STANDARD
TZOFFSETFROM:-0400
TZOFFSETTO:-0500
TZNAME:EST
DTSTART:20251102T060000
END:STANDARD
BEGIN:DAYLIGHT
TZOFFSETFROM:-0500
TZOFFSETTO:-0400
TZNAME:EDT
DTSTART:20260308T070000
END:DAYLIGHT
BEGIN:STANDARD
TZOFFSETFROM:-0400
TZOFFSETTO:-0500
TZNAME:EST
DTSTART:20261101T060000
END:STANDARD
BEGIN:DAYLIGHT
TZOFFSETFROM:-0500
TZOFFSETTO:-0400
TZNAME:EDT
DTSTART:20270314T070000
END:DAYLIGHT
BEGIN:STANDARD
TZOFFSETFROM:-0400
TZOFFSETTO:-0500
TZNAME:EST
DTSTART:20271107T060000
END:STANDARD
END:VTIMEZONE
BEGIN:VEVENT
DTSTART;TZID=America/New_York:20260221T090000
DTEND;TZID=America/New_York:20260221T090000
DTSTAMP:20260423T124114
CREATED:20260212T031009Z
LAST-MODIFIED:20260212T031009Z
UID:12400-1771664400-1771664400@www.hrslawrence.org
SUMMARY:Retiro del Grupo CERS
DESCRIPTION:Iglesia de abajo
URL:https://www.hrslawrence.org/event/retiro-del-grupo-cers/
END:VEVENT
BEGIN:VEVENT
DTSTART;TZID=America/New_York:20260221T100000
DTEND;TZID=America/New_York:20260221T154500
DTSTAMP:20260423T124114
CREATED:20260212T030444Z
LAST-MODIFIED:20260212T030444Z
UID:12383-1771668000-1771688700@www.hrslawrence.org
SUMMARY:Confessions - Confesiones
DESCRIPTION:Upper church / Iglesia de arriba
URL:https://www.hrslawrence.org/event/confessions-confesiones-115/
END:VEVENT
BEGIN:VEVENT
DTSTART;TZID=America/New_York:20260221T103000
DTEND;TZID=America/New_York:20260221T103000
DTSTAMP:20260423T124114
CREATED:20260212T031003Z
LAST-MODIFIED:20260212T031003Z
UID:12402-1771669800-1771669800@www.hrslawrence.org
SUMMARY:Helping Hands
DESCRIPTION:Shrine center
URL:https://www.hrslawrence.org/event/helping-hands-4/
END:VEVENT
BEGIN:VEVENT
DTSTART;TZID=America/New_York:20260221T140000
DTEND;TZID=America/New_York:20260221T140000
DTSTAMP:20260423T124114
CREATED:20260212T030958Z
LAST-MODIFIED:20260212T030958Z
UID:12403-1771682400-1771682400@www.hrslawrence.org
SUMMARY:Clases de Bautismo
DESCRIPTION:Iglesia de arriba
URL:https://www.hrslawrence.org/event/clases-de-bautismo-9/
END:VEVENT
BEGIN:VEVENT
DTSTART;TZID=America/New_York:20260221T150000
DTEND;TZID=America/New_York:20260221T150000
DTSTAMP:20260423T124114
CREATED:20260212T031006Z
LAST-MODIFIED:20260212T031006Z
UID:12401-1771686000-1771686000@www.hrslawrence.org
SUMMARY:Choir Practice
DESCRIPTION:Upper church
URL:https://www.hrslawrence.org/event/choir-practice-13/
END:VEVENT
END:VCALENDAR