BEGIN:VCALENDAR
VERSION:2.0
PRODID:-//Holy Rosary Shrine - ECPv6.15.20//NONSGML v1.0//EN
CALSCALE:GREGORIAN
METHOD:PUBLISH
X-ORIGINAL-URL:https://www.hrslawrence.org
X-WR-CALDESC:Events for Holy Rosary Shrine
REFRESH-INTERVAL;VALUE=DURATION:PT1H
X-Robots-Tag:noindex
X-PUBLISHED-TTL:PT1H
BEGIN:VTIMEZONE
TZID:America/New_York
BEGIN:DAYLIGHT
TZOFFSETFROM:-0500
TZOFFSETTO:-0400
TZNAME:EDT
DTSTART:20250309T070000
END:DAYLIGHT
BEGIN:STANDARD
TZOFFSETFROM:-0400
TZOFFSETTO:-0500
TZNAME:EST
DTSTART:20251102T060000
END:STANDARD
BEGIN:DAYLIGHT
TZOFFSETFROM:-0500
TZOFFSETTO:-0400
TZNAME:EDT
DTSTART:20260308T070000
END:DAYLIGHT
BEGIN:STANDARD
TZOFFSETFROM:-0400
TZOFFSETTO:-0500
TZNAME:EST
DTSTART:20261101T060000
END:STANDARD
BEGIN:DAYLIGHT
TZOFFSETFROM:-0500
TZOFFSETTO:-0400
TZNAME:EDT
DTSTART:20270314T070000
END:DAYLIGHT
BEGIN:STANDARD
TZOFFSETFROM:-0400
TZOFFSETTO:-0500
TZNAME:EST
DTSTART:20271107T060000
END:STANDARD
END:VTIMEZONE
BEGIN:VEVENT
DTSTART;TZID=America/New_York:20260226T100000
DTEND;TZID=America/New_York:20260226T100000
DTSTAMP:20260423T124158
CREATED:20260219T030602Z
LAST-MODIFIED:20260219T030602Z
UID:12436-1772100000-1772100000@www.hrslawrence.org
SUMMARY:Legión de María
DESCRIPTION:Iglesia de abajo
URL:https://www.hrslawrence.org/event/legion-de-maria-18/
END:VEVENT
BEGIN:VEVENT
DTSTART;TZID=America/New_York:20260226T173000
DTEND;TZID=America/New_York:20260226T173000
DTSTAMP:20260423T124158
CREATED:20260219T030556Z
LAST-MODIFIED:20260219T030556Z
UID:12438-1772127000-1772127000@www.hrslawrence.org
SUMMARY:Curso Bíblico
DESCRIPTION:Centro del santuario
URL:https://www.hrslawrence.org/event/curso-biblico-67/
END:VEVENT
BEGIN:VEVENT
DTSTART;TZID=America/New_York:20260226T180000
DTEND;TZID=America/New_York:20260226T180000
DTSTAMP:20260423T124158
CREATED:20260219T030554Z
LAST-MODIFIED:20260219T030554Z
UID:12439-1772128800-1772128800@www.hrslawrence.org
SUMMARY:Via Crucis
DESCRIPTION:Iglesia de abajo \nSagrado Corazón de Jesús \n 
URL:https://www.hrslawrence.org/event/via-crucis-6/
END:VEVENT
BEGIN:VEVENT
DTSTART;TZID=America/New_York:20260226T180000
DTEND;TZID=America/New_York:20260226T184500
DTSTAMP:20260423T124158
CREATED:20260219T030559Z
LAST-MODIFIED:20260219T030559Z
UID:12437-1772128800-1772131500@www.hrslawrence.org
SUMMARY:Confessions / Confesiones
DESCRIPTION:Lower church / Iglesia de abajo
URL:https://www.hrslawrence.org/event/confessions-confesiones-119/
END:VEVENT
BEGIN:VEVENT
DTSTART;TZID=America/New_York:20260226T200000
DTEND;TZID=America/New_York:20260226T200000
DTSTAMP:20260423T124158
CREATED:20260219T030549Z
LAST-MODIFIED:20260219T030549Z
UID:12441-1772136000-1772136000@www.hrslawrence.org
SUMMARY:Charismatic Prayer Group
DESCRIPTION:Lower church
URL:https://www.hrslawrence.org/event/charismatic-prayer-group-16/
END:VEVENT
BEGIN:VEVENT
DTSTART;TZID=America/New_York:20260226T200000
DTEND;TZID=America/New_York:20260226T200000
DTSTAMP:20260423T124158
CREATED:20260219T030551Z
LAST-MODIFIED:20260219T030551Z
UID:12440-1772136000-1772136000@www.hrslawrence.org
SUMMARY:Reunión del Grupo CERS
DESCRIPTION:Centro del santuario
URL:https://www.hrslawrence.org/event/reunion-del-grupo-cers-18/
END:VEVENT
END:VCALENDAR