BEGIN:VCALENDAR
VERSION:2.0
PRODID:-//Holy Rosary Shrine - ECPv6.15.20//NONSGML v1.0//EN
CALSCALE:GREGORIAN
METHOD:PUBLISH
X-ORIGINAL-URL:https://www.hrslawrence.org
X-WR-CALDESC:Events for Holy Rosary Shrine
REFRESH-INTERVAL;VALUE=DURATION:PT1H
X-Robots-Tag:noindex
X-PUBLISHED-TTL:PT1H
BEGIN:VTIMEZONE
TZID:America/New_York
BEGIN:DAYLIGHT
TZOFFSETFROM:-0500
TZOFFSETTO:-0400
TZNAME:EDT
DTSTART:20250309T070000
END:DAYLIGHT
BEGIN:STANDARD
TZOFFSETFROM:-0400
TZOFFSETTO:-0500
TZNAME:EST
DTSTART:20251102T060000
END:STANDARD
BEGIN:DAYLIGHT
TZOFFSETFROM:-0500
TZOFFSETTO:-0400
TZNAME:EDT
DTSTART:20260308T070000
END:DAYLIGHT
BEGIN:STANDARD
TZOFFSETFROM:-0400
TZOFFSETTO:-0500
TZNAME:EST
DTSTART:20261101T060000
END:STANDARD
BEGIN:DAYLIGHT
TZOFFSETFROM:-0500
TZOFFSETTO:-0400
TZNAME:EDT
DTSTART:20270314T070000
END:DAYLIGHT
BEGIN:STANDARD
TZOFFSETFROM:-0400
TZOFFSETTO:-0500
TZNAME:EST
DTSTART:20271107T060000
END:STANDARD
END:VTIMEZONE
BEGIN:VEVENT
DTSTART;TZID=America/New_York:20260319T100000
DTEND;TZID=America/New_York:20260319T100000
DTSTAMP:20260423T110335
CREATED:20260312T012802Z
LAST-MODIFIED:20260312T012802Z
UID:12607-1773914400-1773914400@www.hrslawrence.org
SUMMARY:Legión de María
DESCRIPTION:Iglesia de abajo
URL:https://www.hrslawrence.org/event/legion-de-maria-21/
END:VEVENT
BEGIN:VEVENT
DTSTART;TZID=America/New_York:20260319T173000
DTEND;TZID=America/New_York:20260319T173000
DTSTAMP:20260423T110335
CREATED:20260312T012759Z
LAST-MODIFIED:20260312T012759Z
UID:12609-1773941400-1773941400@www.hrslawrence.org
SUMMARY:Curso Bíblico
DESCRIPTION:Centro del santuario
URL:https://www.hrslawrence.org/event/curso-biblico-5/
END:VEVENT
BEGIN:VEVENT
DTSTART;TZID=America/New_York:20260319T180000
DTEND;TZID=America/New_York:20260319T180000
DTSTAMP:20260423T110335
CREATED:20260312T012753Z
LAST-MODIFIED:20260312T012753Z
UID:12611-1773943200-1773943200@www.hrslawrence.org
SUMMARY:Via Crucis
DESCRIPTION:Iglesia de abajo
URL:https://www.hrslawrence.org/event/via-crucis/
END:VEVENT
BEGIN:VEVENT
DTSTART;TZID=America/New_York:20260319T180000
DTEND;TZID=America/New_York:20260319T184500
DTSTAMP:20260423T110335
CREATED:20260312T012756Z
LAST-MODIFIED:20260312T012756Z
UID:12610-1773943200-1773945900@www.hrslawrence.org
SUMMARY:Confessions / Confesiones
DESCRIPTION:Lower church / Iglesia de abajo
URL:https://www.hrslawrence.org/event/confessions-confesiones-129/
END:VEVENT
BEGIN:VEVENT
DTSTART;TZID=America/New_York:20260319T190000
DTEND;TZID=America/New_York:20260319T190000
DTSTAMP:20260423T110335
CREATED:20260227T032034Z
LAST-MODIFIED:20260227T032034Z
UID:12535-1773946800-1773946800@www.hrslawrence.org
SUMMARY:Solemnity of St Joseph
DESCRIPTION:Saint Joseph with Infant Jesus\, By Guido Reni – Web Gallery of Art:   Image  Info about artwork\, Public Domain\, Link \nOn Thursday\, March 19th\, we celebrate the Solemnity of St. Joseph\, earthly father of Jesus Christ and husband of the Blessed Virgin Mary. There will be a 7:00pm Bi-lingual Mass celebrated to honor this great saint in the upper church. Light refreshments will be served after the Mass in the Shrine Center. All are welcome to attend.
URL:https://www.hrslawrence.org/event/solemnity-of-st-joseph/
END:VEVENT
BEGIN:VEVENT
DTSTART;TZID=America/New_York:20260319T200000
DTEND;TZID=America/New_York:20260319T200000
DTSTAMP:20260423T110335
CREATED:20260312T012747Z
LAST-MODIFIED:20260312T012747Z
UID:12613-1773950400-1773950400@www.hrslawrence.org
SUMMARY:Charismatic Prayer Group
DESCRIPTION:Lower church
URL:https://www.hrslawrence.org/event/charismatic-prayer-group-19/
END:VEVENT
BEGIN:VEVENT
DTSTART;TZID=America/New_York:20260319T200000
DTEND;TZID=America/New_York:20260319T200000
DTSTAMP:20260423T110335
CREATED:20260312T012750Z
LAST-MODIFIED:20260312T012750Z
UID:12612-1773950400-1773950400@www.hrslawrence.org
SUMMARY:Reunión del Grupo CERS
DESCRIPTION:Centro del santuario
URL:https://www.hrslawrence.org/event/reunion-del-grupo-cers-21/
END:VEVENT
END:VCALENDAR