BEGIN:VCALENDAR
VERSION:2.0
PRODID:-//Holy Rosary Shrine - ECPv6.15.20//NONSGML v1.0//EN
CALSCALE:GREGORIAN
METHOD:PUBLISH
X-WR-CALNAME:Holy Rosary Shrine
X-ORIGINAL-URL:https://www.hrslawrence.org
X-WR-CALDESC:Events for Holy Rosary Shrine
REFRESH-INTERVAL;VALUE=DURATION:PT1H
X-Robots-Tag:noindex
X-PUBLISHED-TTL:PT1H
BEGIN:VTIMEZONE
TZID:America/New_York
BEGIN:DAYLIGHT
TZOFFSETFROM:-0500
TZOFFSETTO:-0400
TZNAME:EDT
DTSTART:20250309T070000
END:DAYLIGHT
BEGIN:STANDARD
TZOFFSETFROM:-0400
TZOFFSETTO:-0500
TZNAME:EST
DTSTART:20251102T060000
END:STANDARD
BEGIN:DAYLIGHT
TZOFFSETFROM:-0500
TZOFFSETTO:-0400
TZNAME:EDT
DTSTART:20260308T070000
END:DAYLIGHT
BEGIN:STANDARD
TZOFFSETFROM:-0400
TZOFFSETTO:-0500
TZNAME:EST
DTSTART:20261101T060000
END:STANDARD
BEGIN:DAYLIGHT
TZOFFSETFROM:-0500
TZOFFSETTO:-0400
TZNAME:EDT
DTSTART:20270314T070000
END:DAYLIGHT
BEGIN:STANDARD
TZOFFSETFROM:-0400
TZOFFSETTO:-0500
TZNAME:EST
DTSTART:20271107T060000
END:STANDARD
END:VTIMEZONE
BEGIN:VEVENT
DTSTART;TZID=America/New_York:20260320T100000
DTEND;TZID=America/New_York:20260320T150000
DTSTAMP:20260423T103901
CREATED:20260312T012743Z
LAST-MODIFIED:20260312T012743Z
UID:12615-1774000800-1774018800@www.hrslawrence.org
SUMMARY:Adoration / Adoración al Santísimo
DESCRIPTION:Upper church / Iglesia de arriba
URL:https://www.hrslawrence.org/event/adoration-adoracion-al-santisimo-19/
END:VEVENT
BEGIN:VEVENT
DTSTART;TZID=America/New_York:20260320T100000
DTEND;TZID=America/New_York:20260320T150000
DTSTAMP:20260423T103901
CREATED:20260312T012745Z
LAST-MODIFIED:20260312T012745Z
UID:12614-1774000800-1774018800@www.hrslawrence.org
SUMMARY:Confessions / Confesiones
DESCRIPTION:Upper church / Iglesia de arriba
URL:https://www.hrslawrence.org/event/confessions-confesiones-128/
END:VEVENT
BEGIN:VEVENT
DTSTART;TZID=America/New_York:20260320T190000
DTEND;TZID=America/New_York:20260320T190000
DTSTAMP:20260423T103901
CREATED:20260312T012741Z
LAST-MODIFIED:20260312T012741Z
UID:12616-1774033200-1774033200@www.hrslawrence.org
SUMMARY:Stations of the Cross
DESCRIPTION:Lower church – Choir Group
URL:https://www.hrslawrence.org/event/stations-of-the-cross/
END:VEVENT
END:VCALENDAR