BEGIN:VCALENDAR
VERSION:2.0
PRODID:-//Holy Rosary Shrine - ECPv6.15.20//NONSGML v1.0//EN
CALSCALE:GREGORIAN
METHOD:PUBLISH
X-ORIGINAL-URL:https://www.hrslawrence.org
X-WR-CALDESC:Events for Holy Rosary Shrine
REFRESH-INTERVAL;VALUE=DURATION:PT1H
X-Robots-Tag:noindex
X-PUBLISHED-TTL:PT1H
BEGIN:VTIMEZONE
TZID:America/New_York
BEGIN:DAYLIGHT
TZOFFSETFROM:-0500
TZOFFSETTO:-0400
TZNAME:EDT
DTSTART:20250309T070000
END:DAYLIGHT
BEGIN:STANDARD
TZOFFSETFROM:-0400
TZOFFSETTO:-0500
TZNAME:EST
DTSTART:20251102T060000
END:STANDARD
BEGIN:DAYLIGHT
TZOFFSETFROM:-0500
TZOFFSETTO:-0400
TZNAME:EDT
DTSTART:20260308T070000
END:DAYLIGHT
BEGIN:STANDARD
TZOFFSETFROM:-0400
TZOFFSETTO:-0500
TZNAME:EST
DTSTART:20261101T060000
END:STANDARD
BEGIN:DAYLIGHT
TZOFFSETFROM:-0500
TZOFFSETTO:-0400
TZNAME:EDT
DTSTART:20270314T070000
END:DAYLIGHT
BEGIN:STANDARD
TZOFFSETFROM:-0400
TZOFFSETTO:-0500
TZNAME:EST
DTSTART:20271107T060000
END:STANDARD
END:VTIMEZONE
BEGIN:VEVENT
DTSTART;VALUE=DATE:20260329
DTEND;VALUE=DATE:20260406
DTSTAMP:20260423T091332
CREATED:20260319T014933Z
LAST-MODIFIED:20260328T031432Z
UID:12689-1774742400-1775433599@www.hrslawrence.org
SUMMARY:Holy Week Schedule
DESCRIPTION:Holy Week Schedule\n \n\nVigil Saturday and Palm Sunday – Masses as Usual\nMonday – Mass as Usual 12:05pm\nTuesday – ***SPECIAL MASS TIME 8:00AM*** (Due to Chrism Mass)\nWednesday\nMass as Usual 12:05pm\nTenebrae Service 7:00pm Upper Church\nHoly Thursday\n7:00pm Mass of the Lord’s Supper – Bilingual (No confessions or Stations of the Cross)\n8:00pm Silent Adoration – 9:45pm Night Prayer\nGood Friday\nNo Confessions\, Adoration\, Mass or Stations of the Cross\n3:00pm Passion Services (English) and 6:00pm (Spanish)\nHoly Saturday\n8:00pm Easter Vigil Mass (All nine readings\, several languages)\nConfessions available 10:00am to 4:00pm (No 4:00pm Mass)\nEaster Sunday – Mass Times as Usual
URL:https://www.hrslawrence.org/event/holy-week-schedule/
CATEGORIES:Holy Week 2026
END:VEVENT
BEGIN:VEVENT
DTSTART;VALUE=DATE:20260404
DTEND;VALUE=DATE:20260405
DTSTAMP:20260423T091332
CREATED:20260326T021846Z
LAST-MODIFIED:20260328T031423Z
UID:12729-1775260800-1775347199@www.hrslawrence.org
SUMMARY:Holy Saturday - Sábado Santo
DESCRIPTION:Holy Week Schedule\n \n\nHoly Saturday / Sábado Santo\n8:00pm Easter Vigil Mass (All nine readings\, several languages)\n8:00pm Misa de Vigilia de Pascua (Nueve lecturas en varios idiomas incluyendo Español)\nConfessions available 10:00am to 4:00pm (No 4:00pm Mass)
URL:https://www.hrslawrence.org/event/holy-saturday-sabado-santo/
CATEGORIES:Holy Week 2026
END:VEVENT
BEGIN:VEVENT
DTSTART;TZID=America/New_York:20260404T100000
DTEND;TZID=America/New_York:20260404T160000
DTSTAMP:20260423T091332
CREATED:20260326T021856Z
LAST-MODIFIED:20260328T031417Z
UID:12727-1775296800-1775318400@www.hrslawrence.org
SUMMARY:Confessions / Confesiones
DESCRIPTION:Upper church / Iglesia de arriba
URL:https://www.hrslawrence.org/event/confessions-confesiones-133/
CATEGORIES:Holy Week 2026
END:VEVENT
BEGIN:VEVENT
DTSTART;TZID=America/New_York:20260404T160000
DTEND;TZID=America/New_York:20260404T160000
DTSTAMP:20260423T091332
CREATED:20260326T021852Z
LAST-MODIFIED:20260326T021852Z
UID:12728-1775318400-1775318400@www.hrslawrence.org
SUMMARY:Blessing of Easter Food / Bendición de la Comida de Pascua
DESCRIPTION:Upper church / Iglesia de arriba
URL:https://www.hrslawrence.org/event/blessing-of-easter-food-bendicion-de-la-comida-de-pascua/
END:VEVENT
END:VCALENDAR