BEGIN:VCALENDAR
VERSION:2.0
PRODID:-//Holy Rosary Shrine - ECPv6.15.20//NONSGML v1.0//EN
CALSCALE:GREGORIAN
METHOD:PUBLISH
X-WR-CALNAME:Holy Rosary Shrine
X-ORIGINAL-URL:https://www.hrslawrence.org
X-WR-CALDESC:Events for Holy Rosary Shrine
REFRESH-INTERVAL;VALUE=DURATION:PT1H
X-Robots-Tag:noindex
X-PUBLISHED-TTL:PT1H
BEGIN:VTIMEZONE
TZID:America/New_York
BEGIN:DAYLIGHT
TZOFFSETFROM:-0500
TZOFFSETTO:-0400
TZNAME:EDT
DTSTART:20250309T070000
END:DAYLIGHT
BEGIN:STANDARD
TZOFFSETFROM:-0400
TZOFFSETTO:-0500
TZNAME:EST
DTSTART:20251102T060000
END:STANDARD
BEGIN:DAYLIGHT
TZOFFSETFROM:-0500
TZOFFSETTO:-0400
TZNAME:EDT
DTSTART:20260308T070000
END:DAYLIGHT
BEGIN:STANDARD
TZOFFSETFROM:-0400
TZOFFSETTO:-0500
TZNAME:EST
DTSTART:20261101T060000
END:STANDARD
BEGIN:DAYLIGHT
TZOFFSETFROM:-0500
TZOFFSETTO:-0400
TZNAME:EDT
DTSTART:20270314T070000
END:DAYLIGHT
BEGIN:STANDARD
TZOFFSETFROM:-0400
TZOFFSETTO:-0500
TZNAME:EST
DTSTART:20271107T060000
END:STANDARD
END:VTIMEZONE
BEGIN:VEVENT
DTSTART;VALUE=DATE:20260420
DTEND;VALUE=DATE:20260421
DTSTAMP:20260423T091225
CREATED:20260416T025447Z
LAST-MODIFIED:20260416T025447Z
UID:12949-1776643200-1776729599@www.hrslawrence.org
SUMMARY:Office Closed - Oficina Cerrada
DESCRIPTION:Office closed for Patriots Day – Oficina del santuario estará cerrada por ser el Día de los Patriotas.
URL:https://www.hrslawrence.org/event/office-closed-oficina-cerrada-3/
END:VEVENT
BEGIN:VEVENT
DTSTART;VALUE=DATE:20260420
DTEND;VALUE=DATE:20260424
DTSTAMP:20260423T091225
CREATED:20260416T023245Z
LAST-MODIFIED:20260416T023245Z
UID:12946-1776643200-1776988799@www.hrslawrence.org
SUMMARY:Franciscan Youth Retreat
DESCRIPTION:During the April vacation we will be having a Retreat for the Youth from Monday through Thursday\, on April 20th to the 23rd\, from 9:00am to 4:00pm. Mass at 2:00pm each day. We hope to also have Rosary\, talks\, games \,and Confessions\, and other activities . Lunch will be provided \,we hope\, by our generous volunteers. \nPlease youth under 8 years old must be accompanied by parent/guardian throughout the event. Our Lady of Guadalupe and St. Francis\, pray for us! ~Fr. Joseph
URL:https://www.hrslawrence.org/event/franciscan-youth-retreat-2/
END:VEVENT
END:VCALENDAR