BEGIN:VCALENDAR
VERSION:2.0
PRODID:-//Holy Rosary Shrine - ECPv6.15.20//NONSGML v1.0//EN
CALSCALE:GREGORIAN
METHOD:PUBLISH
X-WR-CALNAME:Holy Rosary Shrine
X-ORIGINAL-URL:https://www.hrslawrence.org
X-WR-CALDESC:Events for Holy Rosary Shrine
REFRESH-INTERVAL;VALUE=DURATION:PT1H
X-Robots-Tag:noindex
X-PUBLISHED-TTL:PT1H
BEGIN:VTIMEZONE
TZID:America/New_York
BEGIN:DAYLIGHT
TZOFFSETFROM:-0500
TZOFFSETTO:-0400
TZNAME:EDT
DTSTART:20250309T070000
END:DAYLIGHT
BEGIN:STANDARD
TZOFFSETFROM:-0400
TZOFFSETTO:-0500
TZNAME:EST
DTSTART:20251102T060000
END:STANDARD
BEGIN:DAYLIGHT
TZOFFSETFROM:-0500
TZOFFSETTO:-0400
TZNAME:EDT
DTSTART:20260308T070000
END:DAYLIGHT
BEGIN:STANDARD
TZOFFSETFROM:-0400
TZOFFSETTO:-0500
TZNAME:EST
DTSTART:20261101T060000
END:STANDARD
BEGIN:DAYLIGHT
TZOFFSETFROM:-0500
TZOFFSETTO:-0400
TZNAME:EDT
DTSTART:20270314T070000
END:DAYLIGHT
BEGIN:STANDARD
TZOFFSETFROM:-0400
TZOFFSETTO:-0500
TZNAME:EST
DTSTART:20271107T060000
END:STANDARD
END:VTIMEZONE
BEGIN:VEVENT
DTSTART;VALUE=DATE:20260420
DTEND;VALUE=DATE:20260424
DTSTAMP:20260423T074824
CREATED:20260416T023245Z
LAST-MODIFIED:20260416T023245Z
UID:12946-1776643200-1776988799@www.hrslawrence.org
SUMMARY:Franciscan Youth Retreat
DESCRIPTION:During the April vacation we will be having a Retreat for the Youth from Monday through Thursday\, on April 20th to the 23rd\, from 9:00am to 4:00pm. Mass at 2:00pm each day. We hope to also have Rosary\, talks\, games \,and Confessions\, and other activities . Lunch will be provided \,we hope\, by our generous volunteers. \nPlease youth under 8 years old must be accompanied by parent/guardian throughout the event. Our Lady of Guadalupe and St. Francis\, pray for us! ~Fr. Joseph
URL:https://www.hrslawrence.org/event/franciscan-youth-retreat-2/
END:VEVENT
BEGIN:VEVENT
DTSTART;TZID=America/New_York:20260423T100000
DTEND;TZID=America/New_York:20260423T100000
DTSTAMP:20260423T074824
CREATED:20260415T022114Z
LAST-MODIFIED:20260415T022114Z
UID:12910-1776938400-1776938400@www.hrslawrence.org
SUMMARY:Legión de María
DESCRIPTION:Iglesia de abajo
URL:https://www.hrslawrence.org/event/legion-de-maria-25/
END:VEVENT
BEGIN:VEVENT
DTSTART;TZID=America/New_York:20260423T173000
DTEND;TZID=America/New_York:20260423T173000
DTSTAMP:20260423T074824
CREATED:20260415T022111Z
LAST-MODIFIED:20260415T022111Z
UID:12911-1776965400-1776965400@www.hrslawrence.org
SUMMARY:Curso Bíblico
DESCRIPTION:Centro del santuario
URL:https://www.hrslawrence.org/event/curso-biblico-74/
END:VEVENT
BEGIN:VEVENT
DTSTART;TZID=America/New_York:20260423T180000
DTEND;TZID=America/New_York:20260423T184500
DTSTAMP:20260423T074824
CREATED:20260415T022108Z
LAST-MODIFIED:20260415T022108Z
UID:12912-1776967200-1776969900@www.hrslawrence.org
SUMMARY:Confessions - Confesiones
DESCRIPTION:Lower church – Iglesia de abajo
URL:https://www.hrslawrence.org/event/confessions-confesiones-142/
END:VEVENT
BEGIN:VEVENT
DTSTART;TZID=America/New_York:20260423T200000
DTEND;TZID=America/New_York:20260423T200000
DTSTAMP:20260423T074824
CREATED:20260415T022100Z
LAST-MODIFIED:20260415T022100Z
UID:12915-1776974400-1776974400@www.hrslawrence.org
SUMMARY:Charismatic Prayer Group
DESCRIPTION:Lower church
URL:https://www.hrslawrence.org/event/charismatic-prayer-group-23/
END:VEVENT
BEGIN:VEVENT
DTSTART;TZID=America/New_York:20260423T200000
DTEND;TZID=America/New_York:20260423T200000
DTSTAMP:20260423T074824
CREATED:20260415T022103Z
LAST-MODIFIED:20260415T022103Z
UID:12913-1776974400-1776974400@www.hrslawrence.org
SUMMARY:Reunión del Grupo CERS
DESCRIPTION:Centro del santuario
URL:https://www.hrslawrence.org/event/reunion-del-grupo-cers-25/
END:VEVENT
BEGIN:VEVENT
DTSTART;TZID=America/New_York:20260424T100000
DTEND;TZID=America/New_York:20260424T150000
DTSTAMP:20260423T074824
CREATED:20260415T022054Z
LAST-MODIFIED:20260415T022054Z
UID:12917-1777024800-1777042800@www.hrslawrence.org
SUMMARY:Adoration - Adoración al Santísimo
DESCRIPTION:Upper church / Iglesia de arriba
URL:https://www.hrslawrence.org/event/adoration-adoracion-al-santisimo-23/
END:VEVENT
BEGIN:VEVENT
DTSTART;TZID=America/New_York:20260424T100000
DTEND;TZID=America/New_York:20260424T150000
DTSTAMP:20260423T074824
CREATED:20260415T022057Z
LAST-MODIFIED:20260415T022057Z
UID:12916-1777024800-1777042800@www.hrslawrence.org
SUMMARY:Confessions - Confesiones
DESCRIPTION:Upper church – Iglesia de arriba
URL:https://www.hrslawrence.org/event/confessions-confesiones-141/
END:VEVENT
BEGIN:VEVENT
DTSTART;TZID=America/New_York:20260425T100000
DTEND;TZID=America/New_York:20260425T154500
DTSTAMP:20260423T074824
CREATED:20260415T022051Z
LAST-MODIFIED:20260415T022051Z
UID:12918-1777111200-1777131900@www.hrslawrence.org
SUMMARY:Confessions - Confesiones
DESCRIPTION:Upper church – Iglesia de arriba
URL:https://www.hrslawrence.org/event/confessions-confesiones-140/
END:VEVENT
BEGIN:VEVENT
DTSTART;TZID=America/New_York:20260425T140000
DTEND;TZID=America/New_York:20260425T140000
DTSTAMP:20260423T074824
CREATED:20260416T025435Z
LAST-MODIFIED:20260416T025435Z
UID:12952-1777125600-1777125600@www.hrslawrence.org
SUMMARY:Bautismo
DESCRIPTION:Iglesia de arriba
URL:https://www.hrslawrence.org/event/bautismo-6/
END:VEVENT
BEGIN:VEVENT
DTSTART;TZID=America/New_York:20260425T143000
DTEND;TZID=America/New_York:20260425T143000
DTSTAMP:20260423T074824
CREATED:20260416T025430Z
LAST-MODIFIED:20260416T025430Z
UID:12954-1777127400-1777127400@www.hrslawrence.org
SUMMARY:St Rita Sodality Meeting
DESCRIPTION:Lower church
URL:https://www.hrslawrence.org/event/st-rita-sodality-meeting/
END:VEVENT
BEGIN:VEVENT
DTSTART;TZID=America/New_York:20260425T150000
DTEND;TZID=America/New_York:20260425T150000
DTSTAMP:20260423T074824
CREATED:20260416T025432Z
LAST-MODIFIED:20260416T025432Z
UID:12953-1777129200-1777129200@www.hrslawrence.org
SUMMARY:Choir Practice
DESCRIPTION:Upper church
URL:https://www.hrslawrence.org/event/choir-practice-21/
END:VEVENT
BEGIN:VEVENT
DTSTART;TZID=America/New_York:20260425T180000
DTEND;TZID=America/New_York:20260425T180000
DTSTAMP:20260423T074824
CREATED:20260416T025426Z
LAST-MODIFIED:20260416T025426Z
UID:12955-1777140000-1777140000@www.hrslawrence.org
SUMMARY:St Alfio’s 10K Raffle
DESCRIPTION:Shrine center
URL:https://www.hrslawrence.org/event/st-alfios-10k-raffle-2/
END:VEVENT
BEGIN:VEVENT
DTSTART;TZID=America/New_York:20260426T110000
DTEND;TZID=America/New_York:20260426T110000
DTSTAMP:20260423T074824
CREATED:20260416T025538Z
LAST-MODIFIED:20260416T025538Z
UID:12956-1777201200-1777201200@www.hrslawrence.org
SUMMARY:Meet and Greet
DESCRIPTION:Shrine center
URL:https://www.hrslawrence.org/event/meet-and-greet-2/
END:VEVENT
BEGIN:VEVENT
DTSTART;TZID=America/New_York:20260426T150000
DTEND;TZID=America/New_York:20260426T170000
DTSTAMP:20260423T074824
CREATED:20260416T025423Z
LAST-MODIFIED:20260416T025423Z
UID:12957-1777215600-1777222800@www.hrslawrence.org
SUMMARY:Emmaus Retreat - Retiro Emaús
DESCRIPTION:3pm – Mass upper church – Misa en la iglesia de arriba.\n4pm – Reception shrine center – Recepción en la iglesia de abajo.
URL:https://www.hrslawrence.org/event/emmaus-retreat-retiro-emaus/
END:VEVENT
BEGIN:VEVENT
DTSTART;TZID=America/New_York:20260426T190000
DTEND;TZID=America/New_York:20260426T190000
DTSTAMP:20260423T074824
CREATED:20260416T025421Z
LAST-MODIFIED:20260416T025421Z
UID:12958-1777230000-1777230000@www.hrslawrence.org
SUMMARY:Marriage Preparation
DESCRIPTION:Lower church
URL:https://www.hrslawrence.org/event/marriage-preparation/
END:VEVENT
END:VCALENDAR