BEGIN:VCALENDAR
VERSION:2.0
PRODID:-//Holy Rosary Shrine - ECPv6.15.20//NONSGML v1.0//EN
CALSCALE:GREGORIAN
METHOD:PUBLISH
X-WR-CALNAME:Holy Rosary Shrine
X-ORIGINAL-URL:https://www.hrslawrence.org
X-WR-CALDESC:Events for Holy Rosary Shrine
REFRESH-INTERVAL;VALUE=DURATION:PT1H
X-Robots-Tag:noindex
X-PUBLISHED-TTL:PT1H
BEGIN:VTIMEZONE
TZID:America/New_York
BEGIN:DAYLIGHT
TZOFFSETFROM:-0500
TZOFFSETTO:-0400
TZNAME:EDT
DTSTART:20240310T070000
END:DAYLIGHT
BEGIN:STANDARD
TZOFFSETFROM:-0400
TZOFFSETTO:-0500
TZNAME:EST
DTSTART:20241103T060000
END:STANDARD
BEGIN:DAYLIGHT
TZOFFSETFROM:-0500
TZOFFSETTO:-0400
TZNAME:EDT
DTSTART:20250309T070000
END:DAYLIGHT
BEGIN:STANDARD
TZOFFSETFROM:-0400
TZOFFSETTO:-0500
TZNAME:EST
DTSTART:20251102T060000
END:STANDARD
BEGIN:DAYLIGHT
TZOFFSETFROM:-0500
TZOFFSETTO:-0400
TZNAME:EDT
DTSTART:20260308T070000
END:DAYLIGHT
BEGIN:STANDARD
TZOFFSETFROM:-0400
TZOFFSETTO:-0500
TZNAME:EST
DTSTART:20261101T060000
END:STANDARD
END:VTIMEZONE
BEGIN:VEVENT
DTSTART;TZID=America/New_York:20251129T150000
DTEND;TZID=America/New_York:20251129T150000
DTSTAMP:20260423T171050
CREATED:20251122T040848Z
LAST-MODIFIED:20251122T040848Z
UID:11764-1764428400-1764428400@www.hrslawrence.org
SUMMARY:Choir Practice
DESCRIPTION:Upper church
URL:https://www.hrslawrence.org/event/choir-practice-2/
END:VEVENT
BEGIN:VEVENT
DTSTART;TZID=America/New_York:20251129T100000
DTEND;TZID=America/New_York:20251129T154500
DTSTAMP:20260423T171050
CREATED:20251122T040851Z
LAST-MODIFIED:20251122T040851Z
UID:11763-1764410400-1764431100@www.hrslawrence.org
SUMMARY:Confessions/Confesiones
DESCRIPTION:Upper church/Iglesia de arriba
URL:https://www.hrslawrence.org/event/confessions-confesiones-85/
END:VEVENT
BEGIN:VEVENT
DTSTART;TZID=America/New_York:20251128T100000
DTEND;TZID=America/New_York:20251128T150000
DTSTAMP:20260423T171050
CREATED:20251122T040856Z
LAST-MODIFIED:20251122T040856Z
UID:11761-1764324000-1764342000@www.hrslawrence.org
SUMMARY:Confessions/Confesiones
DESCRIPTION:Upper church/Iglesia de arriba
URL:https://www.hrslawrence.org/event/confessions-confesiones-86/
END:VEVENT
BEGIN:VEVENT
DTSTART;TZID=America/New_York:20251128T100000
DTEND;TZID=America/New_York:20251128T150000
DTSTAMP:20260423T171050
CREATED:20251122T040853Z
LAST-MODIFIED:20251122T040853Z
UID:11762-1764324000-1764342000@www.hrslawrence.org
SUMMARY:Adoration/Adoración al Santísimo
DESCRIPTION:Upper church/Iglesia de arriba
URL:https://www.hrslawrence.org/event/adoration-adoracin-al-santsimo-6/
END:VEVENT
BEGIN:VEVENT
DTSTART;VALUE=DATE:20251127
DTEND;VALUE=DATE:20251201
DTSTAMP:20260423T171050
CREATED:20251122T040901Z
LAST-MODIFIED:20251122T040901Z
UID:11760-1764201600-1764547199@www.hrslawrence.org
SUMMARY:Shrine Office Closed
DESCRIPTION:Shrine office closed through the Holyday weekend.
URL:https://www.hrslawrence.org/event/shrine-office-closed-2/
END:VEVENT
BEGIN:VEVENT
DTSTART;TZID=America/New_York:20251126T190000
DTEND;TZID=America/New_York:20251126T190000
DTSTAMP:20260423T171050
CREATED:20251122T040905Z
LAST-MODIFIED:20251122T040905Z
UID:11759-1764183600-1764183600@www.hrslawrence.org
SUMMARY:Holy Hour - Hora Santa
DESCRIPTION:Lower church / Iglesia de abajo
URL:https://www.hrslawrence.org/event/holy-hour-hora-santa-18/
END:VEVENT
BEGIN:VEVENT
DTSTART;TZID=America/New_York:20251125T190000
DTEND;TZID=America/New_York:20251125T190000
DTSTAMP:20260423T171050
CREATED:20251122T040907Z
LAST-MODIFIED:20251122T040907Z
UID:11758-1764097200-1764097200@www.hrslawrence.org
SUMMARY:Curso Bíblico
DESCRIPTION:Centro del santuario
URL:https://www.hrslawrence.org/event/curso-bblico-9/
END:VEVENT
BEGIN:VEVENT
DTSTART;TZID=America/New_York:20251124T190000
DTEND;TZID=America/New_York:20251124T190000
DTSTAMP:20260423T171050
CREATED:20251122T040915Z
LAST-MODIFIED:20251122T040915Z
UID:11756-1764010800-1764010800@www.hrslawrence.org
SUMMARY:Shrine Council Meeting
DESCRIPTION:Our next Shrine Council Meeting will be Monday\, November 24th at 7:00pm in the Shrine Center.
URL:https://www.hrslawrence.org/event/shrine-council-meeting-2/
END:VEVENT
BEGIN:VEVENT
DTSTART;TZID=America/New_York:20251124T190000
DTEND;TZID=America/New_York:20251124T190000
DTSTAMP:20260423T171050
CREATED:20251122T040915Z
LAST-MODIFIED:20251122T040915Z
UID:11757-1764010800-1764010800@www.hrslawrence.org
SUMMARY:Men’s Bible Study
DESCRIPTION:Shrine center
URL:https://www.hrslawrence.org/event/mens-bible-study/
END:VEVENT
BEGIN:VEVENT
DTSTART;TZID=America/New_York:20251122T150000
DTEND;TZID=America/New_York:20251122T150000
DTSTAMP:20260423T171050
CREATED:20251113T035015Z
LAST-MODIFIED:20251113T035015Z
UID:11701-1763823600-1763823600@www.hrslawrence.org
SUMMARY:Choir Practice
DESCRIPTION:Upper church
URL:https://www.hrslawrence.org/event/choir-practice/
END:VEVENT
BEGIN:VEVENT
DTSTART;TZID=America/New_York:20251122T141500
DTEND;TZID=America/New_York:20251122T141500
DTSTAMP:20260423T171050
CREATED:20251113T035018Z
LAST-MODIFIED:20251113T035018Z
UID:11700-1763820900-1763820900@www.hrslawrence.org
SUMMARY:BVM Meeting
DESCRIPTION:Shrine center
URL:https://www.hrslawrence.org/event/bvm-meeting/
END:VEVENT
BEGIN:VEVENT
DTSTART;TZID=America/New_York:20251122T140000
DTEND;TZID=America/New_York:20251122T140000
DTSTAMP:20260423T171050
CREATED:20251113T035021Z
LAST-MODIFIED:20251113T035021Z
UID:11699-1763820000-1763820000@www.hrslawrence.org
SUMMARY:Clases de bautismo
DESCRIPTION:Iglesia de arriba
URL:https://www.hrslawrence.org/event/clases-de-bautismo-7/
END:VEVENT
BEGIN:VEVENT
DTSTART;TZID=America/New_York:20251122T100000
DTEND;TZID=America/New_York:20251122T154500
DTSTAMP:20260423T171050
CREATED:20251113T034545Z
LAST-MODIFIED:20251113T034545Z
UID:11683-1763805600-1763826300@www.hrslawrence.org
SUMMARY:Confessions/Confesiones
DESCRIPTION:Upper church/Iglesia de arriba
URL:https://www.hrslawrence.org/event/confessions-confesiones-82/
END:VEVENT
BEGIN:VEVENT
DTSTART;TZID=America/New_York:20251122T100000
DTEND;TZID=America/New_York:20251122T100000
DTSTAMP:20260423T171050
CREATED:20251113T034540Z
LAST-MODIFIED:20251113T034540Z
UID:11685-1763805600-1763805600@www.hrslawrence.org
SUMMARY:Baptism
DESCRIPTION:Upper church
URL:https://www.hrslawrence.org/event/baptism-2/
END:VEVENT
BEGIN:VEVENT
DTSTART;TZID=America/New_York:20251121T100000
DTEND;TZID=America/New_York:20251121T150000
DTSTAMP:20260423T171050
CREATED:20251113T034550Z
LAST-MODIFIED:20251113T034550Z
UID:11681-1763719200-1763737200@www.hrslawrence.org
SUMMARY:Confessions/Confesiones
DESCRIPTION:Upper church/Iglesia de arriba
URL:https://www.hrslawrence.org/event/confessions-confesiones-83/
END:VEVENT
BEGIN:VEVENT
DTSTART;TZID=America/New_York:20251121T100000
DTEND;TZID=America/New_York:20251121T150000
DTSTAMP:20260423T171050
CREATED:20251113T034549Z
LAST-MODIFIED:20251113T034549Z
UID:11682-1763719200-1763737200@www.hrslawrence.org
SUMMARY:Adoration/Adoración al Santísimo
DESCRIPTION:Upper church/Iglesia de arriba
URL:https://www.hrslawrence.org/event/adoration-adoracin-al-santsimo-5/
END:VEVENT
BEGIN:VEVENT
DTSTART;TZID=America/New_York:20251120T200000
DTEND;TZID=America/New_York:20251120T200000
DTSTAMP:20260423T171050
CREATED:20251113T034559Z
LAST-MODIFIED:20251113T034559Z
UID:11678-1763668800-1763668800@www.hrslawrence.org
SUMMARY:Charismatic Prayer Group
DESCRIPTION:Lower church
URL:https://www.hrslawrence.org/event/charismatic-prayer-group-6/
END:VEVENT
BEGIN:VEVENT
DTSTART;TZID=America/New_York:20251120T200000
DTEND;TZID=America/New_York:20251120T200000
DTSTAMP:20260423T171050
CREATED:20251113T034553Z
LAST-MODIFIED:20251113T034553Z
UID:11680-1763668800-1763668800@www.hrslawrence.org
SUMMARY:Reunión del Grupo CERS
DESCRIPTION:Centro del santuario
URL:https://www.hrslawrence.org/event/reunin-del-grupo-cers-6/
END:VEVENT
BEGIN:VEVENT
DTSTART;TZID=America/New_York:20251120T180000
DTEND;TZID=America/New_York:20251120T184500
DTSTAMP:20260423T171050
CREATED:20251113T034603Z
LAST-MODIFIED:20251113T034603Z
UID:11679-1763661600-1763664300@www.hrslawrence.org
SUMMARY:Confessions/Confesiones
DESCRIPTION:Iglesia de abajo
URL:https://www.hrslawrence.org/event/confessions-confesiones-84/
END:VEVENT
BEGIN:VEVENT
DTSTART;TZID=America/New_York:20251120T173000
DTEND;TZID=America/New_York:20251120T173000
DTSTAMP:20260423T171050
CREATED:20251113T034607Z
LAST-MODIFIED:20251113T034607Z
UID:11677-1763659800-1763659800@www.hrslawrence.org
SUMMARY:Curso Bíblico Avanzado
DESCRIPTION:Centro del santuario
URL:https://www.hrslawrence.org/event/curso-bblico-avanzado-4/
END:VEVENT
BEGIN:VEVENT
DTSTART;TZID=America/New_York:20251120T100000
DTEND;TZID=America/New_York:20251120T100000
DTSTAMP:20260423T171050
CREATED:20251113T034609Z
LAST-MODIFIED:20251113T034609Z
UID:11676-1763632800-1763632800@www.hrslawrence.org
SUMMARY:Legión de María
DESCRIPTION:Iglesia de abajo
URL:https://www.hrslawrence.org/event/legin-de-mara-6/
END:VEVENT
BEGIN:VEVENT
DTSTART;TZID=America/New_York:20251119T190000
DTEND;TZID=America/New_York:20251119T190000
DTSTAMP:20260423T171050
CREATED:20251113T034613Z
LAST-MODIFIED:20251113T034613Z
UID:11675-1763578800-1763578800@www.hrslawrence.org
SUMMARY:Holy Hour/Hora Santa
DESCRIPTION:Lower church/Iglesia de abajo
URL:https://www.hrslawrence.org/event/holy-hour-hora-santa-17/
END:VEVENT
BEGIN:VEVENT
DTSTART;TZID=America/New_York:20251118T190000
DTEND;TZID=America/New_York:20251118T190000
DTSTAMP:20260423T171050
CREATED:20251113T034616Z
LAST-MODIFIED:20251113T034616Z
UID:11674-1763492400-1763492400@www.hrslawrence.org
SUMMARY:Curso Bíblico
DESCRIPTION:Centro del santuario
URL:https://www.hrslawrence.org/event/curso-bblico-8/
END:VEVENT
BEGIN:VEVENT
DTSTART;TZID=America/New_York:20251117T190000
DTEND;TZID=America/New_York:20251117T190000
DTSTAMP:20260423T171050
CREATED:20251113T034543Z
LAST-MODIFIED:20251113T034543Z
UID:11684-1763406000-1763406000@www.hrslawrence.org
SUMMARY:Nativity Play Rehersals
DESCRIPTION:Shrine center
URL:https://www.hrslawrence.org/event/nativity-play-rehersals-2/
END:VEVENT
BEGIN:VEVENT
DTSTART;TZID=America/New_York:20251115T140000
DTEND;TZID=America/New_York:20251115T140000
DTSTAMP:20260423T171050
CREATED:20251107T042845Z
LAST-MODIFIED:20251107T042845Z
UID:11655-1763215200-1763215200@www.hrslawrence.org
SUMMARY:Clases de Bautismo
DESCRIPTION:Iglesia de arriba
URL:https://www.hrslawrence.org/event/clases-de-bautismo-6/
END:VEVENT
BEGIN:VEVENT
DTSTART;TZID=America/New_York:20251115T100000
DTEND;TZID=America/New_York:20251115T154500
DTSTAMP:20260423T171050
CREATED:20251106T035659Z
LAST-MODIFIED:20251106T035659Z
UID:11632-1763200800-1763221500@www.hrslawrence.org
SUMMARY:Confessions/Confesiones
DESCRIPTION:Upper church/Iglesia de arriba
URL:https://www.hrslawrence.org/event/confessions-confesiones-79/
END:VEVENT
BEGIN:VEVENT
DTSTART;TZID=America/New_York:20251114T100000
DTEND;TZID=America/New_York:20251114T150000
DTSTAMP:20260423T171050
CREATED:20251106T035704Z
LAST-MODIFIED:20251106T035704Z
UID:11630-1763114400-1763132400@www.hrslawrence.org
SUMMARY:Confessions/Confesiones
DESCRIPTION:Upper church/Iglesia de arriba
URL:https://www.hrslawrence.org/event/confessions-confesiones-80/
END:VEVENT
BEGIN:VEVENT
DTSTART;TZID=America/New_York:20251114T100000
DTEND;TZID=America/New_York:20251114T150000
DTSTAMP:20260423T171050
CREATED:20251106T035701Z
LAST-MODIFIED:20251106T035701Z
UID:11631-1763114400-1763132400@www.hrslawrence.org
SUMMARY:Adoration/Adoración al Santísimo
DESCRIPTION:Upper church/Iglesia de arriba
URL:https://www.hrslawrence.org/event/adoration-adoracin-al-santsimo-4/
END:VEVENT
BEGIN:VEVENT
DTSTART;TZID=America/New_York:20251113T200000
DTEND;TZID=America/New_York:20251113T200000
DTSTAMP:20260423T171050
CREATED:20251106T035707Z
LAST-MODIFIED:20251106T035707Z
UID:11629-1763064000-1763064000@www.hrslawrence.org
SUMMARY:Reunión del Grupo CERS
DESCRIPTION:Centro del santuario
URL:https://www.hrslawrence.org/event/reunin-del-grupo-cers-5/
END:VEVENT
BEGIN:VEVENT
DTSTART;TZID=America/New_York:20251113T180000
DTEND;TZID=America/New_York:20251113T184500
DTSTAMP:20260423T171050
CREATED:20251106T035721Z
LAST-MODIFIED:20251106T035721Z
UID:11628-1763056800-1763059500@www.hrslawrence.org
SUMMARY:Confessions/Confesiones
DESCRIPTION:Lower church/Iglesia de abajo
URL:https://www.hrslawrence.org/event/confessions-confesiones-81/
END:VEVENT
END:VCALENDAR