BEGIN:VCALENDAR
VERSION:2.0
PRODID:-//Holy Rosary Shrine - ECPv6.15.20//NONSGML v1.0//EN
CALSCALE:GREGORIAN
METHOD:PUBLISH
X-WR-CALNAME:Holy Rosary Shrine
X-ORIGINAL-URL:https://www.hrslawrence.org
X-WR-CALDESC:Events for Holy Rosary Shrine
REFRESH-INTERVAL;VALUE=DURATION:PT1H
X-Robots-Tag:noindex
X-PUBLISHED-TTL:PT1H
BEGIN:VTIMEZONE
TZID:America/New_York
BEGIN:DAYLIGHT
TZOFFSETFROM:-0500
TZOFFSETTO:-0400
TZNAME:EDT
DTSTART:20240310T070000
END:DAYLIGHT
BEGIN:STANDARD
TZOFFSETFROM:-0400
TZOFFSETTO:-0500
TZNAME:EST
DTSTART:20241103T060000
END:STANDARD
BEGIN:DAYLIGHT
TZOFFSETFROM:-0500
TZOFFSETTO:-0400
TZNAME:EDT
DTSTART:20250309T070000
END:DAYLIGHT
BEGIN:STANDARD
TZOFFSETFROM:-0400
TZOFFSETTO:-0500
TZNAME:EST
DTSTART:20251102T060000
END:STANDARD
BEGIN:DAYLIGHT
TZOFFSETFROM:-0500
TZOFFSETTO:-0400
TZNAME:EDT
DTSTART:20260308T070000
END:DAYLIGHT
BEGIN:STANDARD
TZOFFSETFROM:-0400
TZOFFSETTO:-0500
TZNAME:EST
DTSTART:20261101T060000
END:STANDARD
END:VTIMEZONE
BEGIN:VEVENT
DTSTART;TZID=America/New_York:20250809T100000
DTEND;TZID=America/New_York:20250809T154500
DTSTAMP:20260425T072524
CREATED:20250731T014632Z
LAST-MODIFIED:20250731T014632Z
UID:10928-1754733600-1754754300@www.hrslawrence.org
SUMMARY:Confessions - Confesiones
DESCRIPTION:Upper church – Iglesia de arriba
URL:https://www.hrslawrence.org/event/confessions-confesiones-36/
END:VEVENT
BEGIN:VEVENT
DTSTART;TZID=America/New_York:20250810T103000
DTEND;TZID=America/New_York:20250810T103000
DTSTAMP:20260425T072524
CREATED:20250731T015008Z
LAST-MODIFIED:20250731T015008Z
UID:10941-1754821800-1754821800@www.hrslawrence.org
SUMMARY:Catecismo para Adultos en Español
DESCRIPTION:Centro del santuario
URL:https://www.hrslawrence.org/event/catecismo-para-adultos-en-espanol-30/
END:VEVENT
BEGIN:VEVENT
DTSTART;TZID=America/New_York:20250811T180000
DTEND;TZID=America/New_York:20250811T200000
DTSTAMP:20260425T072524
CREATED:20250807T022941Z
LAST-MODIFIED:20250807T022941Z
UID:10963-1754935200-1754942400@www.hrslawrence.org
SUMMARY:Shrine Fair Collection
DESCRIPTION:Shrine center
URL:https://www.hrslawrence.org/event/shrine-fair-collection-4/
END:VEVENT
BEGIN:VEVENT
DTSTART;TZID=America/New_York:20250812T190000
DTEND;TZID=America/New_York:20250812T190000
DTSTAMP:20260425T072524
CREATED:20250807T022939Z
LAST-MODIFIED:20250807T022939Z
UID:10962-1755025200-1755025200@www.hrslawrence.org
SUMMARY:Curso Bíblico
DESCRIPTION:Centro del santuario o Iglesia de abajo
URL:https://www.hrslawrence.org/event/curso-biblico-43/
END:VEVENT
BEGIN:VEVENT
DTSTART;TZID=America/New_York:20250813T190000
DTEND;TZID=America/New_York:20250813T190000
DTSTAMP:20260425T072524
CREATED:20250807T022933Z
LAST-MODIFIED:20250807T022933Z
UID:10964-1755111600-1755111600@www.hrslawrence.org
SUMMARY:Holy Hour - Hora Santa
DESCRIPTION:Lower church – Iglesia de abajo
URL:https://www.hrslawrence.org/event/holy-hour-hora-santa-3/
END:VEVENT
BEGIN:VEVENT
DTSTART;TZID=America/New_York:20250814T100000
DTEND;TZID=America/New_York:20250814T100000
DTSTAMP:20260425T072524
CREATED:20250807T023224Z
LAST-MODIFIED:20250807T023224Z
UID:10973-1755165600-1755165600@www.hrslawrence.org
SUMMARY:Legión de María
DESCRIPTION:Iglesia de abajo
URL:https://www.hrslawrence.org/event/legion-de-maria-3/
END:VEVENT
BEGIN:VEVENT
DTSTART;TZID=America/New_York:20250814T173000
DTEND;TZID=America/New_York:20250814T173000
DTSTAMP:20260425T072524
CREATED:20250807T022917Z
LAST-MODIFIED:20250807T022917Z
UID:10968-1755192600-1755192600@www.hrslawrence.org
SUMMARY:Curso Bíblico
DESCRIPTION:Iglesia de abajo
URL:https://www.hrslawrence.org/event/curso-biblico-42/
END:VEVENT
BEGIN:VEVENT
DTSTART;TZID=America/New_York:20250814T180000
DTEND;TZID=America/New_York:20250814T184500
DTSTAMP:20260425T072524
CREATED:20250807T022925Z
LAST-MODIFIED:20250807T022925Z
UID:10965-1755194400-1755197100@www.hrslawrence.org
SUMMARY:Confessions - Confesiones
DESCRIPTION:Lower church – Iglesia de abajo
URL:https://www.hrslawrence.org/event/confessions-confesiones-41/
END:VEVENT
BEGIN:VEVENT
DTSTART;TZID=America/New_York:20250814T200000
DTEND;TZID=America/New_York:20250814T200000
DTSTAMP:20260425T072524
CREATED:20250807T022920Z
LAST-MODIFIED:20250807T022920Z
UID:10967-1755201600-1755201600@www.hrslawrence.org
SUMMARY:Reunión del Grupo CERS
DESCRIPTION:Iglesia de abajo
URL:https://www.hrslawrence.org/event/reunion-del-grupo-cers-43/
END:VEVENT
BEGIN:VEVENT
DTSTART;TZID=America/New_York:20250814T200000
DTEND;TZID=America/New_York:20250814T200000
DTSTAMP:20260425T072524
CREATED:20250807T022922Z
LAST-MODIFIED:20250807T022922Z
UID:10966-1755201600-1755201600@www.hrslawrence.org
SUMMARY:Charismatic Prayer Group
DESCRIPTION:Lower church
URL:https://www.hrslawrence.org/event/charismatic-prayer-group-2/
END:VEVENT
BEGIN:VEVENT
DTSTART;TZID=America/New_York:20250815T100000
DTEND;TZID=America/New_York:20250815T150000
DTSTAMP:20260425T072524
CREATED:20250807T022912Z
LAST-MODIFIED:20250807T022912Z
UID:10970-1755252000-1755270000@www.hrslawrence.org
SUMMARY:Adoration - Adoración
DESCRIPTION:Upper church – Iglesia de arriba
URL:https://www.hrslawrence.org/event/adoration-adoracion-14/
END:VEVENT
BEGIN:VEVENT
DTSTART;TZID=America/New_York:20250815T100000
DTEND;TZID=America/New_York:20250815T150000
DTSTAMP:20260425T072524
CREATED:20250807T022914Z
LAST-MODIFIED:20250807T022914Z
UID:10969-1755252000-1755270000@www.hrslawrence.org
SUMMARY:Confessions - Confesiones
DESCRIPTION:Upper church – Iglesia de arriba
URL:https://www.hrslawrence.org/event/confessions-confesiones-40/
END:VEVENT
BEGIN:VEVENT
DTSTART;TZID=America/New_York:20250816T100000
DTEND;TZID=America/New_York:20250816T154500
DTSTAMP:20260425T072524
CREATED:20250807T022910Z
LAST-MODIFIED:20250807T022910Z
UID:10971-1755338400-1755359100@www.hrslawrence.org
SUMMARY:Confessions - Confesiones
DESCRIPTION:Upper church – Iglesia de arriba
URL:https://www.hrslawrence.org/event/confessions-confesiones-39/
END:VEVENT
BEGIN:VEVENT
DTSTART;TZID=America/New_York:20250817T103000
DTEND;TZID=America/New_York:20250817T103000
DTSTAMP:20260425T072524
CREATED:20250807T022908Z
LAST-MODIFIED:20250807T022908Z
UID:10972-1755426600-1755426600@www.hrslawrence.org
SUMMARY:Catecismo para Adultos en Español
DESCRIPTION:Centro del Santuario
URL:https://www.hrslawrence.org/event/catecismo-para-adultos-en-espanol-31/
END:VEVENT
BEGIN:VEVENT
DTSTART;TZID=America/New_York:20250817T140000
DTEND;TZID=America/New_York:20250817T140000
DTSTAMP:20260425T072524
CREATED:20250807T023221Z
LAST-MODIFIED:20250807T023221Z
UID:10974-1755439200-1755439200@www.hrslawrence.org
SUMMARY:Clases de Bautismo
DESCRIPTION:Iglesia de arriba
URL:https://www.hrslawrence.org/event/clases-de-bautismo-4/
END:VEVENT
BEGIN:VEVENT
DTSTART;TZID=America/New_York:20250818T180000
DTEND;TZID=America/New_York:20250818T200000
DTSTAMP:20260425T072524
CREATED:20250814T154742Z
LAST-MODIFIED:20250814T154742Z
UID:11018-1755540000-1755547200@www.hrslawrence.org
SUMMARY:Shrine Fair Collection
DESCRIPTION:Shrine center
URL:https://www.hrslawrence.org/event/shrine-fair-collection-5/
END:VEVENT
BEGIN:VEVENT
DTSTART;TZID=America/New_York:20250819T190000
DTEND;TZID=America/New_York:20250819T190000
DTSTAMP:20260425T072524
CREATED:20250814T154738Z
LAST-MODIFIED:20250814T154738Z
UID:11020-1755630000-1755630000@www.hrslawrence.org
SUMMARY:Baptism Class
DESCRIPTION:Upper church
URL:https://www.hrslawrence.org/event/baptism-class-2/
END:VEVENT
BEGIN:VEVENT
DTSTART;TZID=America/New_York:20250819T190000
DTEND;TZID=America/New_York:20250819T190000
DTSTAMP:20260425T072524
CREATED:20250814T154739Z
LAST-MODIFIED:20250814T154739Z
UID:11019-1755630000-1755630000@www.hrslawrence.org
SUMMARY:Curso Bíblico
DESCRIPTION:Centro del santuario o iglesia de abajo
URL:https://www.hrslawrence.org/event/curso-biblico/
END:VEVENT
BEGIN:VEVENT
DTSTART;TZID=America/New_York:20250820T190000
DTEND;TZID=America/New_York:20250820T190000
DTSTAMP:20260425T072524
CREATED:20250814T154733Z
LAST-MODIFIED:20250814T154733Z
UID:11021-1755716400-1755716400@www.hrslawrence.org
SUMMARY:Holy Hour - Hora Santa
DESCRIPTION:Lower church – Iglesia de abajo
URL:https://www.hrslawrence.org/event/holy-hour-hora-santa-4/
END:VEVENT
BEGIN:VEVENT
DTSTART;TZID=America/New_York:20250821T100000
DTEND;TZID=America/New_York:20250821T100000
DTSTAMP:20260425T072524
CREATED:20250814T154729Z
LAST-MODIFIED:20250814T154729Z
UID:11022-1755770400-1755770400@www.hrslawrence.org
SUMMARY:Legión de María
DESCRIPTION:Iglesia de abajo
URL:https://www.hrslawrence.org/event/legion-de-maria-4/
END:VEVENT
BEGIN:VEVENT
DTSTART;TZID=America/New_York:20250821T173000
DTEND;TZID=America/New_York:20250821T173000
DTSTAMP:20260425T072524
CREATED:20250814T154722Z
LAST-MODIFIED:20250814T154722Z
UID:11024-1755797400-1755797400@www.hrslawrence.org
SUMMARY:Curso Bíblico Avanzado
DESCRIPTION:Iglesia de abajo
URL:https://www.hrslawrence.org/event/curso-biblico-avanzado/
END:VEVENT
BEGIN:VEVENT
DTSTART;TZID=America/New_York:20250821T180000
DTEND;TZID=America/New_York:20250821T184500
DTSTAMP:20260425T072524
CREATED:20250814T154726Z
LAST-MODIFIED:20250814T154726Z
UID:11023-1755799200-1755801900@www.hrslawrence.org
SUMMARY:Confessions - Confesiones
DESCRIPTION:Lower church – Iglesia de abajo
URL:https://www.hrslawrence.org/event/confessions-confesiones-45/
END:VEVENT
BEGIN:VEVENT
DTSTART;TZID=America/New_York:20250821T200000
DTEND;TZID=America/New_York:20250821T200000
DTSTAMP:20260425T072524
CREATED:20250814T154720Z
LAST-MODIFIED:20250814T154720Z
UID:11025-1755806400-1755806400@www.hrslawrence.org
SUMMARY:Charismatic Prayer Group
DESCRIPTION:Lower church
URL:https://www.hrslawrence.org/event/charismatic-prayer-group-40/
END:VEVENT
BEGIN:VEVENT
DTSTART;TZID=America/New_York:20250822T100000
DTEND;TZID=America/New_York:20250822T150000
DTSTAMP:20260425T072524
CREATED:20250814T154714Z
LAST-MODIFIED:20250814T154714Z
UID:11027-1755856800-1755874800@www.hrslawrence.org
SUMMARY:Adoration - Adoración
DESCRIPTION:Upper church – Iglesia de arriba
URL:https://www.hrslawrence.org/event/adoration-adoracion-15/
END:VEVENT
BEGIN:VEVENT
DTSTART;TZID=America/New_York:20250822T100000
DTEND;TZID=America/New_York:20250822T150000
DTSTAMP:20260425T072524
CREATED:20250814T154716Z
LAST-MODIFIED:20250814T154716Z
UID:11026-1755856800-1755874800@www.hrslawrence.org
SUMMARY:Confessions - Confesiones
DESCRIPTION:Upper church – Iglesia de arriba
URL:https://www.hrslawrence.org/event/confessions-confesiones-44/
END:VEVENT
BEGIN:VEVENT
DTSTART;TZID=America/New_York:20250823T100000
DTEND;TZID=America/New_York:20250823T150000
DTSTAMP:20260425T072524
CREATED:20250814T154707Z
LAST-MODIFIED:20250814T154707Z
UID:11030-1755943200-1755961200@www.hrslawrence.org
SUMMARY:Confessions - Confesiones
DESCRIPTION:Upper church – Iglesia de abajo
URL:https://www.hrslawrence.org/event/confessions-confesiones-42/
END:VEVENT
BEGIN:VEVENT
DTSTART;TZID=America/New_York:20250824T100000
DTEND;TZID=America/New_York:20250824T100000
DTSTAMP:20260425T072524
CREATED:20250613T025101Z
LAST-MODIFIED:20250731T013734Z
UID:10624-1756029600-1756029600@www.hrslawrence.org
SUMMARY:Our Lady of Czestochowa Mass
DESCRIPTION:Holy Rosary Shrine Jubilee Events\nOur Lady of Czestochowa Mass / Misa de Nuestra Señora de Czestochowa \n 
URL:https://www.hrslawrence.org/event/10624/
END:VEVENT
BEGIN:VEVENT
DTSTART;TZID=America/New_York:20250824T100000
DTEND;TZID=America/New_York:20250824T100000
DTSTAMP:20260425T072524
CREATED:20250814T154709Z
LAST-MODIFIED:20250814T154709Z
UID:11029-1756029600-1756029600@www.hrslawrence.org
SUMMARY:Baptism - English
DESCRIPTION:Upper church
URL:https://www.hrslawrence.org/event/baptism-english-6/
END:VEVENT
BEGIN:VEVENT
DTSTART;TZID=America/New_York:20250824T103000
DTEND;TZID=America/New_York:20250824T103000
DTSTAMP:20260425T072524
CREATED:20250814T154704Z
LAST-MODIFIED:20250814T154704Z
UID:11032-1756031400-1756031400@www.hrslawrence.org
SUMMARY:Catecismo para Adultos en Español
DESCRIPTION:Shrine center
URL:https://www.hrslawrence.org/event/catecismo-para-adultos-en-espanol-32/
END:VEVENT
BEGIN:VEVENT
DTSTART;TZID=America/New_York:20250824T140000
DTEND;TZID=America/New_York:20250824T140000
DTSTAMP:20260425T072524
CREATED:20250814T154702Z
LAST-MODIFIED:20250814T154702Z
UID:11033-1756044000-1756044000@www.hrslawrence.org
SUMMARY:Bautismo en Español
DESCRIPTION:Iglesia de arriba
URL:https://www.hrslawrence.org/event/bautismo-en-espanol-2/
END:VEVENT
END:VCALENDAR