BEGIN:VCALENDAR
VERSION:2.0
PRODID:-//Holy Rosary Shrine - ECPv6.15.20//NONSGML v1.0//EN
CALSCALE:GREGORIAN
METHOD:PUBLISH
X-WR-CALNAME:Holy Rosary Shrine
X-ORIGINAL-URL:https://www.hrslawrence.org
X-WR-CALDESC:Events for Holy Rosary Shrine
REFRESH-INTERVAL;VALUE=DURATION:PT1H
X-Robots-Tag:noindex
X-PUBLISHED-TTL:PT1H
BEGIN:VTIMEZONE
TZID:America/New_York
BEGIN:DAYLIGHT
TZOFFSETFROM:-0500
TZOFFSETTO:-0400
TZNAME:EDT
DTSTART:20240310T070000
END:DAYLIGHT
BEGIN:STANDARD
TZOFFSETFROM:-0400
TZOFFSETTO:-0500
TZNAME:EST
DTSTART:20241103T060000
END:STANDARD
BEGIN:DAYLIGHT
TZOFFSETFROM:-0500
TZOFFSETTO:-0400
TZNAME:EDT
DTSTART:20250309T070000
END:DAYLIGHT
BEGIN:STANDARD
TZOFFSETFROM:-0400
TZOFFSETTO:-0500
TZNAME:EST
DTSTART:20251102T060000
END:STANDARD
BEGIN:DAYLIGHT
TZOFFSETFROM:-0500
TZOFFSETTO:-0400
TZNAME:EDT
DTSTART:20260308T070000
END:DAYLIGHT
BEGIN:STANDARD
TZOFFSETFROM:-0400
TZOFFSETTO:-0500
TZNAME:EST
DTSTART:20261101T060000
END:STANDARD
END:VTIMEZONE
BEGIN:VEVENT
DTSTART;TZID=America/New_York:20251014T173000
DTEND;TZID=America/New_York:20251014T173000
DTSTAMP:20260423T202007
CREATED:20251009T025656Z
LAST-MODIFIED:20251009T025656Z
UID:11423-1760463000-1760463000@www.hrslawrence.org
SUMMARY:Christmas Play Auditions
DESCRIPTION:Shrine center
URL:https://www.hrslawrence.org/event/christmas-play-auditions/
END:VEVENT
BEGIN:VEVENT
DTSTART;TZID=America/New_York:20251014T190000
DTEND;TZID=America/New_York:20251014T190000
DTSTAMP:20260423T202007
CREATED:20251009T000245Z
LAST-MODIFIED:20251009T000245Z
UID:11412-1760468400-1760468400@www.hrslawrence.org
SUMMARY:Curso Bíblico
DESCRIPTION:Centro del santuario
URL:https://www.hrslawrence.org/event/curso-bblico/
END:VEVENT
BEGIN:VEVENT
DTSTART;TZID=America/New_York:20251015T190000
DTEND;TZID=America/New_York:20251015T190000
DTSTAMP:20260423T202007
CREATED:20251009T000242Z
LAST-MODIFIED:20251009T000242Z
UID:11413-1760554800-1760554800@www.hrslawrence.org
SUMMARY:Holy Hour/Hora Santa
DESCRIPTION:Lower church/Iglesia de abajo
URL:https://www.hrslawrence.org/event/holy-hour-hora-santa-12/
END:VEVENT
BEGIN:VEVENT
DTSTART;TZID=America/New_York:20251016T100000
DTEND;TZID=America/New_York:20251016T100000
DTSTAMP:20260423T202007
CREATED:20251009T000239Z
LAST-MODIFIED:20251009T000239Z
UID:11414-1760608800-1760608800@www.hrslawrence.org
SUMMARY:Legión de María
DESCRIPTION:Iglesia de abajo
URL:https://www.hrslawrence.org/event/legin-de-mara-2/
END:VEVENT
BEGIN:VEVENT
DTSTART;TZID=America/New_York:20251016T173000
DTEND;TZID=America/New_York:20251016T173000
DTSTAMP:20260423T202007
CREATED:20251009T000231Z
LAST-MODIFIED:20251009T000231Z
UID:11416-1760635800-1760635800@www.hrslawrence.org
SUMMARY:Curso Bíblico Avanzado
DESCRIPTION:Centro del santuario
URL:https://www.hrslawrence.org/event/curso-bblico-avanzado-2/
END:VEVENT
BEGIN:VEVENT
DTSTART;TZID=America/New_York:20251016T180000
DTEND;TZID=America/New_York:20251016T184500
DTSTAMP:20260423T202007
CREATED:20251009T000235Z
LAST-MODIFIED:20251009T000235Z
UID:11415-1760637600-1760640300@www.hrslawrence.org
SUMMARY:Confessions/Confesiones
DESCRIPTION:Iglesia de abajo
URL:https://www.hrslawrence.org/event/confessions-confesiones-69/
END:VEVENT
BEGIN:VEVENT
DTSTART;TZID=America/New_York:20251016T200000
DTEND;TZID=America/New_York:20251016T200000
DTSTAMP:20260423T202007
CREATED:20251009T000224Z
LAST-MODIFIED:20251009T000224Z
UID:11418-1760644800-1760644800@www.hrslawrence.org
SUMMARY:Reunión del Grupo CERS
DESCRIPTION:Centro del santuario
URL:https://www.hrslawrence.org/event/reunin-del-grupo-cers-2/
END:VEVENT
BEGIN:VEVENT
DTSTART;TZID=America/New_York:20251016T200000
DTEND;TZID=America/New_York:20251016T200000
DTSTAMP:20260423T202007
CREATED:20251009T000226Z
LAST-MODIFIED:20251009T000226Z
UID:11417-1760644800-1760644800@www.hrslawrence.org
SUMMARY:Charismatic Prayer Group
DESCRIPTION:Lower church
URL:https://www.hrslawrence.org/event/charismatic-prayer-group-48/
END:VEVENT
BEGIN:VEVENT
DTSTART;TZID=America/New_York:20251017T100000
DTEND;TZID=America/New_York:20251017T150000
DTSTAMP:20260423T202007
CREATED:20251009T000217Z
LAST-MODIFIED:20251009T000217Z
UID:11420-1760695200-1760713200@www.hrslawrence.org
SUMMARY:Adoration/Adoración al Santísimo
DESCRIPTION:Upper church/Iglesia de arriba
URL:https://www.hrslawrence.org/event/adoration-adoracin-al-santsimo/
END:VEVENT
BEGIN:VEVENT
DTSTART;TZID=America/New_York:20251017T100000
DTEND;TZID=America/New_York:20251017T150000
DTSTAMP:20260423T202007
CREATED:20251009T000220Z
LAST-MODIFIED:20251009T000220Z
UID:11419-1760695200-1760713200@www.hrslawrence.org
SUMMARY:Confessions/Confesiones
DESCRIPTION:Upper church/Iglesia de arriba
URL:https://www.hrslawrence.org/event/confessions-confesiones-68/
END:VEVENT
BEGIN:VEVENT
DTSTART;TZID=America/New_York:20251018T100000
DTEND;TZID=America/New_York:20251018T154500
DTSTAMP:20260423T202007
CREATED:20251009T000216Z
LAST-MODIFIED:20251009T000216Z
UID:11421-1760781600-1760802300@www.hrslawrence.org
SUMMARY:Confessions/Confesiones
DESCRIPTION:Upper church/Iglesia de arriba
URL:https://www.hrslawrence.org/event/confessions-confesiones-67/
END:VEVENT
BEGIN:VEVENT
DTSTART;TZID=America/New_York:20251018T140000
DTEND;TZID=America/New_York:20251018T140000
DTSTAMP:20260423T202007
CREATED:20251009T000214Z
LAST-MODIFIED:20251009T000214Z
UID:11422-1760796000-1760796000@www.hrslawrence.org
SUMMARY:Clases de Bautismo
DESCRIPTION:Iglesia de arriba
URL:https://www.hrslawrence.org/event/clases-de-bautismo-5/
END:VEVENT
BEGIN:VEVENT
DTSTART;TZID=America/New_York:20251020T190000
DTEND;TZID=America/New_York:20251020T190000
DTSTAMP:20260423T202007
CREATED:20251016T000119Z
LAST-MODIFIED:20251016T000119Z
UID:11465-1760986800-1760986800@www.hrslawrence.org
SUMMARY:Shrine council meeting
DESCRIPTION:Shrine center
URL:https://www.hrslawrence.org/event/shrine-council-meeting/
END:VEVENT
BEGIN:VEVENT
DTSTART;TZID=America/New_York:20251021T190000
DTEND;TZID=America/New_York:20251021T190000
DTSTAMP:20260423T202007
CREATED:20251016T000058Z
LAST-MODIFIED:20251016T000058Z
UID:11469-1761073200-1761073200@www.hrslawrence.org
SUMMARY:Baptism Class
DESCRIPTION:Shrine center
URL:https://www.hrslawrence.org/event/baptism-class-3/
END:VEVENT
BEGIN:VEVENT
DTSTART;TZID=America/New_York:20251021T190000
DTEND;TZID=America/New_York:20251021T190000
DTSTAMP:20260423T202007
CREATED:20251016T000113Z
LAST-MODIFIED:20251016T000113Z
UID:11464-1761073200-1761073200@www.hrslawrence.org
SUMMARY:Curso Bíblico
DESCRIPTION:Centro del Santuario
URL:https://www.hrslawrence.org/event/curso-bblico-2/
END:VEVENT
BEGIN:VEVENT
DTSTART;TZID=America/New_York:20251022T190000
DTEND;TZID=America/New_York:20251022T190000
DTSTAMP:20260423T202007
CREATED:20251016T000054Z
LAST-MODIFIED:20251016T000054Z
UID:11470-1761159600-1761159600@www.hrslawrence.org
SUMMARY:Emmaus Prayer Group Women
DESCRIPTION:Shrine center
URL:https://www.hrslawrence.org/event/emmaus-prayer-group-women/
END:VEVENT
BEGIN:VEVENT
DTSTART;TZID=America/New_York:20251022T190000
DTEND;TZID=America/New_York:20251022T190000
DTSTAMP:20260423T202007
CREATED:20251016T000110Z
LAST-MODIFIED:20251016T000110Z
UID:11466-1761159600-1761159600@www.hrslawrence.org
SUMMARY:Holy Hour - Hora Santa
DESCRIPTION:Lower church/Iglesia de abajo
URL:https://www.hrslawrence.org/event/holy-hour-hora-santa-13/
END:VEVENT
BEGIN:VEVENT
DTSTART;TZID=America/New_York:20251023T100000
DTEND;TZID=America/New_York:20251023T100000
DTSTAMP:20260423T202007
CREATED:20251016T000105Z
LAST-MODIFIED:20251016T000105Z
UID:11467-1761213600-1761213600@www.hrslawrence.org
SUMMARY:Legión de María
DESCRIPTION:Iglesia de abajo
URL:https://www.hrslawrence.org/event/legin-de-mara-3/
END:VEVENT
BEGIN:VEVENT
DTSTART;TZID=America/New_York:20251023T173000
DTEND;TZID=America/New_York:20251023T173000
DTSTAMP:20260423T202007
CREATED:20251016T000101Z
LAST-MODIFIED:20251016T000101Z
UID:11468-1761240600-1761240600@www.hrslawrence.org
SUMMARY:Curso Bíblico Avanzado
DESCRIPTION:Centro del santuario
URL:https://www.hrslawrence.org/event/curso-bblico-avanzado-3/
END:VEVENT
BEGIN:VEVENT
DTSTART;TZID=America/New_York:20251023T180000
DTEND;TZID=America/New_York:20251023T184500
DTSTAMP:20260423T202007
CREATED:20251016T000051Z
LAST-MODIFIED:20251016T000051Z
UID:11471-1761242400-1761245100@www.hrslawrence.org
SUMMARY:Confessions - Confesiones
DESCRIPTION:Lower church
URL:https://www.hrslawrence.org/event/confessions-confesiones-72/
END:VEVENT
BEGIN:VEVENT
DTSTART;TZID=America/New_York:20251023T200000
DTEND;TZID=America/New_York:20251023T200000
DTSTAMP:20260423T202007
CREATED:20251016T000037Z
LAST-MODIFIED:20251016T000037Z
UID:11473-1761249600-1761249600@www.hrslawrence.org
SUMMARY:Reunión del Grupo CERS
DESCRIPTION:Centro del santuario
URL:https://www.hrslawrence.org/event/reunin-del-grupo-cers-3/
END:VEVENT
BEGIN:VEVENT
DTSTART;TZID=America/New_York:20251023T200000
DTEND;TZID=America/New_York:20251023T200000
DTSTAMP:20260423T202007
CREATED:20251016T000046Z
LAST-MODIFIED:20251016T000046Z
UID:11472-1761249600-1761249600@www.hrslawrence.org
SUMMARY:Charismatic Prayer Group
DESCRIPTION:Lower church
URL:https://www.hrslawrence.org/event/charismatic-prayer-group-3/
END:VEVENT
BEGIN:VEVENT
DTSTART;TZID=America/New_York:20251024T100000
DTEND;TZID=America/New_York:20251024T150000
DTSTAMP:20260423T202007
CREATED:20251016T000029Z
LAST-MODIFIED:20251016T000029Z
UID:11477-1761300000-1761318000@www.hrslawrence.org
SUMMARY:Adoration - Adoración al Santísimo
DESCRIPTION:Upper church/Iglesia de arriba
URL:https://www.hrslawrence.org/event/adoration-adoracin-al-santsimo-2/
END:VEVENT
BEGIN:VEVENT
DTSTART;TZID=America/New_York:20251024T100000
DTEND;TZID=America/New_York:20251024T150000
DTSTAMP:20260423T202007
CREATED:20251016T000032Z
LAST-MODIFIED:20251016T000032Z
UID:11476-1761300000-1761318000@www.hrslawrence.org
SUMMARY:Confessions - Confesiones
DESCRIPTION:Upper church/Iglesia de arriba
URL:https://www.hrslawrence.org/event/confessions-confesiones-71/
END:VEVENT
BEGIN:VEVENT
DTSTART;VALUE=DATE:20251025
DTEND;VALUE=DATE:20251027
DTSTAMP:20260423T202007
CREATED:20251016T000020Z
LAST-MODIFIED:20251016T000020Z
UID:11480-1761350400-1761523199@www.hrslawrence.org
SUMMARY:BVM Raffle Basket
DESCRIPTION:All masses
URL:https://www.hrslawrence.org/event/bvm-raffle-basket/
END:VEVENT
BEGIN:VEVENT
DTSTART;TZID=America/New_York:20251025T100000
DTEND;TZID=America/New_York:20251025T100000
DTSTAMP:20260423T202007
CREATED:20251016T000023Z
LAST-MODIFIED:20251016T000023Z
UID:11479-1761386400-1761386400@www.hrslawrence.org
SUMMARY:Traditional Latin Mass
DESCRIPTION:Upper church
URL:https://www.hrslawrence.org/event/traditional-latin-mass-3/
END:VEVENT
BEGIN:VEVENT
DTSTART;TZID=America/New_York:20251025T100000
DTEND;TZID=America/New_York:20251025T154500
DTSTAMP:20260423T202007
CREATED:20251016T000026Z
LAST-MODIFIED:20251016T000026Z
UID:11478-1761386400-1761407100@www.hrslawrence.org
SUMMARY:Confessions - Confesiones
DESCRIPTION:Upper church
URL:https://www.hrslawrence.org/event/confessions-confesiones-70/
END:VEVENT
BEGIN:VEVENT
DTSTART;TZID=America/New_York:20251028T190000
DTEND;TZID=America/New_York:20251028T190000
DTSTAMP:20260423T202007
CREATED:20251023T022241Z
LAST-MODIFIED:20251023T022241Z
UID:11521-1761678000-1761678000@www.hrslawrence.org
SUMMARY:Curso Bíblico
DESCRIPTION:Centro del santuario
URL:https://www.hrslawrence.org/event/curso-bblico-3/
END:VEVENT
BEGIN:VEVENT
DTSTART;TZID=America/New_York:20251029T190000
DTEND;TZID=America/New_York:20251029T190000
DTSTAMP:20260423T202007
CREATED:20251023T022237Z
LAST-MODIFIED:20251023T022237Z
UID:11522-1761764400-1761764400@www.hrslawrence.org
SUMMARY:Holy Hour - Hora Santa
DESCRIPTION:Lower church / Iglesia de abajo
URL:https://www.hrslawrence.org/event/holy-hour-hora-santa-14/
END:VEVENT
BEGIN:VEVENT
DTSTART;TZID=America/New_York:20251029T190000
DTEND;TZID=America/New_York:20251029T190000
DTSTAMP:20260423T202007
CREATED:20251024T023629Z
LAST-MODIFIED:20251024T023629Z
UID:11553-1761764400-1761764400@www.hrslawrence.org
SUMMARY:Emmaus Prayer Group Men
DESCRIPTION:Shrine center
URL:https://www.hrslawrence.org/event/emmaus-prayer-group-men-2/
END:VEVENT
END:VCALENDAR