BEGIN:VCALENDAR
VERSION:2.0
PRODID:-//Holy Rosary Shrine - ECPv6.15.20//NONSGML v1.0//EN
CALSCALE:GREGORIAN
METHOD:PUBLISH
X-WR-CALNAME:Holy Rosary Shrine
X-ORIGINAL-URL:https://www.hrslawrence.org
X-WR-CALDESC:Events for Holy Rosary Shrine
REFRESH-INTERVAL;VALUE=DURATION:PT1H
X-Robots-Tag:noindex
X-PUBLISHED-TTL:PT1H
BEGIN:VTIMEZONE
TZID:America/New_York
BEGIN:DAYLIGHT
TZOFFSETFROM:-0500
TZOFFSETTO:-0400
TZNAME:EDT
DTSTART:20250309T070000
END:DAYLIGHT
BEGIN:STANDARD
TZOFFSETFROM:-0400
TZOFFSETTO:-0500
TZNAME:EST
DTSTART:20251102T060000
END:STANDARD
BEGIN:DAYLIGHT
TZOFFSETFROM:-0500
TZOFFSETTO:-0400
TZNAME:EDT
DTSTART:20260308T070000
END:DAYLIGHT
BEGIN:STANDARD
TZOFFSETFROM:-0400
TZOFFSETTO:-0500
TZNAME:EST
DTSTART:20261101T060000
END:STANDARD
BEGIN:DAYLIGHT
TZOFFSETFROM:-0500
TZOFFSETTO:-0400
TZNAME:EDT
DTSTART:20270314T070000
END:DAYLIGHT
BEGIN:STANDARD
TZOFFSETFROM:-0400
TZOFFSETTO:-0500
TZNAME:EST
DTSTART:20271107T060000
END:STANDARD
END:VTIMEZONE
BEGIN:VEVENT
DTSTART;TZID=America/New_York:20260214T100000
DTEND;TZID=America/New_York:20260214T154500
DTSTAMP:20260423T141912
CREATED:20260205T030917Z
LAST-MODIFIED:20260205T030917Z
UID:12322-1771063200-1771083900@www.hrslawrence.org
SUMMARY:Confessions / Confesiones
DESCRIPTION:Upper church / Iglesia de arriba
URL:https://www.hrslawrence.org/event/confessions-confesiones-112/
END:VEVENT
BEGIN:VEVENT
DTSTART;TZID=America/New_York:20260214T141500
DTEND;TZID=America/New_York:20260214T141500
DTSTAMP:20260423T141912
CREATED:20260205T031559Z
LAST-MODIFIED:20260205T031559Z
UID:12337-1771078500-1771078500@www.hrslawrence.org
SUMMARY:BVM Sodality Meeting
DESCRIPTION:Shrine center
URL:https://www.hrslawrence.org/event/bvm-sodality-meeting/
END:VEVENT
BEGIN:VEVENT
DTSTART;TZID=America/New_York:20260214T150000
DTEND;TZID=America/New_York:20260214T150000
DTSTAMP:20260423T141912
CREATED:20260205T031604Z
LAST-MODIFIED:20260205T031604Z
UID:12338-1771081200-1771081200@www.hrslawrence.org
SUMMARY:Choir Practice
DESCRIPTION:Upper church
URL:https://www.hrslawrence.org/event/choir-practice-12/
END:VEVENT
BEGIN:VEVENT
DTSTART;TZID=America/New_York:20260215T113000
DTEND;TZID=America/New_York:20260215T113000
DTSTAMP:20260423T141912
CREATED:20260205T031830Z
LAST-MODIFIED:20260205T031830Z
UID:12339-1771155000-1771155000@www.hrslawrence.org
SUMMARY:Lithuanian Celebration
DESCRIPTION:On Sunday\, February 15th\, 2026 at 11:30am at the Shrine Center\, The Lithuanian Community is celebrating their 108th Lithuanian Independence Day with a Ceremony remembering the Heroic Simas Kudirka of 1972 and his jump for freedom. A Lithuanian dinner will be served. For more information about this celebration or to by ticket call Jonas Stundzia at 978-685-4478. Hole to see then. Bring a friend.
URL:https://www.hrslawrence.org/event/lithuanian-celebration/
END:VEVENT
BEGIN:VEVENT
DTSTART;VALUE=DATE:20260216
DTEND;VALUE=DATE:20260220
DTSTAMP:20260423T141912
CREATED:20260212T030520Z
LAST-MODIFIED:20260212T030520Z
UID:12370-1771200000-1771545599@www.hrslawrence.org
SUMMARY:Franciscan Youth Retreat
DESCRIPTION:During the February vacation we will be having a retreat for the Youth from Monday through Thursday\, on February 16th to the 19th\, from 9:00am to 4:00pm. Mass at 2:00pm each day. \nWe hope to also have Rosary\, talks\, games\, and Confessions\, and other activities. Lunch will be provided\, we hope\, by our generous volunteers. Please\, youth under 8 years old must be accompanied by parent/guardian throughout the event. \nOur Lady of Guadalupe and St. Francis\, pray for us! ~Fr. Joseph
URL:https://www.hrslawrence.org/event/franciscan-youth-retreat/
END:VEVENT
BEGIN:VEVENT
DTSTART;TZID=America/New_York:20260216T190000
DTEND;TZID=America/New_York:20260216T190000
DTSTAMP:20260423T141912
CREATED:20260212T030517Z
LAST-MODIFIED:20260212T030517Z
UID:12371-1771268400-1771268400@www.hrslawrence.org
SUMMARY:Shrine Council Meeting
DESCRIPTION:Shrine center
URL:https://www.hrslawrence.org/event/shrine-council-meeting-3/
END:VEVENT
BEGIN:VEVENT
DTSTART;TZID=America/New_York:20260217T190000
DTEND;TZID=America/New_York:20260217T190000
DTSTAMP:20260423T141912
CREATED:20260212T030514Z
LAST-MODIFIED:20260212T030514Z
UID:12372-1771354800-1771354800@www.hrslawrence.org
SUMMARY:Curso Bíblico
DESCRIPTION:Centro del santuario
URL:https://www.hrslawrence.org/event/curso-biblico-66/
END:VEVENT
BEGIN:VEVENT
DTSTART;VALUE=DATE:20260218
DTEND;VALUE=DATE:20260219
DTSTAMP:20260423T141912
CREATED:20260129T023542Z
LAST-MODIFIED:20260214T042855Z
UID:12284-1771372800-1771459199@www.hrslawrence.org
SUMMARY:Ash Wednesday
DESCRIPTION:On Ash Wednesday\, February 18th\, there will be three Masses / Misas del Miércoles de Ceniza \n12:05pm English\, \n6:00pm en Español\, and \n7:30pm English. \nAshes will not be distributed outside of Mass except for the homebound. \n*Las cenizas sólo se darán durante la Santa Misa. Por favor\, no solicite recibir las cenizas fuera de la Misa a menos que sea para una persona que esta confinada en casa y no puede asistir a la Iglesia. Gracias. \nThere will be Station of the Cross in the Lower Church every Thursday during Lent in Spanish at 6:00pm and every Friday in English at 7:00pm \nHabrá Via Crucis todos los Jueves de Cuaresma en Español a las 6:00PM y cada Viernes en Inglés a las 7:00 PM
URL:https://www.hrslawrence.org/event/ash-wednesday/
END:VEVENT
BEGIN:VEVENT
DTSTART;TZID=America/New_York:20260218T090000
DTEND;TZID=America/New_York:20260218T090000
DTSTAMP:20260423T141912
CREATED:20260212T030511Z
LAST-MODIFIED:20260212T030511Z
UID:12373-1771405200-1771405200@www.hrslawrence.org
SUMMARY:Regina Caeli Academy
DESCRIPTION:Shrine center
URL:https://www.hrslawrence.org/event/regina-caeli-academy-4/
END:VEVENT
BEGIN:VEVENT
DTSTART;TZID=America/New_York:20260218T190000
DTEND;TZID=America/New_York:20260218T190000
DTSTAMP:20260423T141912
CREATED:20260212T030508Z
LAST-MODIFIED:20260212T030508Z
UID:12374-1771441200-1771441200@www.hrslawrence.org
SUMMARY:Emmaús Prayer Group - Men
DESCRIPTION:Shrine center
URL:https://www.hrslawrence.org/event/emmaus-prayer-group-men-6/
END:VEVENT
BEGIN:VEVENT
DTSTART;TZID=America/New_York:20260219T100000
DTEND;TZID=America/New_York:20260219T100000
DTSTAMP:20260423T141912
CREATED:20260212T030505Z
LAST-MODIFIED:20260212T030505Z
UID:12375-1771495200-1771495200@www.hrslawrence.org
SUMMARY:Legión de María
DESCRIPTION:Iglesia de abajo
URL:https://www.hrslawrence.org/event/legion-de-maria-17/
END:VEVENT
BEGIN:VEVENT
DTSTART;TZID=America/New_York:20260219T173000
DTEND;TZID=America/New_York:20260219T173000
DTSTAMP:20260423T141912
CREATED:20260212T030502Z
LAST-MODIFIED:20260212T030502Z
UID:12376-1771522200-1771522200@www.hrslawrence.org
SUMMARY:Curso Bíblico
DESCRIPTION:Shrine center
URL:https://www.hrslawrence.org/event/curso-biblico-65/
END:VEVENT
BEGIN:VEVENT
DTSTART;TZID=America/New_York:20260219T180000
DTEND;TZID=America/New_York:20260219T180000
DTSTAMP:20260423T141912
CREATED:20260212T030451Z
LAST-MODIFIED:20260212T030451Z
UID:12380-1771524000-1771524000@www.hrslawrence.org
SUMMARY:Via Crucis - Emmaús Mujeres
DESCRIPTION:Iglesia de abajo
URL:https://www.hrslawrence.org/event/via-crucis-emmaus-mujeres/
END:VEVENT
BEGIN:VEVENT
DTSTART;TZID=America/New_York:20260219T180000
DTEND;TZID=America/New_York:20260219T184500
DTSTAMP:20260423T141912
CREATED:20260212T030453Z
LAST-MODIFIED:20260212T030453Z
UID:12379-1771524000-1771526700@www.hrslawrence.org
SUMMARY:Confessions - Confesiones
DESCRIPTION:Lower church / Iglesia de abajo
URL:https://www.hrslawrence.org/event/confessions-confesiones-117/
END:VEVENT
BEGIN:VEVENT
DTSTART;TZID=America/New_York:20260219T200000
DTEND;TZID=America/New_York:20260219T200000
DTSTAMP:20260423T141912
CREATED:20260212T030456Z
LAST-MODIFIED:20260212T030456Z
UID:12378-1771531200-1771531200@www.hrslawrence.org
SUMMARY:Charismatic Prayer Group
DESCRIPTION:Lower church
URL:https://www.hrslawrence.org/event/charismatic-prayer-group-49/
END:VEVENT
BEGIN:VEVENT
DTSTART;TZID=America/New_York:20260219T200000
DTEND;TZID=America/New_York:20260219T200000
DTSTAMP:20260423T141912
CREATED:20260212T030458Z
LAST-MODIFIED:20260212T030458Z
UID:12377-1771531200-1771531200@www.hrslawrence.org
SUMMARY:Reunión del Grupo CERS
DESCRIPTION:Centro del santuario
URL:https://www.hrslawrence.org/event/reunion-del-grupo-cers-17/
END:VEVENT
BEGIN:VEVENT
DTSTART;TZID=America/New_York:20260220T100000
DTEND;TZID=America/New_York:20260220T150000
DTSTAMP:20260423T141912
CREATED:20260212T030447Z
LAST-MODIFIED:20260212T030447Z
UID:12382-1771581600-1771599600@www.hrslawrence.org
SUMMARY:Confessions - Confesiones
DESCRIPTION:Upper church / Iglesia de arriba
URL:https://www.hrslawrence.org/event/confessions-confesiones-116/
END:VEVENT
BEGIN:VEVENT
DTSTART;TZID=America/New_York:20260220T100000
DTEND;TZID=America/New_York:20260220T150000
DTSTAMP:20260423T141912
CREATED:20260212T030449Z
LAST-MODIFIED:20260212T030449Z
UID:12381-1771581600-1771599600@www.hrslawrence.org
SUMMARY:Adoration - Adoración al Santísimo
DESCRIPTION:Upper church / Iglesia de arriba
URL:https://www.hrslawrence.org/event/adoration-adoracion-al-santisimo-15/
END:VEVENT
BEGIN:VEVENT
DTSTART;TZID=America/New_York:20260220T190000
DTEND;TZID=America/New_York:20260220T190000
DTSTAMP:20260423T141912
CREATED:20260212T030441Z
LAST-MODIFIED:20260212T031121Z
UID:12384-1771614000-1771614000@www.hrslawrence.org
SUMMARY:Stations of the Cross - St Rita Sodality
DESCRIPTION:Lower church
URL:https://www.hrslawrence.org/event/stations-of-the-cross-st-rita-sodality/
END:VEVENT
BEGIN:VEVENT
DTSTART;TZID=America/New_York:20260221T090000
DTEND;TZID=America/New_York:20260221T090000
DTSTAMP:20260423T141912
CREATED:20260212T031009Z
LAST-MODIFIED:20260212T031009Z
UID:12400-1771664400-1771664400@www.hrslawrence.org
SUMMARY:Retiro del Grupo CERS
DESCRIPTION:Iglesia de abajo
URL:https://www.hrslawrence.org/event/retiro-del-grupo-cers/
END:VEVENT
BEGIN:VEVENT
DTSTART;TZID=America/New_York:20260221T100000
DTEND;TZID=America/New_York:20260221T154500
DTSTAMP:20260423T141912
CREATED:20260212T030444Z
LAST-MODIFIED:20260212T030444Z
UID:12383-1771668000-1771688700@www.hrslawrence.org
SUMMARY:Confessions - Confesiones
DESCRIPTION:Upper church / Iglesia de arriba
URL:https://www.hrslawrence.org/event/confessions-confesiones-115/
END:VEVENT
BEGIN:VEVENT
DTSTART;TZID=America/New_York:20260221T103000
DTEND;TZID=America/New_York:20260221T103000
DTSTAMP:20260423T141912
CREATED:20260212T031003Z
LAST-MODIFIED:20260212T031003Z
UID:12402-1771669800-1771669800@www.hrslawrence.org
SUMMARY:Helping Hands
DESCRIPTION:Shrine center
URL:https://www.hrslawrence.org/event/helping-hands-4/
END:VEVENT
BEGIN:VEVENT
DTSTART;TZID=America/New_York:20260221T140000
DTEND;TZID=America/New_York:20260221T140000
DTSTAMP:20260423T141912
CREATED:20260212T030958Z
LAST-MODIFIED:20260212T030958Z
UID:12403-1771682400-1771682400@www.hrslawrence.org
SUMMARY:Clases de Bautismo
DESCRIPTION:Iglesia de arriba
URL:https://www.hrslawrence.org/event/clases-de-bautismo-9/
END:VEVENT
BEGIN:VEVENT
DTSTART;TZID=America/New_York:20260221T150000
DTEND;TZID=America/New_York:20260221T150000
DTSTAMP:20260423T141912
CREATED:20260212T031006Z
LAST-MODIFIED:20260212T031006Z
UID:12401-1771686000-1771686000@www.hrslawrence.org
SUMMARY:Choir Practice
DESCRIPTION:Upper church
URL:https://www.hrslawrence.org/event/choir-practice-13/
END:VEVENT
BEGIN:VEVENT
DTSTART;TZID=America/New_York:20260223T190000
DTEND;TZID=America/New_York:20260223T190000
DTSTAMP:20260423T141912
CREATED:20260219T030618Z
LAST-MODIFIED:20260219T030618Z
UID:12431-1771873200-1771873200@www.hrslawrence.org
SUMMARY:Men's Bible Study
DESCRIPTION:Shrine center
URL:https://www.hrslawrence.org/event/mens-bible-study-6/
END:VEVENT
BEGIN:VEVENT
DTSTART;TZID=America/New_York:20260224T190000
DTEND;TZID=America/New_York:20260224T190000
DTSTAMP:20260423T141912
CREATED:20260219T030614Z
LAST-MODIFIED:20260219T030614Z
UID:12432-1771959600-1771959600@www.hrslawrence.org
SUMMARY:Curso Bíblico
DESCRIPTION:Centro del santuario
URL:https://www.hrslawrence.org/event/curso-biblico-68/
END:VEVENT
BEGIN:VEVENT
DTSTART;TZID=America/New_York:20260225T090000
DTEND;TZID=America/New_York:20260225T090000
DTSTAMP:20260423T141912
CREATED:20260219T030611Z
LAST-MODIFIED:20260219T030611Z
UID:12434-1772010000-1772010000@www.hrslawrence.org
SUMMARY:Regina Caeli Academy
DESCRIPTION:Lower church
URL:https://www.hrslawrence.org/event/regina-caeli-academy-5/
END:VEVENT
BEGIN:VEVENT
DTSTART;TZID=America/New_York:20260225T190000
DTEND;TZID=America/New_York:20260225T190000
DTSTAMP:20260423T141912
CREATED:20260219T030605Z
LAST-MODIFIED:20260219T030605Z
UID:12435-1772046000-1772046000@www.hrslawrence.org
SUMMARY:Emmaus Prayer Group Women
DESCRIPTION:Shrine center
URL:https://www.hrslawrence.org/event/emmaus-prayer-group-women-3/
END:VEVENT
BEGIN:VEVENT
DTSTART;TZID=America/New_York:20260225T190000
DTEND;TZID=America/New_York:20260225T190000
DTSTAMP:20260423T141912
CREATED:20260219T030608Z
LAST-MODIFIED:20260219T030608Z
UID:12433-1772046000-1772046000@www.hrslawrence.org
SUMMARY:Holy Hour
DESCRIPTION:Lower church
URL:https://www.hrslawrence.org/event/holy-hour/
END:VEVENT
BEGIN:VEVENT
DTSTART;TZID=America/New_York:20260226T100000
DTEND;TZID=America/New_York:20260226T100000
DTSTAMP:20260423T141912
CREATED:20260219T030602Z
LAST-MODIFIED:20260219T030602Z
UID:12436-1772100000-1772100000@www.hrslawrence.org
SUMMARY:Legión de María
DESCRIPTION:Iglesia de abajo
URL:https://www.hrslawrence.org/event/legion-de-maria-18/
END:VEVENT
END:VCALENDAR