BEGIN:VCALENDAR
VERSION:2.0
PRODID:-//Holy Rosary Shrine - ECPv6.15.20//NONSGML v1.0//EN
CALSCALE:GREGORIAN
METHOD:PUBLISH
X-ORIGINAL-URL:https://www.hrslawrence.org
X-WR-CALDESC:Events for Holy Rosary Shrine
REFRESH-INTERVAL;VALUE=DURATION:PT1H
X-Robots-Tag:noindex
X-PUBLISHED-TTL:PT1H
BEGIN:VTIMEZONE
TZID:America/New_York
BEGIN:DAYLIGHT
TZOFFSETFROM:-0500
TZOFFSETTO:-0400
TZNAME:EDT
DTSTART:20240310T070000
END:DAYLIGHT
BEGIN:STANDARD
TZOFFSETFROM:-0400
TZOFFSETTO:-0500
TZNAME:EST
DTSTART:20241103T060000
END:STANDARD
BEGIN:DAYLIGHT
TZOFFSETFROM:-0500
TZOFFSETTO:-0400
TZNAME:EDT
DTSTART:20250309T070000
END:DAYLIGHT
BEGIN:STANDARD
TZOFFSETFROM:-0400
TZOFFSETTO:-0500
TZNAME:EST
DTSTART:20251102T060000
END:STANDARD
BEGIN:DAYLIGHT
TZOFFSETFROM:-0500
TZOFFSETTO:-0400
TZNAME:EDT
DTSTART:20260308T070000
END:DAYLIGHT
BEGIN:STANDARD
TZOFFSETFROM:-0400
TZOFFSETTO:-0500
TZNAME:EST
DTSTART:20261101T060000
END:STANDARD
END:VTIMEZONE
BEGIN:VEVENT
DTSTART;TZID=America/New_York:20251002T100000
DTEND;TZID=America/New_York:20251002T100000
DTSTAMP:20260423T202216
CREATED:20250925T020314Z
LAST-MODIFIED:20250925T020314Z
UID:11329-1759399200-1759399200@www.hrslawrence.org
SUMMARY:Legión de María
DESCRIPTION:Iglesia de abajo
URL:https://www.hrslawrence.org/event/legion-de-maria-9/
END:VEVENT
BEGIN:VEVENT
DTSTART;TZID=America/New_York:20251002T173000
DTEND;TZID=America/New_York:20251002T173000
DTSTAMP:20260423T202216
CREATED:20250925T020309Z
LAST-MODIFIED:20250925T020309Z
UID:11330-1759426200-1759426200@www.hrslawrence.org
SUMMARY:Curso Bíblico Avanzado
DESCRIPTION:Centro del santuario
URL:https://www.hrslawrence.org/event/curso-biblico-avanzado-6/
END:VEVENT
BEGIN:VEVENT
DTSTART;TZID=America/New_York:20251002T180000
DTEND;TZID=America/New_York:20251002T184500
DTSTAMP:20260423T202216
CREATED:20250925T020302Z
LAST-MODIFIED:20250925T020302Z
UID:11331-1759428000-1759430700@www.hrslawrence.org
SUMMARY:Confessions - Confesiones
DESCRIPTION:Lower church / Iglesia de abajo
URL:https://www.hrslawrence.org/event/confessions-confesiones-63/
END:VEVENT
BEGIN:VEVENT
DTSTART;TZID=America/New_York:20251002T200000
DTEND;TZID=America/New_York:20251002T200000
DTSTAMP:20260423T202216
CREATED:20250925T020257Z
LAST-MODIFIED:20250925T020257Z
UID:11333-1759435200-1759435200@www.hrslawrence.org
SUMMARY:Reunión del Grupo CERS
DESCRIPTION:Centro del santuario
URL:https://www.hrslawrence.org/event/reunion-del-grupo-cers-7/
END:VEVENT
BEGIN:VEVENT
DTSTART;TZID=America/New_York:20251002T200000
DTEND;TZID=America/New_York:20251002T200000
DTSTAMP:20260423T202216
CREATED:20250925T020259Z
LAST-MODIFIED:20250925T020259Z
UID:11332-1759435200-1759435200@www.hrslawrence.org
SUMMARY:Charismatic Prayer Group
DESCRIPTION:Lower church
URL:https://www.hrslawrence.org/event/charismatic-prayer-group-46/
END:VEVENT
BEGIN:VEVENT
DTSTART;TZID=America/New_York:20251003T100000
DTEND;TZID=America/New_York:20251003T150000
DTSTAMP:20260423T202216
CREATED:20250925T020251Z
LAST-MODIFIED:20250925T020251Z
UID:11335-1759485600-1759503600@www.hrslawrence.org
SUMMARY:Adoration - Adoración al Santísimo
DESCRIPTION:Upper church / Iglesia de arriba
URL:https://www.hrslawrence.org/event/adoration-adoracion-al-santisimo-3/
END:VEVENT
BEGIN:VEVENT
DTSTART;TZID=America/New_York:20251003T100000
DTEND;TZID=America/New_York:20251003T150000
DTSTAMP:20260423T202216
CREATED:20250925T020254Z
LAST-MODIFIED:20250925T020254Z
UID:11334-1759485600-1759503600@www.hrslawrence.org
SUMMARY:Confessions - Confesiones
DESCRIPTION:Upper church – Iglesia de arriba
URL:https://www.hrslawrence.org/event/confessions-confesiones-62/
END:VEVENT
BEGIN:VEVENT
DTSTART;TZID=America/New_York:20251003T183000
DTEND;TZID=America/New_York:20251003T183000
DTSTAMP:20260423T202216
CREATED:20250912T020445Z
LAST-MODIFIED:20250912T020445Z
UID:11272-1759516200-1759516200@www.hrslawrence.org
SUMMARY:Transitus of Saint Francis
DESCRIPTION:Holy Rosary Shrine Jubilee Events\nUpper church \n 
URL:https://www.hrslawrence.org/event/transitus-of-saint-francis/
END:VEVENT
BEGIN:VEVENT
DTSTART;TZID=America/New_York:20251004T083000
DTEND;TZID=America/New_York:20251004T160000
DTSTAMP:20260423T202216
CREATED:20250918T021658Z
LAST-MODIFIED:20250918T021658Z
UID:11308-1759566600-1759593600@www.hrslawrence.org
SUMMARY:Congreso Mariano
DESCRIPTION:Peregrinando con María\, Madre de la Esperanza\nEn el Centro del Santuario. \nObispo auxiliar Robert Hennessey\, celebrante de la Santa Eucaristía a las 9:00am \nConferencistas invitados: \n\nHermana María Ruth Leal\nDra. Rita Ceballos\nReverendo Gabino Macías\n\nContribución: $25.00 incluye almuerzo. Mayores informes: Llamar a Bertha Rodríguez (617) 784-0015. Beatríz Soto (617) 820-9085. Miguel ruíz (716) 598-0186. asocmarianaboston31@gmail.com
URL:https://www.hrslawrence.org/event/congreso-mariano/
END:VEVENT
BEGIN:VEVENT
DTSTART;TZID=America/New_York:20251004T100000
DTEND;TZID=America/New_York:20251004T154500
DTSTAMP:20260423T202216
CREATED:20250925T020245Z
LAST-MODIFIED:20250925T020245Z
UID:11337-1759572000-1759592700@www.hrslawrence.org
SUMMARY:Confessions - Confesiones
DESCRIPTION:Upper church – Iglesia de arriba
URL:https://www.hrslawrence.org/event/confessions-confesiones-61/
END:VEVENT
BEGIN:VEVENT
DTSTART;TZID=America/New_York:20251007T183000
DTEND;TZID=America/New_York:20251007T183000
DTSTAMP:20260423T202216
CREATED:20250912T020647Z
LAST-MODIFIED:20250912T020647Z
UID:11275-1759861800-1759861800@www.hrslawrence.org
SUMMARY:Feast of Our Lady of the Rosary
DESCRIPTION:Holy Rosary Shrine Jubilee Events\n \nArchbishop Henning will be coming to Holy Rosary Shrine on Tuesday\, October 7th\, the Feast of Our Lady of the Rosary. The event will begin at 6:30pm with exposition of the Blessed Sacrament\, the Rosary and Benediction followed by the Holy Mass. Prayers and Mass will include both English and Spanish. A simple reception will follow in the Shrine Center. Please join us in welcoming the Vicar of Jesus Christ in the Archdiocese of Boston to our shrine. ~Fr. Peter
URL:https://www.hrslawrence.org/event/feast-of-our-lady-of-the-rosary/
END:VEVENT
BEGIN:VEVENT
DTSTART;TZID=America/New_York:20251008T190000
DTEND;TZID=America/New_York:20251008T190000
DTSTAMP:20260423T202216
CREATED:20251002T012908Z
LAST-MODIFIED:20251002T012908Z
UID:11367-1759950000-1759950000@www.hrslawrence.org
SUMMARY:Holy Hour - Hora Santa
DESCRIPTION:Lower church / Iglesia de abajo
URL:https://www.hrslawrence.org/event/holy-hour-hora-santa-11/
END:VEVENT
BEGIN:VEVENT
DTSTART;TZID=America/New_York:20251009T100000
DTEND;TZID=America/New_York:20251009T100000
DTSTAMP:20260423T202216
CREATED:20251002T012903Z
LAST-MODIFIED:20251002T012903Z
UID:11368-1760004000-1760004000@www.hrslawrence.org
SUMMARY:Legión de María
DESCRIPTION:Iglesia de abajo
URL:https://www.hrslawrence.org/event/legin-de-mara/
END:VEVENT
BEGIN:VEVENT
DTSTART;TZID=America/New_York:20251009T130000
DTEND;TZID=America/New_York:20251009T130000
DTSTAMP:20260423T202216
CREATED:20251002T012858Z
LAST-MODIFIED:20251002T012858Z
UID:11369-1760014800-1760014800@www.hrslawrence.org
SUMMARY:Legion of Mary - Curia Meeting
DESCRIPTION:Shrine center
URL:https://www.hrslawrence.org/event/legion-of-mary-curia-meeting/
END:VEVENT
BEGIN:VEVENT
DTSTART;TZID=America/New_York:20251009T173000
DTEND;TZID=America/New_York:20251009T173000
DTSTAMP:20260423T202216
CREATED:20251002T012853Z
LAST-MODIFIED:20251002T012853Z
UID:11370-1760031000-1760031000@www.hrslawrence.org
SUMMARY:Curso Bíblico Avanzado
DESCRIPTION:Centro del santuario
URL:https://www.hrslawrence.org/event/curso-bblico-avanzado/
END:VEVENT
BEGIN:VEVENT
DTSTART;TZID=America/New_York:20251009T180000
DTEND;TZID=America/New_York:20251009T184500
DTSTAMP:20260423T202216
CREATED:20251002T012852Z
LAST-MODIFIED:20251002T012852Z
UID:11371-1760032800-1760035500@www.hrslawrence.org
SUMMARY:Confessions / Confesiones
DESCRIPTION:Lower church / Iglesia de abajo
URL:https://www.hrslawrence.org/event/confessions-confesiones-66/
END:VEVENT
BEGIN:VEVENT
DTSTART;TZID=America/New_York:20251009T200000
DTEND;TZID=America/New_York:20251009T200000
DTSTAMP:20260423T202216
CREATED:20251002T012841Z
LAST-MODIFIED:20251002T012841Z
UID:11373-1760040000-1760040000@www.hrslawrence.org
SUMMARY:Reunión del Grupo CERS
DESCRIPTION:Centro del santuario
URL:https://www.hrslawrence.org/event/reunin-del-grupo-cers/
END:VEVENT
BEGIN:VEVENT
DTSTART;TZID=America/New_York:20251009T200000
DTEND;TZID=America/New_York:20251009T200000
DTSTAMP:20260423T202216
CREATED:20251002T012844Z
LAST-MODIFIED:20251002T012844Z
UID:11372-1760040000-1760040000@www.hrslawrence.org
SUMMARY:Charismatic Prayer Group
DESCRIPTION:Lower church
URL:https://www.hrslawrence.org/event/charismatic-prayer-group-47/
END:VEVENT
BEGIN:VEVENT
DTSTART;TZID=America/New_York:20251010T100000
DTEND;TZID=America/New_York:20251010T150000
DTSTAMP:20260423T202216
CREATED:20251002T012836Z
LAST-MODIFIED:20251002T012836Z
UID:11376-1760090400-1760108400@www.hrslawrence.org
SUMMARY:Adoration/Adoración del Santísimo
DESCRIPTION:Upper church/Iglesia de arriba
URL:https://www.hrslawrence.org/event/adoration-adoracin-del-santsimo/
END:VEVENT
BEGIN:VEVENT
DTSTART;TZID=America/New_York:20251010T100000
DTEND;TZID=America/New_York:20251010T150000
DTSTAMP:20260423T202216
CREATED:20251002T012838Z
LAST-MODIFIED:20251002T012838Z
UID:11375-1760090400-1760108400@www.hrslawrence.org
SUMMARY:Confessions/Confesiones
DESCRIPTION:Upper church/Iglesia de arriba
URL:https://www.hrslawrence.org/event/confessions-confesiones-65/
END:VEVENT
BEGIN:VEVENT
DTSTART;TZID=America/New_York:20251011T100000
DTEND;TZID=America/New_York:20251011T154500
DTSTAMP:20260423T202216
CREATED:20251002T012832Z
LAST-MODIFIED:20251002T012832Z
UID:11377-1760176800-1760197500@www.hrslawrence.org
SUMMARY:Confessions/Confesiones
DESCRIPTION:Upper church/Iglesia de arriba
URL:https://www.hrslawrence.org/event/confessions-confesiones-64/
END:VEVENT
BEGIN:VEVENT
DTSTART;TZID=America/New_York:20251011T141500
DTEND;TZID=America/New_York:20251011T141500
DTSTAMP:20260423T202216
CREATED:20251002T012829Z
LAST-MODIFIED:20251002T012829Z
UID:11378-1760192100-1760192100@www.hrslawrence.org
SUMMARY:BVM Meeting
DESCRIPTION:Shrine center
URL:https://www.hrslawrence.org/event/bvm-meeting-4/
END:VEVENT
BEGIN:VEVENT
DTSTART;VALUE=DATE:20251013
DTEND;VALUE=DATE:20251014
DTSTAMP:20260423T202216
CREATED:20251009T025830Z
LAST-MODIFIED:20251009T025830Z
UID:11436-1760313600-1760399999@www.hrslawrence.org
SUMMARY:Office closed
DESCRIPTION:Office closed
URL:https://www.hrslawrence.org/event/office-closed-6/
END:VEVENT
BEGIN:VEVENT
DTSTART;TZID=America/New_York:20251013T090000
DTEND;TZID=America/New_York:20251013T090000
DTSTAMP:20260423T202216
CREATED:20251009T025824Z
LAST-MODIFIED:20251009T025824Z
UID:11438-1760346000-1760346000@www.hrslawrence.org
SUMMARY:Youth Retreat
DESCRIPTION:Shrine center
URL:https://www.hrslawrence.org/event/youth-retreat/
END:VEVENT
BEGIN:VEVENT
DTSTART;TZID=America/New_York:20251014T173000
DTEND;TZID=America/New_York:20251014T173000
DTSTAMP:20260423T202216
CREATED:20251009T025656Z
LAST-MODIFIED:20251009T025656Z
UID:11423-1760463000-1760463000@www.hrslawrence.org
SUMMARY:Christmas Play Auditions
DESCRIPTION:Shrine center
URL:https://www.hrslawrence.org/event/christmas-play-auditions/
END:VEVENT
BEGIN:VEVENT
DTSTART;TZID=America/New_York:20251014T190000
DTEND;TZID=America/New_York:20251014T190000
DTSTAMP:20260423T202216
CREATED:20251009T000245Z
LAST-MODIFIED:20251009T000245Z
UID:11412-1760468400-1760468400@www.hrslawrence.org
SUMMARY:Curso Bíblico
DESCRIPTION:Centro del santuario
URL:https://www.hrslawrence.org/event/curso-bblico/
END:VEVENT
BEGIN:VEVENT
DTSTART;TZID=America/New_York:20251015T190000
DTEND;TZID=America/New_York:20251015T190000
DTSTAMP:20260423T202216
CREATED:20251009T000242Z
LAST-MODIFIED:20251009T000242Z
UID:11413-1760554800-1760554800@www.hrslawrence.org
SUMMARY:Holy Hour/Hora Santa
DESCRIPTION:Lower church/Iglesia de abajo
URL:https://www.hrslawrence.org/event/holy-hour-hora-santa-12/
END:VEVENT
BEGIN:VEVENT
DTSTART;TZID=America/New_York:20251016T100000
DTEND;TZID=America/New_York:20251016T100000
DTSTAMP:20260423T202216
CREATED:20251009T000239Z
LAST-MODIFIED:20251009T000239Z
UID:11414-1760608800-1760608800@www.hrslawrence.org
SUMMARY:Legión de María
DESCRIPTION:Iglesia de abajo
URL:https://www.hrslawrence.org/event/legin-de-mara-2/
END:VEVENT
BEGIN:VEVENT
DTSTART;TZID=America/New_York:20251016T173000
DTEND;TZID=America/New_York:20251016T173000
DTSTAMP:20260423T202216
CREATED:20251009T000231Z
LAST-MODIFIED:20251009T000231Z
UID:11416-1760635800-1760635800@www.hrslawrence.org
SUMMARY:Curso Bíblico Avanzado
DESCRIPTION:Centro del santuario
URL:https://www.hrslawrence.org/event/curso-bblico-avanzado-2/
END:VEVENT
BEGIN:VEVENT
DTSTART;TZID=America/New_York:20251016T180000
DTEND;TZID=America/New_York:20251016T184500
DTSTAMP:20260423T202216
CREATED:20251009T000235Z
LAST-MODIFIED:20251009T000235Z
UID:11415-1760637600-1760640300@www.hrslawrence.org
SUMMARY:Confessions/Confesiones
DESCRIPTION:Iglesia de abajo
URL:https://www.hrslawrence.org/event/confessions-confesiones-69/
END:VEVENT
END:VCALENDAR