BEGIN:VCALENDAR
VERSION:2.0
PRODID:-//Holy Rosary Shrine - ECPv6.15.20//NONSGML v1.0//EN
CALSCALE:GREGORIAN
METHOD:PUBLISH
X-ORIGINAL-URL:https://www.hrslawrence.org
X-WR-CALDESC:Events for Holy Rosary Shrine
REFRESH-INTERVAL;VALUE=DURATION:PT1H
X-Robots-Tag:noindex
X-PUBLISHED-TTL:PT1H
BEGIN:VTIMEZONE
TZID:America/New_York
BEGIN:DAYLIGHT
TZOFFSETFROM:-0500
TZOFFSETTO:-0400
TZNAME:EDT
DTSTART:20240310T070000
END:DAYLIGHT
BEGIN:STANDARD
TZOFFSETFROM:-0400
TZOFFSETTO:-0500
TZNAME:EST
DTSTART:20241103T060000
END:STANDARD
BEGIN:DAYLIGHT
TZOFFSETFROM:-0500
TZOFFSETTO:-0400
TZNAME:EDT
DTSTART:20250309T070000
END:DAYLIGHT
BEGIN:STANDARD
TZOFFSETFROM:-0400
TZOFFSETTO:-0500
TZNAME:EST
DTSTART:20251102T060000
END:STANDARD
BEGIN:DAYLIGHT
TZOFFSETFROM:-0500
TZOFFSETTO:-0400
TZNAME:EDT
DTSTART:20260308T070000
END:DAYLIGHT
BEGIN:STANDARD
TZOFFSETFROM:-0400
TZOFFSETTO:-0500
TZNAME:EST
DTSTART:20261101T060000
END:STANDARD
END:VTIMEZONE
BEGIN:VEVENT
DTSTART;VALUE=DATE:20251025
DTEND;VALUE=DATE:20251027
DTSTAMP:20260423T184815
CREATED:20251016T000020Z
LAST-MODIFIED:20251016T000020Z
UID:11480-1761350400-1761523199@www.hrslawrence.org
SUMMARY:BVM Raffle Basket
DESCRIPTION:All masses
URL:https://www.hrslawrence.org/event/bvm-raffle-basket/
END:VEVENT
BEGIN:VEVENT
DTSTART;TZID=America/New_York:20251028T190000
DTEND;TZID=America/New_York:20251028T190000
DTSTAMP:20260423T184815
CREATED:20251023T022241Z
LAST-MODIFIED:20251023T022241Z
UID:11521-1761678000-1761678000@www.hrslawrence.org
SUMMARY:Curso Bíblico
DESCRIPTION:Centro del santuario
URL:https://www.hrslawrence.org/event/curso-bblico-3/
END:VEVENT
BEGIN:VEVENT
DTSTART;TZID=America/New_York:20251029T190000
DTEND;TZID=America/New_York:20251029T190000
DTSTAMP:20260423T184815
CREATED:20251023T022237Z
LAST-MODIFIED:20251023T022237Z
UID:11522-1761764400-1761764400@www.hrslawrence.org
SUMMARY:Holy Hour - Hora Santa
DESCRIPTION:Lower church / Iglesia de abajo
URL:https://www.hrslawrence.org/event/holy-hour-hora-santa-14/
END:VEVENT
BEGIN:VEVENT
DTSTART;TZID=America/New_York:20251029T190000
DTEND;TZID=America/New_York:20251029T190000
DTSTAMP:20260423T184815
CREATED:20251024T023629Z
LAST-MODIFIED:20251024T023629Z
UID:11553-1761764400-1761764400@www.hrslawrence.org
SUMMARY:Emmaus Prayer Group Men
DESCRIPTION:Shrine center
URL:https://www.hrslawrence.org/event/emmaus-prayer-group-men-2/
END:VEVENT
BEGIN:VEVENT
DTSTART;TZID=America/New_York:20251030T100000
DTEND;TZID=America/New_York:20251030T100000
DTSTAMP:20260423T184815
CREATED:20251023T022234Z
LAST-MODIFIED:20251023T022738Z
UID:11523-1761818400-1761818400@www.hrslawrence.org
SUMMARY:Legión de María
DESCRIPTION:Iglesia de abajo
URL:https://www.hrslawrence.org/event/legin-de-maria/
END:VEVENT
BEGIN:VEVENT
DTSTART;TZID=America/New_York:20251030T173000
DTEND;TZID=America/New_York:20251030T173000
DTSTAMP:20260423T184815
CREATED:20251023T022231Z
LAST-MODIFIED:20251023T022231Z
UID:11524-1761845400-1761845400@www.hrslawrence.org
SUMMARY:Curso Bíblico
DESCRIPTION:Centro del santuario
URL:https://www.hrslawrence.org/event/curso-biblico-3/
END:VEVENT
BEGIN:VEVENT
DTSTART;TZID=America/New_York:20251030T180000
DTEND;TZID=America/New_York:20251030T184500
DTSTAMP:20260423T184815
CREATED:20251023T022227Z
LAST-MODIFIED:20251023T022227Z
UID:11525-1761847200-1761849900@www.hrslawrence.org
SUMMARY:Confessions-Confesiones
DESCRIPTION:Lower church/Iglesia de abajo
URL:https://www.hrslawrence.org/event/confessions-confesiones-75/
END:VEVENT
BEGIN:VEVENT
DTSTART;TZID=America/New_York:20251030T200000
DTEND;TZID=America/New_York:20251030T200000
DTSTAMP:20260423T184815
CREATED:20251023T022222Z
LAST-MODIFIED:20251023T022222Z
UID:11527-1761854400-1761854400@www.hrslawrence.org
SUMMARY:Reunión del Grupo CERS
DESCRIPTION:Centro del santuario
URL:https://www.hrslawrence.org/event/reunion-del-grupo-cers-8/
END:VEVENT
BEGIN:VEVENT
DTSTART;TZID=America/New_York:20251030T200000
DTEND;TZID=America/New_York:20251030T200000
DTSTAMP:20260423T184815
CREATED:20251023T022225Z
LAST-MODIFIED:20251023T022225Z
UID:11526-1761854400-1761854400@www.hrslawrence.org
SUMMARY:Charismatic Prayer Group
DESCRIPTION:Lower church
URL:https://www.hrslawrence.org/event/charismatic-prayer-group-4/
END:VEVENT
BEGIN:VEVENT
DTSTART;TZID=America/New_York:20251031T100000
DTEND;TZID=America/New_York:20251031T150000
DTSTAMP:20260423T184815
CREATED:20251023T022216Z
LAST-MODIFIED:20251023T022216Z
UID:11529-1761904800-1761922800@www.hrslawrence.org
SUMMARY:Adoration-Adoración al Santísimo
DESCRIPTION:Upper church/Iglesia de arriba
URL:https://www.hrslawrence.org/event/adoration-adoracion-al-santisimo-4/
END:VEVENT
BEGIN:VEVENT
DTSTART;TZID=America/New_York:20251031T100000
DTEND;TZID=America/New_York:20251031T150000
DTSTAMP:20260423T184815
CREATED:20251023T022218Z
LAST-MODIFIED:20251023T022218Z
UID:11528-1761904800-1761922800@www.hrslawrence.org
SUMMARY:Confessions-Confesiones
DESCRIPTION:Upper church / Iglesia de arriba
URL:https://www.hrslawrence.org/event/confessions-confesiones-74/
END:VEVENT
BEGIN:VEVENT
DTSTART;TZID=America/New_York:20251031T160000
DTEND;TZID=America/New_York:20251031T160000
DTSTAMP:20260423T184815
CREATED:20251024T023626Z
LAST-MODIFIED:20251024T023626Z
UID:11554-1761926400-1761926400@www.hrslawrence.org
SUMMARY:Youth Day with Fr Joseph
DESCRIPTION:Shrine center
URL:https://www.hrslawrence.org/event/youth-day-with-fr-joseph/
END:VEVENT
BEGIN:VEVENT
DTSTART;VALUE=DATE:20251101
DTEND;VALUE=DATE:20251103
DTSTAMP:20260423T184815
CREATED:20251024T023820Z
LAST-MODIFIED:20251024T023820Z
UID:11561-1761955200-1762127999@www.hrslawrence.org
SUMMARY:BVM Raffle Basket
DESCRIPTION:The Blessed Virgin Mary Sodality is having a Fall Raffle the weekends of October 25-26 and November 1–2. We are raffling a basket that has a value of over $300. Tickets will be sold at all the weekend Masses at 3 for $5 and 8 for $10. Remember to bring your address labels! \nThank you very much for always supporting us in our endeavor to raise money for Holy Rosary Shrine. ~ The BVM Sodality \n 
URL:https://www.hrslawrence.org/event/bvm-raffle-basket-2/
END:VEVENT
BEGIN:VEVENT
DTSTART;TZID=America/New_York:20251101T100000
DTEND;TZID=America/New_York:20251101T154500
DTSTAMP:20260423T184815
CREATED:20251023T022214Z
LAST-MODIFIED:20251023T022627Z
UID:11530-1761991200-1762011900@www.hrslawrence.org
SUMMARY:Confessions-Confesiones
DESCRIPTION:Upper church
URL:https://www.hrslawrence.org/event/confessions-confesiones-73/
END:VEVENT
BEGIN:VEVENT
DTSTART;TZID=America/New_York:20251101T143000
DTEND;TZID=America/New_York:20251101T143000
DTSTAMP:20260423T184815
CREATED:20251024T023623Z
LAST-MODIFIED:20251024T023623Z
UID:11555-1762007400-1762007400@www.hrslawrence.org
SUMMARY:St Rita's Meeting
DESCRIPTION:Shrine center
URL:https://www.hrslawrence.org/event/st-ritas-meeting-3/
END:VEVENT
BEGIN:VEVENT
DTSTART;TZID=America/New_York:20251103T190000
DTEND;TZID=America/New_York:20251103T190000
DTSTAMP:20260423T184815
CREATED:20251029T233712Z
LAST-MODIFIED:20251029T233712Z
UID:11589-1762196400-1762196400@www.hrslawrence.org
SUMMARY:Nativity Play Practice
DESCRIPTION:Shrine center
URL:https://www.hrslawrence.org/event/nativity-play-practice-8/
END:VEVENT
BEGIN:VEVENT
DTSTART;TZID=America/New_York:20251104T190000
DTEND;TZID=America/New_York:20251104T190000
DTSTAMP:20260423T184815
CREATED:20251029T233408Z
LAST-MODIFIED:20251029T233408Z
UID:11579-1762282800-1762282800@www.hrslawrence.org
SUMMARY:Curso Bíblico
DESCRIPTION:Centro del santuario
URL:https://www.hrslawrence.org/event/curso-bblico-5/
END:VEVENT
BEGIN:VEVENT
DTSTART;TZID=America/New_York:20251105T190000
DTEND;TZID=America/New_York:20251105T190000
DTSTAMP:20260423T184815
CREATED:20251029T233401Z
LAST-MODIFIED:20251029T233401Z
UID:11581-1762369200-1762369200@www.hrslawrence.org
SUMMARY:Holy Hour/Hora Santa
DESCRIPTION:Lower church/Iglesia de abajo
URL:https://www.hrslawrence.org/event/holy-hour-hora-santa-15/
END:VEVENT
BEGIN:VEVENT
DTSTART;TZID=America/New_York:20251106T100000
DTEND;TZID=America/New_York:20251106T100000
DTSTAMP:20260423T184815
CREATED:20251029T233359Z
LAST-MODIFIED:20251029T233359Z
UID:11582-1762423200-1762423200@www.hrslawrence.org
SUMMARY:Legión de María
DESCRIPTION:Iglesia de abajo
URL:https://www.hrslawrence.org/event/legin-de-mara-4/
END:VEVENT
BEGIN:VEVENT
DTSTART;TZID=America/New_York:20251106T173000
DTEND;TZID=America/New_York:20251106T173000
DTSTAMP:20260423T184815
CREATED:20251029T233404Z
LAST-MODIFIED:20251029T233404Z
UID:11580-1762450200-1762450200@www.hrslawrence.org
SUMMARY:Curso Bíblico
DESCRIPTION:Centro del santuario
URL:https://www.hrslawrence.org/event/curso-bblico-4/
END:VEVENT
BEGIN:VEVENT
DTSTART;TZID=America/New_York:20251106T180000
DTEND;TZID=America/New_York:20251106T184500
DTSTAMP:20260423T184815
CREATED:20251029T233355Z
LAST-MODIFIED:20251029T233355Z
UID:11583-1762452000-1762454700@www.hrslawrence.org
SUMMARY:Confessions/Confesiones
DESCRIPTION:Lower church/Iglesia de abajo
URL:https://www.hrslawrence.org/event/confessions-confesiones-78/
END:VEVENT
BEGIN:VEVENT
DTSTART;TZID=America/New_York:20251106T200000
DTEND;TZID=America/New_York:20251106T200000
DTSTAMP:20260423T184815
CREATED:20251029T233348Z
LAST-MODIFIED:20251029T233348Z
UID:11585-1762459200-1762459200@www.hrslawrence.org
SUMMARY:Reunión del Grupo CERS
DESCRIPTION:Centro del santuario
URL:https://www.hrslawrence.org/event/reunin-del-grupo-cers-4/
END:VEVENT
BEGIN:VEVENT
DTSTART;TZID=America/New_York:20251106T200000
DTEND;TZID=America/New_York:20251106T200000
DTSTAMP:20260423T184815
CREATED:20251029T233351Z
LAST-MODIFIED:20251029T233351Z
UID:11584-1762459200-1762459200@www.hrslawrence.org
SUMMARY:Charismatic Prayer Group
DESCRIPTION:Lower church
URL:https://www.hrslawrence.org/event/charismatic-prayer-group-5/
END:VEVENT
BEGIN:VEVENT
DTSTART;TZID=America/New_York:20251107T100000
DTEND;TZID=America/New_York:20251107T150000
DTSTAMP:20260423T184815
CREATED:20251029T233342Z
LAST-MODIFIED:20251029T233342Z
UID:11587-1762509600-1762527600@www.hrslawrence.org
SUMMARY:Adoration/Adoración al Santísimo
DESCRIPTION:Upper church/Iglesia de arriba
URL:https://www.hrslawrence.org/event/adoration-adoracin-al-santsimo-3/
END:VEVENT
BEGIN:VEVENT
DTSTART;TZID=America/New_York:20251107T100000
DTEND;TZID=America/New_York:20251107T150000
DTSTAMP:20260423T184815
CREATED:20251029T233345Z
LAST-MODIFIED:20251029T233345Z
UID:11586-1762509600-1762527600@www.hrslawrence.org
SUMMARY:Confessions/Confesiones
DESCRIPTION:Upper church/Iglesia de arriba
URL:https://www.hrslawrence.org/event/confessions-confesiones-77/
END:VEVENT
BEGIN:VEVENT
DTSTART;TZID=America/New_York:20251108T083000
DTEND;TZID=America/New_York:20251108T153000
DTSTAMP:20260423T184815
CREATED:20251010T020209Z
LAST-MODIFIED:20251010T020344Z
UID:11452-1762590600-1762615800@www.hrslawrence.org
SUMMARY:Northeast Regional Meeting of the Institute on Religious Life
DESCRIPTION:Holy Rosary Shrine Jubilee Events\n \nHoly Rosary Shrine is proud to sponsor the annual Northeast Regional Meeting of the Institute on Religious Life on Saturday November 8th from 8:30am to 3:30pm. Speakers include: Rev. Declan Gibson; Sr. Marie Mechtild Wasserthal\, RSM; and our own Rev. Andrew Beauregard\, FPC. Tickets are only $10.00. All are invited. Please register by calling Pat O’Donnel at (617) 472-6121 or emailing pat.odonnell1@verizon.net. \n 
URL:https://www.hrslawrence.org/event/northeast-regional-meeting-of-the-institute-on-religious-life/
END:VEVENT
BEGIN:VEVENT
DTSTART;TZID=America/New_York:20251108T100000
DTEND;TZID=America/New_York:20251108T154500
DTSTAMP:20260423T184815
CREATED:20251029T233340Z
LAST-MODIFIED:20251029T233340Z
UID:11588-1762596000-1762616700@www.hrslawrence.org
SUMMARY:Confessions/Confesiones
DESCRIPTION:Upper church
URL:https://www.hrslawrence.org/event/confessions-confesiones-76/
END:VEVENT
BEGIN:VEVENT
DTSTART;TZID=America/New_York:20251110T180000
DTEND;TZID=America/New_York:20251110T180000
DTSTAMP:20260423T184815
CREATED:20251107T042849Z
LAST-MODIFIED:20251107T042849Z
UID:11653-1762797600-1762797600@www.hrslawrence.org
SUMMARY:Noche de Sanación con el Padre Chelo
DESCRIPTION:Iglesia de arriba
URL:https://www.hrslawrence.org/event/noche-de-sanacin-con-el-padre-chelo/
END:VEVENT
BEGIN:VEVENT
DTSTART;TZID=America/New_York:20251110T190000
DTEND;TZID=America/New_York:20251110T190000
DTSTAMP:20260423T184815
CREATED:20251106T035652Z
LAST-MODIFIED:20251106T035652Z
UID:11633-1762801200-1762801200@www.hrslawrence.org
SUMMARY:Nativity Play Rehersals
DESCRIPTION:Shrine center
URL:https://www.hrslawrence.org/event/nativity-play-rehersals/
END:VEVENT
BEGIN:VEVENT
DTSTART;TZID=America/New_York:20251111T190000
DTEND;TZID=America/New_York:20251111T190000
DTSTAMP:20260423T184815
CREATED:20251106T035731Z
LAST-MODIFIED:20251106T035731Z
UID:11623-1762887600-1762887600@www.hrslawrence.org
SUMMARY:Curso Bíblico
DESCRIPTION:Centro del santuario
URL:https://www.hrslawrence.org/event/curso-bblico-7/
END:VEVENT
END:VCALENDAR