BEGIN:VCALENDAR
VERSION:2.0
PRODID:-//Holy Rosary Shrine - ECPv6.15.20//NONSGML v1.0//EN
CALSCALE:GREGORIAN
METHOD:PUBLISH
X-ORIGINAL-URL:https://www.hrslawrence.org
X-WR-CALDESC:Events for Holy Rosary Shrine
REFRESH-INTERVAL;VALUE=DURATION:PT1H
X-Robots-Tag:noindex
X-PUBLISHED-TTL:PT1H
BEGIN:VTIMEZONE
TZID:America/New_York
BEGIN:DAYLIGHT
TZOFFSETFROM:-0500
TZOFFSETTO:-0400
TZNAME:EDT
DTSTART:20250309T070000
END:DAYLIGHT
BEGIN:STANDARD
TZOFFSETFROM:-0400
TZOFFSETTO:-0500
TZNAME:EST
DTSTART:20251102T060000
END:STANDARD
BEGIN:DAYLIGHT
TZOFFSETFROM:-0500
TZOFFSETTO:-0400
TZNAME:EDT
DTSTART:20260308T070000
END:DAYLIGHT
BEGIN:STANDARD
TZOFFSETFROM:-0400
TZOFFSETTO:-0500
TZNAME:EST
DTSTART:20261101T060000
END:STANDARD
BEGIN:DAYLIGHT
TZOFFSETFROM:-0500
TZOFFSETTO:-0400
TZNAME:EDT
DTSTART:20270314T070000
END:DAYLIGHT
BEGIN:STANDARD
TZOFFSETFROM:-0400
TZOFFSETTO:-0500
TZNAME:EST
DTSTART:20271107T060000
END:STANDARD
END:VTIMEZONE
BEGIN:VEVENT
DTSTART;TZID=America/New_York:20260108T100000
DTEND;TZID=America/New_York:20260108T100000
DTSTAMP:20260423T154903
CREATED:20260103T035114Z
LAST-MODIFIED:20260103T035114Z
UID:12046-1767866400-1767866400@www.hrslawrence.org
SUMMARY:Legión de María
DESCRIPTION:Centro del santuario
URL:https://www.hrslawrence.org/event/legion-de-maria-12/
END:VEVENT
BEGIN:VEVENT
DTSTART;TZID=America/New_York:20260108T173000
DTEND;TZID=America/New_York:20260108T173000
DTSTAMP:20260423T154903
CREATED:20260103T035108Z
LAST-MODIFIED:20260103T035108Z
UID:12048-1767893400-1767893400@www.hrslawrence.org
SUMMARY:Curso Bíblico
DESCRIPTION:Centro del santuario
URL:https://www.hrslawrence.org/event/curso-biblico-53/
END:VEVENT
BEGIN:VEVENT
DTSTART;TZID=America/New_York:20260108T180000
DTEND;TZID=America/New_York:20260108T184500
DTSTAMP:20260423T154903
CREATED:20260103T035111Z
LAST-MODIFIED:20260103T035111Z
UID:12047-1767895200-1767897900@www.hrslawrence.org
SUMMARY:Confessions/Confesiones
DESCRIPTION:Lower church/Iglesia de abajo
URL:https://www.hrslawrence.org/event/confessions-confesiones-101/
END:VEVENT
BEGIN:VEVENT
DTSTART;TZID=America/New_York:20260108T200000
DTEND;TZID=America/New_York:20260108T200000
DTSTAMP:20260423T154903
CREATED:20260103T035102Z
LAST-MODIFIED:20260103T035102Z
UID:12051-1767902400-1767902400@www.hrslawrence.org
SUMMARY:Charismatic Prayer Group
DESCRIPTION:Lower church
URL:https://www.hrslawrence.org/event/charismatic-prayer-group-10/
END:VEVENT
BEGIN:VEVENT
DTSTART;TZID=America/New_York:20260108T200000
DTEND;TZID=America/New_York:20260108T200000
DTSTAMP:20260423T154903
CREATED:20260103T035105Z
LAST-MODIFIED:20260103T035105Z
UID:12050-1767902400-1767902400@www.hrslawrence.org
SUMMARY:Reunión del Grupo CERS
DESCRIPTION:Centro del santuario
URL:https://www.hrslawrence.org/event/reunion-del-grupo-cers-11/
END:VEVENT
BEGIN:VEVENT
DTSTART;TZID=America/New_York:20260109T100000
DTEND;TZID=America/New_York:20260109T150000
DTSTAMP:20260423T154903
CREATED:20260103T035058Z
LAST-MODIFIED:20260103T035058Z
UID:12053-1767952800-1767970800@www.hrslawrence.org
SUMMARY:Adoration/Adoración al Santísimo
DESCRIPTION:Upper church/Iglesia de arriba
URL:https://www.hrslawrence.org/event/adoration-adoracion-al-santisimo-9/
END:VEVENT
BEGIN:VEVENT
DTSTART;TZID=America/New_York:20260109T100000
DTEND;TZID=America/New_York:20260109T150000
DTSTAMP:20260423T154903
CREATED:20260103T035100Z
LAST-MODIFIED:20260103T035100Z
UID:12052-1767952800-1767970800@www.hrslawrence.org
SUMMARY:Confessions/Confesiones
DESCRIPTION:Upper church/Iglesia de arriba
URL:https://www.hrslawrence.org/event/confessions-confesiones-100/
END:VEVENT
BEGIN:VEVENT
DTSTART;TZID=America/New_York:20260110T100000
DTEND;TZID=America/New_York:20260110T100000
DTSTAMP:20260423T154903
CREATED:20260103T035052Z
LAST-MODIFIED:20260103T035337Z
UID:12056-1768039200-1768039200@www.hrslawrence.org
SUMMARY:Pro-Life Rosary
DESCRIPTION:Upper church.
URL:https://www.hrslawrence.org/event/pro-life-rosary-3/
END:VEVENT
BEGIN:VEVENT
DTSTART;TZID=America/New_York:20260110T100000
DTEND;TZID=America/New_York:20260110T100000
DTSTAMP:20260423T154903
CREATED:20260103T035054Z
LAST-MODIFIED:20260103T035054Z
UID:12054-1768039200-1768039200@www.hrslawrence.org
SUMMARY:Helping Hands
DESCRIPTION:Shrine center
URL:https://www.hrslawrence.org/event/helping-hands/
END:VEVENT
BEGIN:VEVENT
DTSTART;TZID=America/New_York:20260110T100000
DTEND;TZID=America/New_York:20260110T154500
DTSTAMP:20260423T154903
CREATED:20260103T035049Z
LAST-MODIFIED:20260103T035049Z
UID:12057-1768039200-1768059900@www.hrslawrence.org
SUMMARY:Confessions/Confesiones
DESCRIPTION:Upper church/Iglesia de arriba
URL:https://www.hrslawrence.org/event/confessions-confesiones-99/
END:VEVENT
BEGIN:VEVENT
DTSTART;TZID=America/New_York:20260110T150000
DTEND;TZID=America/New_York:20260110T150000
DTSTAMP:20260423T154903
CREATED:20260103T035047Z
LAST-MODIFIED:20260103T035047Z
UID:12055-1768057200-1768057200@www.hrslawrence.org
SUMMARY:Choir Practice
DESCRIPTION:Upper church
URL:https://www.hrslawrence.org/event/choir-practice-7/
END:VEVENT
BEGIN:VEVENT
DTSTART;TZID=America/New_York:20260112T190000
DTEND;TZID=America/New_York:20260112T190000
DTSTAMP:20260423T154903
CREATED:20260108T023822Z
LAST-MODIFIED:20260108T023822Z
UID:12088-1768244400-1768244400@www.hrslawrence.org
SUMMARY:Men´s Bible Study
DESCRIPTION:Shrine center
URL:https://www.hrslawrence.org/event/mens-bible-study-3/
END:VEVENT
BEGIN:VEVENT
DTSTART;TZID=America/New_York:20260113T190000
DTEND;TZID=America/New_York:20260113T190000
DTSTAMP:20260423T154903
CREATED:20260108T023904Z
LAST-MODIFIED:20260108T023904Z
UID:12076-1768330800-1768330800@www.hrslawrence.org
SUMMARY:Curso Bíblico
DESCRIPTION:Centro del santuario
URL:https://www.hrslawrence.org/event/curso-biblico-56/
END:VEVENT
BEGIN:VEVENT
DTSTART;TZID=America/New_York:20260114T120000
DTEND;TZID=America/New_York:20260114T120000
DTSTAMP:20260423T154903
CREATED:20260108T023828Z
LAST-MODIFIED:20260108T023828Z
UID:12086-1768392000-1768392000@www.hrslawrence.org
SUMMARY:HNS Meeting
DESCRIPTION:Shrine center
URL:https://www.hrslawrence.org/event/hns-meeting/
END:VEVENT
BEGIN:VEVENT
DTSTART;TZID=America/New_York:20260114T190000
DTEND;TZID=America/New_York:20260114T190000
DTSTAMP:20260423T154903
CREATED:20260108T023824Z
LAST-MODIFIED:20260108T023824Z
UID:12087-1768417200-1768417200@www.hrslawrence.org
SUMMARY:Emmaus Prayer Group Men
DESCRIPTION:Shrine center
URL:https://www.hrslawrence.org/event/emmaus-prayer-group-men-4/
END:VEVENT
BEGIN:VEVENT
DTSTART;TZID=America/New_York:20260114T190000
DTEND;TZID=America/New_York:20260114T190000
DTSTAMP:20260423T154903
CREATED:20260108T023859Z
LAST-MODIFIED:20260108T023859Z
UID:12077-1768417200-1768417200@www.hrslawrence.org
SUMMARY:Holy Hour/Hora Santa
DESCRIPTION:Lower church/Iglesia de abajo
URL:https://www.hrslawrence.org/event/holy-hour-hora-santa-23/
END:VEVENT
BEGIN:VEVENT
DTSTART;TZID=America/New_York:20260115T173000
DTEND;TZID=America/New_York:20260115T173000
DTSTAMP:20260423T154903
CREATED:20260108T023854Z
LAST-MODIFIED:20260108T023854Z
UID:12078-1768498200-1768498200@www.hrslawrence.org
SUMMARY:Curso Bíblico
DESCRIPTION:Centro del santuario
URL:https://www.hrslawrence.org/event/curso-biblico-55/
END:VEVENT
BEGIN:VEVENT
DTSTART;TZID=America/New_York:20260115T180000
DTEND;TZID=America/New_York:20260115T184500
DTSTAMP:20260423T154903
CREATED:20260108T023850Z
LAST-MODIFIED:20260108T023850Z
UID:12079-1768500000-1768502700@www.hrslawrence.org
SUMMARY:Confessions/Confesiones
DESCRIPTION:Lower church/Iglesia de abajo
URL:https://www.hrslawrence.org/event/confessions-confesiones-103/
END:VEVENT
BEGIN:VEVENT
DTSTART;TZID=America/New_York:20260115T200000
DTEND;TZID=America/New_York:20260115T200000
DTSTAMP:20260423T154903
CREATED:20260108T023841Z
LAST-MODIFIED:20260108T023841Z
UID:12081-1768507200-1768507200@www.hrslawrence.org
SUMMARY:Reunión del Grupo CERS
DESCRIPTION:Centro del santuario
URL:https://www.hrslawrence.org/event/reunion-del-grupo-cers-12/
END:VEVENT
BEGIN:VEVENT
DTSTART;TZID=America/New_York:20260115T200000
DTEND;TZID=America/New_York:20260115T200000
DTSTAMP:20260423T154903
CREATED:20260108T023847Z
LAST-MODIFIED:20260108T023847Z
UID:12080-1768507200-1768507200@www.hrslawrence.org
SUMMARY:Charismatic Prayer Group
DESCRIPTION:Lower church
URL:https://www.hrslawrence.org/event/charismatic-prayer-group-11/
END:VEVENT
BEGIN:VEVENT
DTSTART;TZID=America/New_York:20260116T100000
DTEND;TZID=America/New_York:20260116T150000
DTSTAMP:20260423T154903
CREATED:20260108T023834Z
LAST-MODIFIED:20260108T023834Z
UID:12083-1768557600-1768575600@www.hrslawrence.org
SUMMARY:Adoration/Adoración al Santísimo
DESCRIPTION:Upper church/Iglesia de arriba
URL:https://www.hrslawrence.org/event/adoration-adoracion-al-santisimo-10/
END:VEVENT
BEGIN:VEVENT
DTSTART;TZID=America/New_York:20260116T100000
DTEND;TZID=America/New_York:20260116T150000
DTSTAMP:20260423T154903
CREATED:20260108T023838Z
LAST-MODIFIED:20260108T023838Z
UID:12082-1768557600-1768575600@www.hrslawrence.org
SUMMARY:Confessions/Confesiones
DESCRIPTION:Upper church/Iglesia de arriba
URL:https://www.hrslawrence.org/event/confessions-confesiones-102/
END:VEVENT
BEGIN:VEVENT
DTSTART;TZID=America/New_York:20260117T100000
DTEND;TZID=America/New_York:20260117T154500
DTSTAMP:20260423T154903
CREATED:20260108T023831Z
LAST-MODIFIED:20260108T023831Z
UID:12084-1768644000-1768664700@www.hrslawrence.org
SUMMARY:Confessions/Confesiones
DESCRIPTION:Upper church/Iglesia de arriba
URL:https://www.hrslawrence.org/event/confessions-confesiones/
END:VEVENT
BEGIN:VEVENT
DTSTART;TZID=America/New_York:20260117T150000
DTEND;TZID=America/New_York:20260117T150000
DTSTAMP:20260423T154903
CREATED:20260108T023829Z
LAST-MODIFIED:20260108T023829Z
UID:12085-1768662000-1768662000@www.hrslawrence.org
SUMMARY:Choir Practice
DESCRIPTION:Upper church
URL:https://www.hrslawrence.org/event/choir-practice-8/
END:VEVENT
BEGIN:VEVENT
DTSTART;TZID=America/New_York:20260119T090000
DTEND;TZID=America/New_York:20260119T160000
DTSTAMP:20260423T154903
CREATED:20260108T024510Z
LAST-MODIFIED:20260108T024556Z
UID:12105-1768813200-1768838400@www.hrslawrence.org
SUMMARY:Retreat for Youth
DESCRIPTION:On Monday\, January 19th\, from 9am to 4pm\, there will be a day retreat for the youth. Mass at 2:00pm each day. We hope to also have Rosary\, talks\, games\, and Confessions\, and other activities . Lunch will be provided\, we hope\, by our generous volunteers. Please youth under 8 years old must be accompanied by parent/guardian throughout the event. \nOur Lady of Guadalupe and St. Francis\, pray for us!
URL:https://www.hrslawrence.org/event/retreat-for-youth/
END:VEVENT
BEGIN:VEVENT
DTSTART;TZID=America/New_York:20260119T190000
DTEND;TZID=America/New_York:20260119T190000
DTSTAMP:20260423T154903
CREATED:20260115T005646Z
LAST-MODIFIED:20260115T005646Z
UID:12138-1768849200-1768849200@www.hrslawrence.org
SUMMARY:Shrine Council Meeting
DESCRIPTION:Shrine center
URL:https://www.hrslawrence.org/event/shrine-council-meeting-9/
END:VEVENT
BEGIN:VEVENT
DTSTART;TZID=America/New_York:20260120T190000
DTEND;TZID=America/New_York:20260120T190000
DTSTAMP:20260423T154903
CREATED:20260115T005706Z
LAST-MODIFIED:20260115T005706Z
UID:12133-1768935600-1768935600@www.hrslawrence.org
SUMMARY:Curso Bíblico
DESCRIPTION:Centro del Santuario
URL:https://www.hrslawrence.org/event/curso-biblico-58/
END:VEVENT
BEGIN:VEVENT
DTSTART;TZID=America/New_York:20260121T190000
DTEND;TZID=America/New_York:20260121T190000
DTSTAMP:20260423T154903
CREATED:20260115T005656Z
LAST-MODIFIED:20260115T005656Z
UID:12136-1769022000-1769022000@www.hrslawrence.org
SUMMARY:Misa de la Virgen de la Altagracia
DESCRIPTION:Iglesia de arriba
URL:https://www.hrslawrence.org/event/misa-de-la-virgen-de-la-altagracia/
END:VEVENT
BEGIN:VEVENT
DTSTART;TZID=America/New_York:20260121T200000
DTEND;TZID=America/New_York:20260121T200000
DTSTAMP:20260423T154903
CREATED:20260115T005703Z
LAST-MODIFIED:20260115T005703Z
UID:12134-1769025600-1769025600@www.hrslawrence.org
SUMMARY:March for Life Meeting Departure
DESCRIPTION:Shrine center
URL:https://www.hrslawrence.org/event/march-for-life-meeting-departure/
END:VEVENT
BEGIN:VEVENT
DTSTART;TZID=America/New_York:20260122T100000
DTEND;TZID=America/New_York:20260122T100000
DTSTAMP:20260423T154903
CREATED:20260115T005700Z
LAST-MODIFIED:20260115T005700Z
UID:12135-1769076000-1769076000@www.hrslawrence.org
SUMMARY:Legión de María
DESCRIPTION:Iglesia de arriba
URL:https://www.hrslawrence.org/event/legion-de-maria-13/
END:VEVENT
END:VCALENDAR