BEGIN:VCALENDAR
VERSION:2.0
PRODID:-//Holy Rosary Shrine - ECPv6.15.20//NONSGML v1.0//EN
CALSCALE:GREGORIAN
METHOD:PUBLISH
X-WR-CALNAME:Holy Rosary Shrine
X-ORIGINAL-URL:https://www.hrslawrence.org
X-WR-CALDESC:Events for Holy Rosary Shrine
REFRESH-INTERVAL;VALUE=DURATION:PT1H
X-Robots-Tag:noindex
X-PUBLISHED-TTL:PT1H
BEGIN:VTIMEZONE
TZID:America/New_York
BEGIN:DAYLIGHT
TZOFFSETFROM:-0500
TZOFFSETTO:-0400
TZNAME:EDT
DTSTART:20240310T070000
END:DAYLIGHT
BEGIN:STANDARD
TZOFFSETFROM:-0400
TZOFFSETTO:-0500
TZNAME:EST
DTSTART:20241103T060000
END:STANDARD
BEGIN:DAYLIGHT
TZOFFSETFROM:-0500
TZOFFSETTO:-0400
TZNAME:EDT
DTSTART:20250309T070000
END:DAYLIGHT
BEGIN:STANDARD
TZOFFSETFROM:-0400
TZOFFSETTO:-0500
TZNAME:EST
DTSTART:20251102T060000
END:STANDARD
BEGIN:DAYLIGHT
TZOFFSETFROM:-0500
TZOFFSETTO:-0400
TZNAME:EDT
DTSTART:20260308T070000
END:DAYLIGHT
BEGIN:STANDARD
TZOFFSETFROM:-0400
TZOFFSETTO:-0500
TZNAME:EST
DTSTART:20261101T060000
END:STANDARD
END:VTIMEZONE
BEGIN:VEVENT
DTSTART;TZID=America/New_York:20251227T100000
DTEND;TZID=America/New_York:20251227T100000
DTSTAMP:20260423T190457
CREATED:20251218T031811Z
LAST-MODIFIED:20251218T031811Z
UID:11947-1766829600-1766829600@www.hrslawrence.org
SUMMARY:Baptism
DESCRIPTION:Upper church
URL:https://www.hrslawrence.org/event/baptism-3/
END:VEVENT
BEGIN:VEVENT
DTSTART;TZID=America/New_York:20251226T100000
DTEND;TZID=America/New_York:20251226T150000
DTSTAMP:20260423T190457
CREATED:20251218T031819Z
LAST-MODIFIED:20251218T031819Z
UID:11944-1766743200-1766761200@www.hrslawrence.org
SUMMARY:Confessions/Confesiones
DESCRIPTION:Upper church/Iglesia de arriba
URL:https://www.hrslawrence.org/event/confessions-confesiones-96/
END:VEVENT
BEGIN:VEVENT
DTSTART;TZID=America/New_York:20251226T100000
DTEND;TZID=America/New_York:20251226T150000
DTSTAMP:20260423T190457
CREATED:20251218T031816Z
LAST-MODIFIED:20251218T031816Z
UID:11945-1766743200-1766761200@www.hrslawrence.org
SUMMARY:Adoration/Adoración al Santísimo
DESCRIPTION:Upper chuurch/Iglesia de arriba
URL:https://www.hrslawrence.org/event/adoration-adoracion-al-santisimo-7/
END:VEVENT
BEGIN:VEVENT
DTSTART;VALUE=DATE:20251225
DTEND;VALUE=DATE:20251226
DTSTAMP:20260423T190457
CREATED:20251218T030259Z
LAST-MODIFIED:20251218T030259Z
UID:11940-1766620800-1766707199@www.hrslawrence.org
SUMMARY:Christmas Masses / Misas de Navidad
DESCRIPTION:Upper church / Iglesia de arriba \n10:00 AM English \n12:00 PM En Español
URL:https://www.hrslawrence.org/event/christmas-masses-misas-de-navidad/
END:VEVENT
BEGIN:VEVENT
DTSTART;TZID=America/New_York:20251224T220000
DTEND;TZID=America/New_York:20251224T220000
DTSTAMP:20260423T190457
CREATED:20251218T032302Z
LAST-MODIFIED:20251218T032302Z
UID:11967-1766613600-1766613600@www.hrslawrence.org
SUMMARY:"Midnight" Mass of Christmas -  Misa de Gallo de Navidad
DESCRIPTION:Upper church – Iglesia de arriba. \nBilingual
URL:https://www.hrslawrence.org/event/midnight-mass-of-christmas-misa-de-gallo-de-navidad/
END:VEVENT
BEGIN:VEVENT
DTSTART;TZID=America/New_York:20251224T160000
DTEND;TZID=America/New_York:20251224T160000
DTSTAMP:20260423T190457
CREATED:20251218T032306Z
LAST-MODIFIED:20251218T032306Z
UID:11952-1766592000-1766592000@www.hrslawrence.org
SUMMARY:Vigil Mass of Christmas
DESCRIPTION:Upper church – English
URL:https://www.hrslawrence.org/event/vigil-mass-of-christmas/
END:VEVENT
BEGIN:VEVENT
DTSTART;TZID=America/New_York:20251223T190000
DTEND;TZID=America/New_York:20251223T190000
DTSTAMP:20260423T190457
CREATED:20251218T031825Z
LAST-MODIFIED:20251218T031825Z
UID:11942-1766516400-1766516400@www.hrslawrence.org
SUMMARY:Curso Bíblico
DESCRIPTION:Centro del santuario
URL:https://www.hrslawrence.org/event/curso-biblico-52/
END:VEVENT
BEGIN:VEVENT
DTSTART;TZID=America/New_York:20251223T190000
DTEND;TZID=America/New_York:20251223T190000
DTSTAMP:20260423T190457
CREATED:20251218T031822Z
LAST-MODIFIED:20251218T031822Z
UID:11943-1766516400-1766516400@www.hrslawrence.org
SUMMARY:Baptism Class
DESCRIPTION:Upper church
URL:https://www.hrslawrence.org/event/baptism-class-4/
END:VEVENT
BEGIN:VEVENT
DTSTART;TZID=America/New_York:20251221T190000
DTEND;TZID=America/New_York:20251221T190000
DTSTAMP:20260423T190457
CREATED:20251211T031424Z
LAST-MODIFIED:20251211T031424Z
UID:11910-1766343600-1766343600@www.hrslawrence.org
SUMMARY:Christmas Play with Dinner/Obra de Navidad y Cena
DESCRIPTION:Shrine center/Centro del Santuario
URL:https://www.hrslawrence.org/event/christmas-play-with-dinner-obra-de-navidad-y-cena/
END:VEVENT
BEGIN:VEVENT
DTSTART;TZID=America/New_York:20251220T130000
DTEND;TZID=America/New_York:20251220T130000
DTSTAMP:20260423T190457
CREATED:20251211T031430Z
LAST-MODIFIED:20251211T031430Z
UID:11908-1766235600-1766235600@www.hrslawrence.org
SUMMARY:Clases de Bautismo
DESCRIPTION:Iglesia de arriba
URL:https://www.hrslawrence.org/event/clases-de-bautismo-8/
END:VEVENT
BEGIN:VEVENT
DTSTART;TZID=America/New_York:20251220T130000
DTEND;TZID=America/New_York:20251220T130000
DTSTAMP:20260423T190457
CREATED:20251211T031428Z
LAST-MODIFIED:20251211T031428Z
UID:11909-1766235600-1766235600@www.hrslawrence.org
SUMMARY:Choir Practice
DESCRIPTION:Upper church
URL:https://www.hrslawrence.org/event/choir-practice-5/
END:VEVENT
BEGIN:VEVENT
DTSTART;TZID=America/New_York:20251220T100000
DTEND;TZID=America/New_York:20251220T154500
DTSTAMP:20260423T190457
CREATED:20251211T031435Z
LAST-MODIFIED:20251211T031435Z
UID:11907-1766224800-1766245500@www.hrslawrence.org
SUMMARY:Confession/Confesiones
DESCRIPTION:Upper church/Iglesia de arriba
URL:https://www.hrslawrence.org/event/confession-confesiones/
END:VEVENT
BEGIN:VEVENT
DTSTART;TZID=America/New_York:20251219T100000
DTEND;TZID=America/New_York:20251219T150000
DTSTAMP:20260423T190457
CREATED:20251211T030819Z
LAST-MODIFIED:20251211T030819Z
UID:11894-1766138400-1766156400@www.hrslawrence.org
SUMMARY:Confessions/Confesiones
DESCRIPTION:Upper church/Iglesia de arriba
URL:https://www.hrslawrence.org/event/confessions-confesiones-93/
END:VEVENT
BEGIN:VEVENT
DTSTART;TZID=America/New_York:20251219T100000
DTEND;TZID=America/New_York:20251219T150000
DTSTAMP:20260423T190457
CREATED:20251211T030818Z
LAST-MODIFIED:20251211T030818Z
UID:11895-1766138400-1766156400@www.hrslawrence.org
SUMMARY:Adoration/Adoración al Santísimo
DESCRIPTION:Upper church/Iglesia de arriba
URL:https://www.hrslawrence.org/event/adoration-adoracion-al-santisimo-6/
END:VEVENT
BEGIN:VEVENT
DTSTART;TZID=America/New_York:20251218T200000
DTEND;TZID=America/New_York:20251218T200000
DTSTAMP:20260423T190457
CREATED:20251211T030829Z
LAST-MODIFIED:20251211T030829Z
UID:11893-1766088000-1766088000@www.hrslawrence.org
SUMMARY:Charismatic Prayer Group
DESCRIPTION:Lower church
URL:https://www.hrslawrence.org/event/charismatic-prayer-group-9/
END:VEVENT
BEGIN:VEVENT
DTSTART;TZID=America/New_York:20251218T200000
DTEND;TZID=America/New_York:20251218T200000
DTSTAMP:20260423T190457
CREATED:20251211T030823Z
LAST-MODIFIED:20251211T030823Z
UID:11892-1766088000-1766088000@www.hrslawrence.org
SUMMARY:Reunión del Grupo CERS
DESCRIPTION:Centro del santuario
URL:https://www.hrslawrence.org/event/reunion-del-grupo-cers-10/
END:VEVENT
BEGIN:VEVENT
DTSTART;TZID=America/New_York:20251218T180000
DTEND;TZID=America/New_York:20251218T184500
DTSTAMP:20260423T190457
CREATED:20251211T030835Z
LAST-MODIFIED:20251211T030835Z
UID:11890-1766080800-1766083500@www.hrslawrence.org
SUMMARY:Confessions/Confesiones
DESCRIPTION:Lower church / Iglesia de abajo
URL:https://www.hrslawrence.org/event/confessions-confesiones-94/
END:VEVENT
BEGIN:VEVENT
DTSTART;TZID=America/New_York:20251218T173000
DTEND;TZID=America/New_York:20251218T173000
DTSTAMP:20260423T190457
CREATED:20251211T030825Z
LAST-MODIFIED:20251211T030825Z
UID:11891-1766079000-1766079000@www.hrslawrence.org
SUMMARY:Curso Bíblico
DESCRIPTION:Centro del santuario
URL:https://www.hrslawrence.org/event/curso-biblico-50/
END:VEVENT
BEGIN:VEVENT
DTSTART;TZID=America/New_York:20251218T100000
DTEND;TZID=America/New_York:20251218T100000
DTSTAMP:20260423T190457
CREATED:20251211T030839Z
LAST-MODIFIED:20251211T030839Z
UID:11889-1766052000-1766052000@www.hrslawrence.org
SUMMARY:Legión de María
DESCRIPTION:Centro del santuario
URL:https://www.hrslawrence.org/event/legion-de-maria-11/
END:VEVENT
BEGIN:VEVENT
DTSTART;TZID=America/New_York:20251217T190000
DTEND;TZID=America/New_York:20251217T190000
DTSTAMP:20260423T190457
CREATED:20251211T030842Z
LAST-MODIFIED:20251211T030842Z
UID:11887-1765998000-1765998000@www.hrslawrence.org
SUMMARY:Holy Hour/Hora Santa
DESCRIPTION:Lower church/Iglesia de abajo
URL:https://www.hrslawrence.org/event/holy-hour-hora-santa-21/
END:VEVENT
BEGIN:VEVENT
DTSTART;TZID=America/New_York:20251216T190000
DTEND;TZID=America/New_York:20251216T190000
DTSTAMP:20260423T190457
CREATED:20251211T030848Z
LAST-MODIFIED:20251211T030848Z
UID:11886-1765911600-1765911600@www.hrslawrence.org
SUMMARY:Curso Bíblico
DESCRIPTION:Centro del santuario
URL:https://www.hrslawrence.org/event/curso-biblico-51/
END:VEVENT
BEGIN:VEVENT
DTSTART;TZID=America/New_York:20251216T173000
DTEND;TZID=America/New_York:20251216T173000
DTSTAMP:20260423T190457
CREATED:20251211T030837Z
LAST-MODIFIED:20251211T030837Z
UID:11888-1765906200-1765906200@www.hrslawrence.org
SUMMARY:Nativity Play Practice
DESCRIPTION:Shrine center
URL:https://www.hrslawrence.org/event/nativity-play-practice-2/
END:VEVENT
BEGIN:VEVENT
DTSTART;TZID=America/New_York:20251213T130000
DTEND;TZID=America/New_York:20251213T130000
DTSTAMP:20260423T190457
CREATED:20251204T030832Z
LAST-MODIFIED:20251204T030832Z
UID:11846-1765630800-1765630800@www.hrslawrence.org
SUMMARY:Choir Practice
DESCRIPTION:Upper church
URL:https://www.hrslawrence.org/event/choir-practice-4/
END:VEVENT
BEGIN:VEVENT
DTSTART;TZID=America/New_York:20251213T100000
DTEND;TZID=America/New_York:20251213T154500
DTSTAMP:20260423T190457
CREATED:20251204T030836Z
LAST-MODIFIED:20251204T030836Z
UID:11844-1765620000-1765640700@www.hrslawrence.org
SUMMARY:Confessions/Confesiones
DESCRIPTION:Upper church/Iglesia de arriba
URL:https://www.hrslawrence.org/event/confessions-confesiones-90/
END:VEVENT
BEGIN:VEVENT
DTSTART;TZID=America/New_York:20251212T183000
DTEND;TZID=America/New_York:20251212T210000
DTSTAMP:20260423T190457
CREATED:20251010T021202Z
LAST-MODIFIED:20251010T021202Z
UID:11456-1765564200-1765573200@www.hrslawrence.org
SUMMARY:Nuestra Señora de Guadalupe
DESCRIPTION:Holy Rosary Shrine Jubilee Events\n \n  \nFiesta de Nuestra Señora de Guadalupe. Serenata. Iglesia de arriba. \nFeast of Our Lady of Guadalupe. Serenata. Upper church
URL:https://www.hrslawrence.org/event/nuestra-seora-de-guadalupe/
END:VEVENT
BEGIN:VEVENT
DTSTART;TZID=America/New_York:20251212T100000
DTEND;TZID=America/New_York:20251212T150000
DTSTAMP:20260423T190457
CREATED:20251204T030840Z
LAST-MODIFIED:20251204T030840Z
UID:11842-1765533600-1765551600@www.hrslawrence.org
SUMMARY:Confessions/Confesiones
DESCRIPTION:Upper church/Iglesia de arriba
URL:https://www.hrslawrence.org/event/confessions-confesiones-91/
END:VEVENT
BEGIN:VEVENT
DTSTART;TZID=America/New_York:20251212T100000
DTEND;TZID=America/New_York:20251212T150000
DTSTAMP:20260423T190457
CREATED:20251204T030837Z
LAST-MODIFIED:20251204T030837Z
UID:11843-1765533600-1765551600@www.hrslawrence.org
SUMMARY:Adoration/Adoración al Santísimo
DESCRIPTION:Upper church/Iglesia de arriba
URL:https://www.hrslawrence.org/event/adoration-adoracion-al-santisimo-5/
END:VEVENT
BEGIN:VEVENT
DTSTART;TZID=America/New_York:20251211T200000
DTEND;TZID=America/New_York:20251211T200000
DTSTAMP:20260423T190457
CREATED:20251204T030845Z
LAST-MODIFIED:20251204T030845Z
UID:11840-1765483200-1765483200@www.hrslawrence.org
SUMMARY:Charismatic Prayer Group
DESCRIPTION:Lower church
URL:https://www.hrslawrence.org/event/charismatic-prayer-group-8/
END:VEVENT
BEGIN:VEVENT
DTSTART;TZID=America/New_York:20251211T200000
DTEND;TZID=America/New_York:20251211T200000
DTSTAMP:20260423T190457
CREATED:20251204T030842Z
LAST-MODIFIED:20251204T030842Z
UID:11841-1765483200-1765483200@www.hrslawrence.org
SUMMARY:Reunión del Grupo CERS
DESCRIPTION:Centro del santuario
URL:https://www.hrslawrence.org/event/reunion-del-grupo-cers-9/
END:VEVENT
BEGIN:VEVENT
DTSTART;TZID=America/New_York:20251211T180000
DTEND;TZID=America/New_York:20251211T184500
DTSTAMP:20260423T190457
CREATED:20251204T030848Z
LAST-MODIFIED:20251204T030848Z
UID:11839-1765476000-1765478700@www.hrslawrence.org
SUMMARY:Confessions/Confesiones
DESCRIPTION:Lower church/Iglesia de abajo
URL:https://www.hrslawrence.org/event/confessions-confesiones-92/
END:VEVENT
END:VCALENDAR