BEGIN:VCALENDAR
VERSION:2.0
PRODID:-//Holy Rosary Shrine - ECPv6.15.20//NONSGML v1.0//EN
CALSCALE:GREGORIAN
METHOD:PUBLISH
X-WR-CALNAME:Holy Rosary Shrine
X-ORIGINAL-URL:https://www.hrslawrence.org
X-WR-CALDESC:Events for Holy Rosary Shrine
REFRESH-INTERVAL;VALUE=DURATION:PT1H
X-Robots-Tag:noindex
X-PUBLISHED-TTL:PT1H
BEGIN:VTIMEZONE
TZID:America/New_York
BEGIN:DAYLIGHT
TZOFFSETFROM:-0500
TZOFFSETTO:-0400
TZNAME:EDT
DTSTART:20250309T070000
END:DAYLIGHT
BEGIN:STANDARD
TZOFFSETFROM:-0400
TZOFFSETTO:-0500
TZNAME:EST
DTSTART:20251102T060000
END:STANDARD
BEGIN:DAYLIGHT
TZOFFSETFROM:-0500
TZOFFSETTO:-0400
TZNAME:EDT
DTSTART:20260308T070000
END:DAYLIGHT
BEGIN:STANDARD
TZOFFSETFROM:-0400
TZOFFSETTO:-0500
TZNAME:EST
DTSTART:20261101T060000
END:STANDARD
BEGIN:DAYLIGHT
TZOFFSETFROM:-0500
TZOFFSETTO:-0400
TZNAME:EDT
DTSTART:20270314T070000
END:DAYLIGHT
BEGIN:STANDARD
TZOFFSETFROM:-0400
TZOFFSETTO:-0500
TZNAME:EST
DTSTART:20271107T060000
END:STANDARD
END:VTIMEZONE
BEGIN:VEVENT
DTSTART;TZID=America/New_York:20260321T083000
DTEND;TZID=America/New_York:20260322T083000
DTSTAMP:20260423T142147
CREATED:20260312T012739Z
LAST-MODIFIED:20260312T012739Z
UID:12617-1774081800-1774168200@www.hrslawrence.org
SUMMARY:Teen Discernment Day
DESCRIPTION:Upper church\, shrine center\, lower church.
URL:https://www.hrslawrence.org/event/teen-discernment-day/
END:VEVENT
BEGIN:VEVENT
DTSTART;TZID=America/New_York:20260321T100000
DTEND;TZID=America/New_York:20260321T154500
DTSTAMP:20260423T142147
CREATED:20260312T012730Z
LAST-MODIFIED:20260312T012730Z
UID:12618-1774087200-1774107900@www.hrslawrence.org
SUMMARY:Confessions / Confesiones
DESCRIPTION:Upper church / Iglesia de arriba
URL:https://www.hrslawrence.org/event/confessions-confesiones-127/
END:VEVENT
BEGIN:VEVENT
DTSTART;TZID=America/New_York:20260321T143000
DTEND;TZID=America/New_York:20260321T143000
DTSTAMP:20260423T142147
CREATED:20260312T012725Z
LAST-MODIFIED:20260312T012725Z
UID:12620-1774103400-1774103400@www.hrslawrence.org
SUMMARY:BVM Meeting
DESCRIPTION:Shrine center
URL:https://www.hrslawrence.org/event/bvm-meeting-5/
END:VEVENT
BEGIN:VEVENT
DTSTART;TZID=America/New_York:20260321T150000
DTEND;TZID=America/New_York:20260321T150000
DTSTAMP:20260423T142147
CREATED:20260312T012728Z
LAST-MODIFIED:20260312T012728Z
UID:12619-1774105200-1774105200@www.hrslawrence.org
SUMMARY:Choir Practice
DESCRIPTION:Upper church
URL:https://www.hrslawrence.org/event/choir-practice-17/
END:VEVENT
BEGIN:VEVENT
DTSTART;TZID=America/New_York:20260323T190000
DTEND;TZID=America/New_York:20260323T190000
DTSTAMP:20260423T142147
CREATED:20260319T013754Z
LAST-MODIFIED:20260319T013754Z
UID:12656-1774292400-1774292400@www.hrslawrence.org
SUMMARY:Shrine Council
DESCRIPTION:Shrine center
URL:https://www.hrslawrence.org/event/shrine-council/
END:VEVENT
BEGIN:VEVENT
DTSTART;TZID=America/New_York:20260324T080000
DTEND;TZID=America/New_York:20260324T080000
DTSTAMP:20260423T142147
CREATED:20260319T013751Z
LAST-MODIFIED:20260319T013751Z
UID:12657-1774339200-1774339200@www.hrslawrence.org
SUMMARY:Holy Face Devotion
DESCRIPTION:Upper church
URL:https://www.hrslawrence.org/event/holy-face-devotion-3/
END:VEVENT
BEGIN:VEVENT
DTSTART;TZID=America/New_York:20260324T190000
DTEND;TZID=America/New_York:20260324T190000
DTSTAMP:20260423T142147
CREATED:20260319T013747Z
LAST-MODIFIED:20260319T013747Z
UID:12658-1774378800-1774378800@www.hrslawrence.org
SUMMARY:Baptism Class
DESCRIPTION:Upper church
URL:https://www.hrslawrence.org/event/baptism-class-5/
END:VEVENT
BEGIN:VEVENT
DTSTART;TZID=America/New_York:20260325T190000
DTEND;TZID=America/New_York:20260325T190000
DTSTAMP:20260423T142147
CREATED:20260319T013741Z
LAST-MODIFIED:20260319T013741Z
UID:12659-1774465200-1774465200@www.hrslawrence.org
SUMMARY:Emaús Prayer Group - Men
DESCRIPTION:Shrine center
URL:https://www.hrslawrence.org/event/emaus-prayer-group-men-4/
END:VEVENT
BEGIN:VEVENT
DTSTART;TZID=America/New_York:20260326T100000
DTEND;TZID=America/New_York:20260326T100000
DTSTAMP:20260423T142147
CREATED:20260319T013738Z
LAST-MODIFIED:20260319T013738Z
UID:12660-1774519200-1774519200@www.hrslawrence.org
SUMMARY:Legión de María
DESCRIPTION:Iglesia de abajo
URL:https://www.hrslawrence.org/event/legion-de-maria-22/
END:VEVENT
BEGIN:VEVENT
DTSTART;TZID=America/New_York:20260326T173000
DTEND;TZID=America/New_York:20260326T173000
DTSTAMP:20260423T142147
CREATED:20260319T013734Z
LAST-MODIFIED:20260319T013734Z
UID:12661-1774546200-1774546200@www.hrslawrence.org
SUMMARY:Curso Bíblico
DESCRIPTION:Centro del santuario
URL:https://www.hrslawrence.org/event/curso-biblico-6/
END:VEVENT
BEGIN:VEVENT
DTSTART;TZID=America/New_York:20260326T180000
DTEND;TZID=America/New_York:20260326T180000
DTSTAMP:20260423T142147
CREATED:20260319T013726Z
LAST-MODIFIED:20260319T013726Z
UID:12663-1774548000-1774548000@www.hrslawrence.org
SUMMARY:Viacrucis
DESCRIPTION:Iglesia de abajo – Curso Bíblico
URL:https://www.hrslawrence.org/event/viacrucis/
END:VEVENT
BEGIN:VEVENT
DTSTART;TZID=America/New_York:20260326T180000
DTEND;TZID=America/New_York:20260326T184500
DTSTAMP:20260423T142147
CREATED:20260319T013729Z
LAST-MODIFIED:20260319T013729Z
UID:12662-1774548000-1774550700@www.hrslawrence.org
SUMMARY:Confessions / Confesiones
DESCRIPTION:Lower church / Iglesia de abajo
URL:https://www.hrslawrence.org/event/confessions-confesiones-132/
END:VEVENT
BEGIN:VEVENT
DTSTART;TZID=America/New_York:20260326T200000
DTEND;TZID=America/New_York:20260326T200000
DTSTAMP:20260423T142147
CREATED:20260319T013718Z
LAST-MODIFIED:20260319T013718Z
UID:12665-1774555200-1774555200@www.hrslawrence.org
SUMMARY:Reunión del Grupo CERS
DESCRIPTION:Shrine center
URL:https://www.hrslawrence.org/event/reunion-del-grupo-cers-22/
END:VEVENT
BEGIN:VEVENT
DTSTART;TZID=America/New_York:20260326T200000
DTEND;TZID=America/New_York:20260326T200000
DTSTAMP:20260423T142147
CREATED:20260319T013723Z
LAST-MODIFIED:20260319T013723Z
UID:12664-1774555200-1774555200@www.hrslawrence.org
SUMMARY:Charismatic Prayer Group
DESCRIPTION:Lower church
URL:https://www.hrslawrence.org/event/charismatic-prayer-group-20/
END:VEVENT
BEGIN:VEVENT
DTSTART;TZID=America/New_York:20260327T100000
DTEND;TZID=America/New_York:20260327T150000
DTSTAMP:20260423T142147
CREATED:20260319T013712Z
LAST-MODIFIED:20260319T013712Z
UID:12667-1774605600-1774623600@www.hrslawrence.org
SUMMARY:Adoration / Adoración al Santísimo
DESCRIPTION:Upper church / Iglesia de arriba
URL:https://www.hrslawrence.org/event/adoration-adoracion-al-santisimo-20/
END:VEVENT
BEGIN:VEVENT
DTSTART;TZID=America/New_York:20260327T100000
DTEND;TZID=America/New_York:20260327T150000
DTSTAMP:20260423T142147
CREATED:20260319T013714Z
LAST-MODIFIED:20260319T013714Z
UID:12666-1774605600-1774623600@www.hrslawrence.org
SUMMARY:Confessions / Confesiones
DESCRIPTION:Upper church / Iglesia de arriba
URL:https://www.hrslawrence.org/event/confessions-confesiones-131/
END:VEVENT
BEGIN:VEVENT
DTSTART;TZID=America/New_York:20260327T190000
DTEND;TZID=America/New_York:20260327T190000
DTSTAMP:20260423T142147
CREATED:20260319T013709Z
LAST-MODIFIED:20260319T013709Z
UID:12668-1774638000-1774638000@www.hrslawrence.org
SUMMARY:Stations of the Cross
DESCRIPTION:Lower church – St Alfio Society
URL:https://www.hrslawrence.org/event/stations-of-the-cross-2/
END:VEVENT
BEGIN:VEVENT
DTSTART;TZID=America/New_York:20260328T100000
DTEND;TZID=America/New_York:20260328T154500
DTSTAMP:20260423T142147
CREATED:20260319T013706Z
LAST-MODIFIED:20260319T013706Z
UID:12669-1774692000-1774712700@www.hrslawrence.org
SUMMARY:Confessions / Confesiones
DESCRIPTION:Upper church / Iglesia de arriba
URL:https://www.hrslawrence.org/event/confessions-confesiones-130/
END:VEVENT
BEGIN:VEVENT
DTSTART;TZID=America/New_York:20260328T150000
DTEND;TZID=America/New_York:20260328T150000
DTSTAMP:20260423T142147
CREATED:20260319T013703Z
LAST-MODIFIED:20260319T013703Z
UID:12670-1774710000-1774710000@www.hrslawrence.org
SUMMARY:Choir Practice
DESCRIPTION:Upper church
URL:https://www.hrslawrence.org/event/choir-practice-18/
END:VEVENT
BEGIN:VEVENT
DTSTART;VALUE=DATE:20260329
DTEND;VALUE=DATE:20260406
DTSTAMP:20260423T142147
CREATED:20260319T014933Z
LAST-MODIFIED:20260328T031432Z
UID:12689-1774742400-1775433599@www.hrslawrence.org
SUMMARY:Holy Week Schedule
DESCRIPTION:Holy Week Schedule\n \n\nVigil Saturday and Palm Sunday – Masses as Usual\nMonday – Mass as Usual 12:05pm\nTuesday – ***SPECIAL MASS TIME 8:00AM*** (Due to Chrism Mass)\nWednesday\nMass as Usual 12:05pm\nTenebrae Service 7:00pm Upper Church\nHoly Thursday\n7:00pm Mass of the Lord’s Supper – Bilingual (No confessions or Stations of the Cross)\n8:00pm Silent Adoration – 9:45pm Night Prayer\nGood Friday\nNo Confessions\, Adoration\, Mass or Stations of the Cross\n3:00pm Passion Services (English) and 6:00pm (Spanish)\nHoly Saturday\n8:00pm Easter Vigil Mass (All nine readings\, several languages)\nConfessions available 10:00am to 4:00pm (No 4:00pm Mass)\nEaster Sunday – Mass Times as Usual
URL:https://www.hrslawrence.org/event/holy-week-schedule/
CATEGORIES:Holy Week 2026
END:VEVENT
BEGIN:VEVENT
DTSTART;TZID=America/New_York:20260329T111500
DTEND;TZID=America/New_York:20260329T111500
DTSTAMP:20260423T142147
CREATED:20260319T013700Z
LAST-MODIFIED:20260319T013700Z
UID:12671-1774782900-1774782900@www.hrslawrence.org
SUMMARY:Tau Maria Meeting
DESCRIPTION:Shrine center
URL:https://www.hrslawrence.org/event/tau-maria-meeting/
END:VEVENT
BEGIN:VEVENT
DTSTART;TZID=America/New_York:20260331T080000
DTEND;TZID=America/New_York:20260331T080000
DTSTAMP:20260423T142147
CREATED:20260326T020527Z
LAST-MODIFIED:20260326T022146Z
UID:12725-1774944000-1774944000@www.hrslawrence.org
SUMMARY:Holy Face Devotion
DESCRIPTION:After 8:00am mass service. Upper church
URL:https://www.hrslawrence.org/event/holy-face-devotion-4/
END:VEVENT
BEGIN:VEVENT
DTSTART;TZID=America/New_York:20260331T190000
DTEND;TZID=America/New_York:20260331T190000
DTSTAMP:20260423T142147
CREATED:20260326T020535Z
LAST-MODIFIED:20260326T020535Z
UID:12722-1774983600-1774983600@www.hrslawrence.org
SUMMARY:Curso Bíblico
DESCRIPTION:Centro del santuario
URL:https://www.hrslawrence.org/event/curso-biblico-7/
END:VEVENT
BEGIN:VEVENT
DTSTART;TZID=America/New_York:20260401T190000
DTEND;TZID=America/New_York:20260401T190000
DTSTAMP:20260423T142147
CREATED:20260326T020530Z
LAST-MODIFIED:20260328T031430Z
UID:12723-1775070000-1775070000@www.hrslawrence.org
SUMMARY:Tenebrae Service
DESCRIPTION:Bilingual service / Misa bilingüe \nUpper church / Iglesia de arriba
URL:https://www.hrslawrence.org/event/tenebrae-service-2/
CATEGORIES:Holy Week 2026
END:VEVENT
BEGIN:VEVENT
DTSTART;VALUE=DATE:20260402
DTEND;VALUE=DATE:20260403
DTSTAMP:20260423T142147
CREATED:20260326T020817Z
LAST-MODIFIED:20260328T031427Z
UID:12737-1775088000-1775174399@www.hrslawrence.org
SUMMARY:Holy Thursday - Jueves Santo
DESCRIPTION:Holy Week Schedule\n \n\nHoly Thursday / Jueves Santo\nNo confessions or Stations of the Cross/No habrá confesiones ni via crucis\n7:00pm Mass of the Lord’s Supper/Misa de la Última Cena – Bilingual\n8:00pm Silent Adoration / Adoración en silencio\n9:45pm Night Prayer / Oración nocturna
URL:https://www.hrslawrence.org/event/holy-thursday-2/
CATEGORIES:Holy Week 2026
END:VEVENT
BEGIN:VEVENT
DTSTART;VALUE=DATE:20260403
DTEND;VALUE=DATE:20260404
DTSTAMP:20260423T142147
CREATED:20260326T021900Z
LAST-MODIFIED:20260328T031425Z
UID:12726-1775174400-1775260799@www.hrslawrence.org
SUMMARY:Good Friday - Viernes Santo
DESCRIPTION:Holy Week Schedule\n \n\nGood Friday / Viernes Santo\nNo Confessions\, Adoration\, Mass or Stations of the Cross\n3:00pm Passion Services (English)\nNo habrá confesiones\, ni adoración al santísimo\, ni rosario\n6:00pm Misa de la Pasión de Nuestro Señor  (Spanish)
URL:https://www.hrslawrence.org/event/good-friday-viernes-santo/
CATEGORIES:Holy Week 2026
END:VEVENT
BEGIN:VEVENT
DTSTART;VALUE=DATE:20260404
DTEND;VALUE=DATE:20260405
DTSTAMP:20260423T142147
CREATED:20260326T021846Z
LAST-MODIFIED:20260328T031423Z
UID:12729-1775260800-1775347199@www.hrslawrence.org
SUMMARY:Holy Saturday - Sábado Santo
DESCRIPTION:Holy Week Schedule\n \n\nHoly Saturday / Sábado Santo\n8:00pm Easter Vigil Mass (All nine readings\, several languages)\n8:00pm Misa de Vigilia de Pascua (Nueve lecturas en varios idiomas incluyendo Español)\nConfessions available 10:00am to 4:00pm (No 4:00pm Mass)
URL:https://www.hrslawrence.org/event/holy-saturday-sabado-santo/
CATEGORIES:Holy Week 2026
END:VEVENT
BEGIN:VEVENT
DTSTART;TZID=America/New_York:20260404T100000
DTEND;TZID=America/New_York:20260404T160000
DTSTAMP:20260423T142147
CREATED:20260326T021856Z
LAST-MODIFIED:20260328T031417Z
UID:12727-1775296800-1775318400@www.hrslawrence.org
SUMMARY:Confessions / Confesiones
DESCRIPTION:Upper church / Iglesia de arriba
URL:https://www.hrslawrence.org/event/confessions-confesiones-133/
CATEGORIES:Holy Week 2026
END:VEVENT
BEGIN:VEVENT
DTSTART;TZID=America/New_York:20260404T160000
DTEND;TZID=America/New_York:20260404T160000
DTSTAMP:20260423T142147
CREATED:20260326T021852Z
LAST-MODIFIED:20260326T021852Z
UID:12728-1775318400-1775318400@www.hrslawrence.org
SUMMARY:Blessing of Easter Food / Bendición de la Comida de Pascua
DESCRIPTION:Upper church / Iglesia de arriba
URL:https://www.hrslawrence.org/event/blessing-of-easter-food-bendicion-de-la-comida-de-pascua/
END:VEVENT
BEGIN:VEVENT
DTSTART;VALUE=DATE:20260406
DTEND;VALUE=DATE:20260407
DTSTAMP:20260423T142147
CREATED:20260402T015332Z
LAST-MODIFIED:20260402T015629Z
UID:12772-1775433600-1775519999@www.hrslawrence.org
SUMMARY:Office Closed - Oficina Cerrada
DESCRIPTION:The shrine office will be closed for the day / La oficina del santuario estará cerrada todo el día.
URL:https://www.hrslawrence.org/event/office-closed-oficina-cerrada-2/
END:VEVENT
END:VCALENDAR