BEGIN:VCALENDAR
VERSION:2.0
PRODID:-//Holy Rosary Shrine - ECPv6.15.20//NONSGML v1.0//EN
CALSCALE:GREGORIAN
METHOD:PUBLISH
X-WR-CALNAME:Holy Rosary Shrine
X-ORIGINAL-URL:https://www.hrslawrence.org
X-WR-CALDESC:Events for Holy Rosary Shrine
REFRESH-INTERVAL;VALUE=DURATION:PT1H
X-Robots-Tag:noindex
X-PUBLISHED-TTL:PT1H
BEGIN:VTIMEZONE
TZID:America/New_York
BEGIN:DAYLIGHT
TZOFFSETFROM:-0500
TZOFFSETTO:-0400
TZNAME:EDT
DTSTART:20250309T070000
END:DAYLIGHT
BEGIN:STANDARD
TZOFFSETFROM:-0400
TZOFFSETTO:-0500
TZNAME:EST
DTSTART:20251102T060000
END:STANDARD
BEGIN:DAYLIGHT
TZOFFSETFROM:-0500
TZOFFSETTO:-0400
TZNAME:EDT
DTSTART:20260308T070000
END:DAYLIGHT
BEGIN:STANDARD
TZOFFSETFROM:-0400
TZOFFSETTO:-0500
TZNAME:EST
DTSTART:20261101T060000
END:STANDARD
BEGIN:DAYLIGHT
TZOFFSETFROM:-0500
TZOFFSETTO:-0400
TZNAME:EDT
DTSTART:20270314T070000
END:DAYLIGHT
BEGIN:STANDARD
TZOFFSETFROM:-0400
TZOFFSETTO:-0500
TZNAME:EST
DTSTART:20271107T060000
END:STANDARD
END:VTIMEZONE
BEGIN:VEVENT
DTSTART;VALUE=DATE:20260406
DTEND;VALUE=DATE:20260407
DTSTAMP:20260423T134033
CREATED:20260402T015332Z
LAST-MODIFIED:20260402T015629Z
UID:12772-1775433600-1775519999@www.hrslawrence.org
SUMMARY:Office Closed - Oficina Cerrada
DESCRIPTION:The shrine office will be closed for the day / La oficina del santuario estará cerrada todo el día.
URL:https://www.hrslawrence.org/event/office-closed-oficina-cerrada-2/
END:VEVENT
BEGIN:VEVENT
DTSTART;TZID=America/New_York:20260407T080000
DTEND;TZID=America/New_York:20260407T080000
DTSTAMP:20260423T134033
CREATED:20260402T015335Z
LAST-MODIFIED:20260402T015335Z
UID:12771-1775548800-1775548800@www.hrslawrence.org
SUMMARY:Holy Face Devotion
DESCRIPTION:Upper church
URL:https://www.hrslawrence.org/event/holy-face-devotion-5/
END:VEVENT
BEGIN:VEVENT
DTSTART;TZID=America/New_York:20260407T190000
DTEND;TZID=America/New_York:20260407T190000
DTSTAMP:20260423T134033
CREATED:20260402T015329Z
LAST-MODIFIED:20260402T015329Z
UID:12773-1775588400-1775588400@www.hrslawrence.org
SUMMARY:Curso Bíblico
DESCRIPTION:Centro del santuario
URL:https://www.hrslawrence.org/event/curso-biblico-9/
END:VEVENT
BEGIN:VEVENT
DTSTART;TZID=America/New_York:20260408T190000
DTEND;TZID=America/New_York:20260408T190000
DTSTAMP:20260423T134033
CREATED:20260402T015326Z
LAST-MODIFIED:20260402T015326Z
UID:12775-1775674800-1775674800@www.hrslawrence.org
SUMMARY:Emaús Prayer Group - Men
DESCRIPTION:Shrine center
URL:https://www.hrslawrence.org/event/emaus-prayer-group-men-5/
END:VEVENT
BEGIN:VEVENT
DTSTART;TZID=America/New_York:20260409T100000
DTEND;TZID=America/New_York:20260409T100000
DTSTAMP:20260423T134033
CREATED:20260402T015322Z
LAST-MODIFIED:20260402T015322Z
UID:12776-1775728800-1775728800@www.hrslawrence.org
SUMMARY:Legión de María
DESCRIPTION:Iglesia de abajo
URL:https://www.hrslawrence.org/event/legion-de-maria-23/
END:VEVENT
BEGIN:VEVENT
DTSTART;TZID=America/New_York:20260409T173000
DTEND;TZID=America/New_York:20260409T173000
DTSTAMP:20260423T134033
CREATED:20260402T015317Z
LAST-MODIFIED:20260402T015317Z
UID:12778-1775755800-1775755800@www.hrslawrence.org
SUMMARY:Curso Bíblico
DESCRIPTION:Centro del santuario
URL:https://www.hrslawrence.org/event/curso-biblico-8/
END:VEVENT
BEGIN:VEVENT
DTSTART;TZID=America/New_York:20260409T180000
DTEND;TZID=America/New_York:20260409T184500
DTSTAMP:20260423T134033
CREATED:20260402T015319Z
LAST-MODIFIED:20260402T015319Z
UID:12777-1775757600-1775760300@www.hrslawrence.org
SUMMARY:Confessions - Confesiones
DESCRIPTION:Lower church / Iglesia de abajo
URL:https://www.hrslawrence.org/event/confessions-confesiones-136/
END:VEVENT
BEGIN:VEVENT
DTSTART;TZID=America/New_York:20260409T200000
DTEND;TZID=America/New_York:20260409T200000
DTSTAMP:20260423T134033
CREATED:20260402T015309Z
LAST-MODIFIED:20260402T015309Z
UID:12780-1775764800-1775764800@www.hrslawrence.org
SUMMARY:Charismatic Prayer Group
DESCRIPTION:Lower church
URL:https://www.hrslawrence.org/event/charismatic-prayer-group-21/
END:VEVENT
BEGIN:VEVENT
DTSTART;TZID=America/New_York:20260409T200000
DTEND;TZID=America/New_York:20260409T200000
DTSTAMP:20260423T134033
CREATED:20260402T015313Z
LAST-MODIFIED:20260402T015313Z
UID:12779-1775764800-1775764800@www.hrslawrence.org
SUMMARY:Reunión del Grupo CERS
DESCRIPTION:Centro del santuario
URL:https://www.hrslawrence.org/event/reunion-del-grupo-cers-23/
END:VEVENT
BEGIN:VEVENT
DTSTART;TZID=America/New_York:20260410T100000
DTEND;TZID=America/New_York:20260410T150000
DTSTAMP:20260423T134033
CREATED:20260402T015304Z
LAST-MODIFIED:20260402T015304Z
UID:12782-1775815200-1775833200@www.hrslawrence.org
SUMMARY:Adoration - Adoración al Santísimo
DESCRIPTION:Upper church / Iglesia de arriba
URL:https://www.hrslawrence.org/event/adoration-adoracion-al-santisimo-21/
END:VEVENT
BEGIN:VEVENT
DTSTART;TZID=America/New_York:20260410T100000
DTEND;TZID=America/New_York:20260410T150000
DTSTAMP:20260423T134033
CREATED:20260402T015307Z
LAST-MODIFIED:20260402T015307Z
UID:12781-1775815200-1775833200@www.hrslawrence.org
SUMMARY:Confessions - Confesiones
DESCRIPTION:Upper church – Iglesia de arriba
URL:https://www.hrslawrence.org/event/confessions-confesiones-135/
END:VEVENT
BEGIN:VEVENT
DTSTART;TZID=America/New_York:20260410T170000
DTEND;TZID=America/New_York:20260410T170000
DTSTAMP:20260423T134033
CREATED:20260402T015301Z
LAST-MODIFIED:20260402T015301Z
UID:12783-1775840400-1775840400@www.hrslawrence.org
SUMMARY:Sagrado Corazón de Jesús
DESCRIPTION:Iglesia de abajo
URL:https://www.hrslawrence.org/event/sagrado-corazon-de-jesus-7/
END:VEVENT
BEGIN:VEVENT
DTSTART;TZID=America/New_York:20260411T100000
DTEND;TZID=America/New_York:20260411T100000
DTSTAMP:20260423T134033
CREATED:20260402T015258Z
LAST-MODIFIED:20260402T015258Z
UID:12784-1775901600-1775901600@www.hrslawrence.org
SUMMARY:BVM Day of Reflection
DESCRIPTION:Shrine center
URL:https://www.hrslawrence.org/event/bvm-day-of-reflection/
END:VEVENT
BEGIN:VEVENT
DTSTART;TZID=America/New_York:20260411T100000
DTEND;TZID=America/New_York:20260411T150000
DTSTAMP:20260423T134033
CREATED:20260402T015256Z
LAST-MODIFIED:20260402T015256Z
UID:12785-1775901600-1775919600@www.hrslawrence.org
SUMMARY:Confessions - Confesiones
DESCRIPTION:Upper church / Iglesia de arriba
URL:https://www.hrslawrence.org/event/confessions-confesiones-134/
END:VEVENT
BEGIN:VEVENT
DTSTART;TZID=America/New_York:20260411T150000
DTEND;TZID=America/New_York:20260411T150000
DTSTAMP:20260423T134033
CREATED:20260402T015254Z
LAST-MODIFIED:20260402T015254Z
UID:12786-1775919600-1775919600@www.hrslawrence.org
SUMMARY:Choir Practice
DESCRIPTION:Upper church
URL:https://www.hrslawrence.org/event/choir-practice-19/
END:VEVENT
BEGIN:VEVENT
DTSTART;TZID=America/New_York:20260412T110000
DTEND;TZID=America/New_York:20260412T110000
DTSTAMP:20260423T134033
CREATED:20260402T020418Z
LAST-MODIFIED:20260402T020418Z
UID:12802-1775991600-1775991600@www.hrslawrence.org
SUMMARY:Meet and Greet
DESCRIPTION:Shrine center
URL:https://www.hrslawrence.org/event/meet-and-greet/
END:VEVENT
BEGIN:VEVENT
DTSTART;TZID=America/New_York:20260412T133000
DTEND;TZID=America/New_York:20260412T133000
DTSTAMP:20260423T134033
CREATED:20260402T020404Z
LAST-MODIFIED:20260402T020404Z
UID:12803-1776000600-1776000600@www.hrslawrence.org
SUMMARY:Divine Mercy Services - Servicios de la Divina Misericordia
DESCRIPTION:Schedule for Mercy Sunday\, April 12th\, 2026\n\n1:30pm – Exposition of the Blessed Sacrament (Confessions Available)\n– Singing of the Divine Mercy Chaplet in Spanish\n2:00pm – Rosary in Spanish (Glorious Mysteries)\n2:30pm – Silence\n2:45pm – Song\, Brief Reflection\n3:00pm – Singing of the Chaplet in English\n3:30pm – Silence\n3:45pm – Rosary in English (Glorious Mysteries)\n4:15pm – Closing Benediction\n\nHorario para el Domingo de la Misericordia 12 de abril de 2026\n\n1:30pm – Exposición del Santísimo Sacramento (confesiones disponibles)\n– Canto de la Coronilla de la Divina Misericordia en Español\n2:00pm – Rosario en Español (Misterios Gloriosos)\n2:30pm – Silencio\n2:45pm – Canción\, breve reflexión\n3:00pm – Canto de la Coronilla en inglés\n3:30pm – Silencio\n3:45pm – Rosario en inglés (Misterios Gloriosos)\n4:15pm – Bendición de clausura
URL:https://www.hrslawrence.org/event/divine-mercy-services-servicios-de-la-divina-misericordia/
END:VEVENT
BEGIN:VEVENT
DTSTART;TZID=America/New_York:20260412T170000
DTEND;TZID=America/New_York:20260412T170000
DTSTAMP:20260423T134033
CREATED:20260402T020959Z
LAST-MODIFIED:20260402T020959Z
UID:12804-1776013200-1776013200@www.hrslawrence.org
SUMMARY:Portuguese Penny Sale
DESCRIPTION:Shrine center
URL:https://www.hrslawrence.org/event/portuguese-penny-sale/
END:VEVENT
BEGIN:VEVENT
DTSTART;TZID=America/New_York:20260413T190000
DTEND;TZID=America/New_York:20260413T190000
DTSTAMP:20260423T134033
CREATED:20260409T021537Z
LAST-MODIFIED:20260409T021537Z
UID:12840-1776106800-1776106800@www.hrslawrence.org
SUMMARY:Emaús Prayer Group - Women
DESCRIPTION:Shrine center
URL:https://www.hrslawrence.org/event/emaus-prayer-group-women/
END:VEVENT
BEGIN:VEVENT
DTSTART;TZID=America/New_York:20260414T073000
DTEND;TZID=America/New_York:20260414T073000
DTSTAMP:20260423T134033
CREATED:20260409T021534Z
LAST-MODIFIED:20260409T021534Z
UID:12841-1776151800-1776151800@www.hrslawrence.org
SUMMARY:Radio Católica - Hora Santa
DESCRIPTION:Iglesia de abajo
URL:https://www.hrslawrence.org/event/radio-catolica-hora-santa/
END:VEVENT
BEGIN:VEVENT
DTSTART;TZID=America/New_York:20260414T080000
DTEND;TZID=America/New_York:20260414T080000
DTSTAMP:20260423T134033
CREATED:20260409T021530Z
LAST-MODIFIED:20260409T021530Z
UID:12842-1776153600-1776153600@www.hrslawrence.org
SUMMARY:Holy Face Devotion
DESCRIPTION:Upper church
URL:https://www.hrslawrence.org/event/holy-face-devotion-6/
END:VEVENT
BEGIN:VEVENT
DTSTART;TZID=America/New_York:20260414T190000
DTEND;TZID=America/New_York:20260414T190000
DTSTAMP:20260423T134033
CREATED:20260409T021526Z
LAST-MODIFIED:20260409T021526Z
UID:12843-1776193200-1776193200@www.hrslawrence.org
SUMMARY:St Anthony Novena
DESCRIPTION:Upper church
URL:https://www.hrslawrence.org/event/st-anthony-novena-2/
END:VEVENT
BEGIN:VEVENT
DTSTART;TZID=America/New_York:20260414T190000
DTEND;TZID=America/New_York:20260414T190000
DTSTAMP:20260423T134033
CREATED:20260409T021542Z
LAST-MODIFIED:20260409T021542Z
UID:12839-1776193200-1776193200@www.hrslawrence.org
SUMMARY:Curso Bíblico
DESCRIPTION:Centro del santuario
URL:https://www.hrslawrence.org/event/curso-biblico-11/
END:VEVENT
BEGIN:VEVENT
DTSTART;TZID=America/New_York:20260415T190000
DTEND;TZID=America/New_York:20260415T190000
DTSTAMP:20260423T134033
CREATED:20260409T021523Z
LAST-MODIFIED:20260409T021523Z
UID:12844-1776279600-1776279600@www.hrslawrence.org
SUMMARY:Holy Hour - Hora Santa
DESCRIPTION:Lower church – iglesia de abajo
URL:https://www.hrslawrence.org/event/holy-hour-hora-santa-30/
END:VEVENT
BEGIN:VEVENT
DTSTART;TZID=America/New_York:20260416T100000
DTEND;TZID=America/New_York:20260416T100000
DTSTAMP:20260423T134033
CREATED:20260409T021519Z
LAST-MODIFIED:20260409T021519Z
UID:12845-1776333600-1776333600@www.hrslawrence.org
SUMMARY:Legión de María
DESCRIPTION:Iglesia de abajo
URL:https://www.hrslawrence.org/event/legion-de-maria-24/
END:VEVENT
BEGIN:VEVENT
DTSTART;TZID=America/New_York:20260416T173000
DTEND;TZID=America/New_York:20260416T173000
DTSTAMP:20260423T134033
CREATED:20260409T021517Z
LAST-MODIFIED:20260409T021517Z
UID:12846-1776360600-1776360600@www.hrslawrence.org
SUMMARY:Curso Bíblico
DESCRIPTION:Centro del santuario
URL:https://www.hrslawrence.org/event/curso-biblico-10/
END:VEVENT
BEGIN:VEVENT
DTSTART;TZID=America/New_York:20260416T180000
DTEND;TZID=America/New_York:20260416T184500
DTSTAMP:20260423T134033
CREATED:20260409T021513Z
LAST-MODIFIED:20260409T021513Z
UID:12847-1776362400-1776365100@www.hrslawrence.org
SUMMARY:Confessions - Confesiones
DESCRIPTION:Lower church – Iglesia de abajo
URL:https://www.hrslawrence.org/event/confessions-confesiones-138/
END:VEVENT
BEGIN:VEVENT
DTSTART;TZID=America/New_York:20260416T200000
DTEND;TZID=America/New_York:20260416T200000
DTSTAMP:20260423T134033
CREATED:20260409T021508Z
LAST-MODIFIED:20260409T021508Z
UID:12849-1776369600-1776369600@www.hrslawrence.org
SUMMARY:Charismatic Prayer Group
DESCRIPTION:Lower church
URL:https://www.hrslawrence.org/event/charismatic-prayer-group-22/
END:VEVENT
BEGIN:VEVENT
DTSTART;TZID=America/New_York:20260416T200000
DTEND;TZID=America/New_York:20260416T200000
DTSTAMP:20260423T134033
CREATED:20260409T021511Z
LAST-MODIFIED:20260409T021511Z
UID:12848-1776369600-1776369600@www.hrslawrence.org
SUMMARY:Reunión del Grupo CERS
DESCRIPTION:Centro del santuario
URL:https://www.hrslawrence.org/event/reunion-del-grupo-cers-24/
END:VEVENT
BEGIN:VEVENT
DTSTART;TZID=America/New_York:20260417T100000
DTEND;TZID=America/New_York:20260417T150000
DTSTAMP:20260423T134033
CREATED:20260409T021503Z
LAST-MODIFIED:20260409T021503Z
UID:12851-1776420000-1776438000@www.hrslawrence.org
SUMMARY:Adoration - Adoración al Santísimo
DESCRIPTION:Upper church – Iglesia de arriba
URL:https://www.hrslawrence.org/event/adoration-adoracion-al-santisimo-22/
END:VEVENT
END:VCALENDAR