BEGIN:VCALENDAR
VERSION:2.0
PRODID:-//Holy Rosary Shrine - ECPv6.15.20//NONSGML v1.0//EN
CALSCALE:GREGORIAN
METHOD:PUBLISH
X-ORIGINAL-URL:https://www.hrslawrence.org
X-WR-CALDESC:Events for Holy Rosary Shrine
REFRESH-INTERVAL;VALUE=DURATION:PT1H
X-Robots-Tag:noindex
X-PUBLISHED-TTL:PT1H
BEGIN:VTIMEZONE
TZID:America/New_York
BEGIN:DAYLIGHT
TZOFFSETFROM:-0500
TZOFFSETTO:-0400
TZNAME:EDT
DTSTART:20250309T070000
END:DAYLIGHT
BEGIN:STANDARD
TZOFFSETFROM:-0400
TZOFFSETTO:-0500
TZNAME:EST
DTSTART:20251102T060000
END:STANDARD
BEGIN:DAYLIGHT
TZOFFSETFROM:-0500
TZOFFSETTO:-0400
TZNAME:EDT
DTSTART:20260308T070000
END:DAYLIGHT
BEGIN:STANDARD
TZOFFSETFROM:-0400
TZOFFSETTO:-0500
TZNAME:EST
DTSTART:20261101T060000
END:STANDARD
BEGIN:DAYLIGHT
TZOFFSETFROM:-0500
TZOFFSETTO:-0400
TZNAME:EDT
DTSTART:20270314T070000
END:DAYLIGHT
BEGIN:STANDARD
TZOFFSETFROM:-0400
TZOFFSETTO:-0500
TZNAME:EST
DTSTART:20271107T060000
END:STANDARD
END:VTIMEZONE
BEGIN:VEVENT
DTSTART;TZID=America/New_York:20260303T190000
DTEND;TZID=America/New_York:20260303T190000
DTSTAMP:20260423T160249
CREATED:20260226T031311Z
LAST-MODIFIED:20260226T031311Z
UID:12491-1772564400-1772564400@www.hrslawrence.org
SUMMARY:Curso Bíblico
DESCRIPTION:Centro del santuario
URL:https://www.hrslawrence.org/event/curso-biblico-70/
END:VEVENT
BEGIN:VEVENT
DTSTART;TZID=America/New_York:20260304T090000
DTEND;TZID=America/New_York:20260304T090000
DTSTAMP:20260423T160249
CREATED:20260226T031307Z
LAST-MODIFIED:20260226T031307Z
UID:12486-1772614800-1772614800@www.hrslawrence.org
SUMMARY:Regina Caeli Academy
DESCRIPTION:Lower church
URL:https://www.hrslawrence.org/event/regina-caeli-academy-6/
END:VEVENT
BEGIN:VEVENT
DTSTART;TZID=America/New_York:20260304T190000
DTEND;TZID=America/New_York:20260304T190000
DTSTAMP:20260423T160249
CREATED:20260226T031258Z
LAST-MODIFIED:20260226T031258Z
UID:12488-1772650800-1772650800@www.hrslawrence.org
SUMMARY:Holy Hour - Hora Santa
DESCRIPTION:Lower church / Iglesia de abajo
URL:https://www.hrslawrence.org/event/holy-hour-hora-santa-27/
END:VEVENT
BEGIN:VEVENT
DTSTART;TZID=America/New_York:20260304T190000
DTEND;TZID=America/New_York:20260304T190000
DTSTAMP:20260423T160249
CREATED:20260226T031302Z
LAST-MODIFIED:20260226T031302Z
UID:12487-1772650800-1772650800@www.hrslawrence.org
SUMMARY:Emaús Prayer Group - Men
DESCRIPTION:Shrine center
URL:https://www.hrslawrence.org/event/emaus-prayer-group-men-2/
END:VEVENT
BEGIN:VEVENT
DTSTART;TZID=America/New_York:20260305T100000
DTEND;TZID=America/New_York:20260305T100000
DTSTAMP:20260423T160249
CREATED:20260226T031254Z
LAST-MODIFIED:20260226T031254Z
UID:12489-1772704800-1772704800@www.hrslawrence.org
SUMMARY:Legión de María
DESCRIPTION:Iglesia de abajo
URL:https://www.hrslawrence.org/event/legion-de-maria-19/
END:VEVENT
BEGIN:VEVENT
DTSTART;TZID=America/New_York:20260305T173000
DTEND;TZID=America/New_York:20260305T173000
DTSTAMP:20260423T160249
CREATED:20260226T031247Z
LAST-MODIFIED:20260226T031247Z
UID:12490-1772731800-1772731800@www.hrslawrence.org
SUMMARY:Curso Bíblico
DESCRIPTION:Centro del santuario
URL:https://www.hrslawrence.org/event/curso-biblico-69/
END:VEVENT
BEGIN:VEVENT
DTSTART;TZID=America/New_York:20260305T180000
DTEND;TZID=America/New_York:20260305T180000
DTSTAMP:20260423T160249
CREATED:20260226T031238Z
LAST-MODIFIED:20260226T031238Z
UID:12494-1772733600-1772733600@www.hrslawrence.org
SUMMARY:Via Crucis
DESCRIPTION:Iglesia de abajo – Grupo Carismático
URL:https://www.hrslawrence.org/event/via-crucis-7/
END:VEVENT
BEGIN:VEVENT
DTSTART;TZID=America/New_York:20260305T180000
DTEND;TZID=America/New_York:20260305T180000
DTSTAMP:20260423T160249
CREATED:20260226T031245Z
LAST-MODIFIED:20260226T031245Z
UID:12492-1772733600-1772733600@www.hrslawrence.org
SUMMARY:Confessions / Confesiones
DESCRIPTION:Lower church / Iglesia de abajo
URL:https://www.hrslawrence.org/event/confessions-confesiones-123/
END:VEVENT
BEGIN:VEVENT
DTSTART;TZID=America/New_York:20260305T200000
DTEND;TZID=America/New_York:20260305T200000
DTSTAMP:20260423T160249
CREATED:20260226T031235Z
LAST-MODIFIED:20260226T031235Z
UID:12495-1772740800-1772740800@www.hrslawrence.org
SUMMARY:Charismatic Prayer Group
DESCRIPTION:Lower church
URL:https://www.hrslawrence.org/event/charismatic-prayer-group-17/
END:VEVENT
BEGIN:VEVENT
DTSTART;TZID=America/New_York:20260305T200000
DTEND;TZID=America/New_York:20260305T200000
DTSTAMP:20260423T160249
CREATED:20260226T031242Z
LAST-MODIFIED:20260226T031242Z
UID:12493-1772740800-1772740800@www.hrslawrence.org
SUMMARY:Reunión del Grupo CERS
DESCRIPTION:Centro del santuario
URL:https://www.hrslawrence.org/event/reunion-del-grupo-cers-19/
END:VEVENT
BEGIN:VEVENT
DTSTART;TZID=America/New_York:20260306T100000
DTEND;TZID=America/New_York:20260306T150000
DTSTAMP:20260423T160249
CREATED:20260226T031227Z
LAST-MODIFIED:20260226T031227Z
UID:12497-1772791200-1772809200@www.hrslawrence.org
SUMMARY:Adoration / Adoración al Santísimo
DESCRIPTION:Upper church / Iglesia de arriba
URL:https://www.hrslawrence.org/event/adoration-adoracion-al-santisimo-17/
END:VEVENT
BEGIN:VEVENT
DTSTART;TZID=America/New_York:20260306T100000
DTEND;TZID=America/New_York:20260306T150000
DTSTAMP:20260423T160249
CREATED:20260226T031231Z
LAST-MODIFIED:20260226T031231Z
UID:12496-1772791200-1772809200@www.hrslawrence.org
SUMMARY:Confessions / Confesiones
DESCRIPTION:Upper church / Iglesia de arriba
URL:https://www.hrslawrence.org/event/confessions-confesiones-122/
END:VEVENT
BEGIN:VEVENT
DTSTART;TZID=America/New_York:20260306T170000
DTEND;TZID=America/New_York:20260306T170000
DTSTAMP:20260423T160249
CREATED:20260226T031621Z
LAST-MODIFIED:20260226T031621Z
UID:12520-1772816400-1772816400@www.hrslawrence.org
SUMMARY:Sagrado Corazón
DESCRIPTION:Iglesia de abajo
URL:https://www.hrslawrence.org/event/sagrado-corazon/
END:VEVENT
BEGIN:VEVENT
DTSTART;TZID=America/New_York:20260306T180000
DTEND;TZID=America/New_York:20260306T180000
DTSTAMP:20260423T160249
CREATED:20260226T031218Z
LAST-MODIFIED:20260226T031218Z
UID:12498-1772820000-1772820000@www.hrslawrence.org
SUMMARY:Stations of the Cross
DESCRIPTION:Lower church – Blessed Virgin Mary Society
URL:https://www.hrslawrence.org/event/stations-of-the-cross-8/
END:VEVENT
BEGIN:VEVENT
DTSTART;TZID=America/New_York:20260307T100000
DTEND;TZID=America/New_York:20260307T100000
DTSTAMP:20260423T160249
CREATED:20260226T031144Z
LAST-MODIFIED:20260226T031144Z
UID:12499-1772877600-1772877600@www.hrslawrence.org
SUMMARY:Retiro del Grupo CERS
DESCRIPTION:Centro del Santuario
URL:https://www.hrslawrence.org/event/retiro-del-grupo-cers-2/
END:VEVENT
BEGIN:VEVENT
DTSTART;TZID=America/New_York:20260307T100000
DTEND;TZID=America/New_York:20260307T150000
DTSTAMP:20260423T160249
CREATED:20260226T031137Z
LAST-MODIFIED:20260226T031137Z
UID:12501-1772877600-1772895600@www.hrslawrence.org
SUMMARY:Confessions / Confesiones
DESCRIPTION:Upper church / Iglesia de arriba
URL:https://www.hrslawrence.org/event/confessions-confesiones-121/
END:VEVENT
BEGIN:VEVENT
DTSTART;TZID=America/New_York:20260307T143000
DTEND;TZID=America/New_York:20260307T143000
DTSTAMP:20260423T160249
CREATED:20260226T031131Z
LAST-MODIFIED:20260226T031131Z
UID:12502-1772893800-1772893800@www.hrslawrence.org
SUMMARY:St Rita Meeting
DESCRIPTION:Shrine center
URL:https://www.hrslawrence.org/event/st-rita-meeting/
END:VEVENT
BEGIN:VEVENT
DTSTART;TZID=America/New_York:20260307T150000
DTEND;TZID=America/New_York:20260307T150000
DTSTAMP:20260423T160249
CREATED:20260226T031140Z
LAST-MODIFIED:20260226T031140Z
UID:12500-1772895600-1772895600@www.hrslawrence.org
SUMMARY:Choir Practice
DESCRIPTION:Upper church
URL:https://www.hrslawrence.org/event/choir-practice-15/
END:VEVENT
BEGIN:VEVENT
DTSTART;TZID=America/New_York:20260309T190000
DTEND;TZID=America/New_York:20260309T190000
DTSTAMP:20260423T160249
CREATED:20260305T024707Z
LAST-MODIFIED:20260305T024707Z
UID:12549-1773082800-1773082800@www.hrslawrence.org
SUMMARY:Daughters of Our Lady of the Rosary
DESCRIPTION:Shrine center
URL:https://www.hrslawrence.org/event/daughters-of-our-lady-of-the-rosary-2/
END:VEVENT
BEGIN:VEVENT
DTSTART;TZID=America/New_York:20260310T080000
DTEND;TZID=America/New_York:20260310T080000
DTSTAMP:20260423T160249
CREATED:20260305T024705Z
LAST-MODIFIED:20260305T024705Z
UID:12550-1773129600-1773129600@www.hrslawrence.org
SUMMARY:Holy Face Devotion
DESCRIPTION:Upper church
URL:https://www.hrslawrence.org/event/holy-face-devotion/
END:VEVENT
BEGIN:VEVENT
DTSTART;TZID=America/New_York:20260310T190000
DTEND;TZID=America/New_York:20260310T190000
DTSTAMP:20260423T160249
CREATED:20260305T024700Z
LAST-MODIFIED:20260305T024700Z
UID:12551-1773169200-1773169200@www.hrslawrence.org
SUMMARY:Curso Bíblico
DESCRIPTION:Centro del santuario
URL:https://www.hrslawrence.org/event/curso-biblico-72/
END:VEVENT
BEGIN:VEVENT
DTSTART;TZID=America/New_York:20260311T133000
DTEND;TZID=America/New_York:20260311T133000
DTSTAMP:20260423T160249
CREATED:20260305T024657Z
LAST-MODIFIED:20260305T024657Z
UID:12552-1773235800-1773235800@www.hrslawrence.org
SUMMARY:Helping Hands
DESCRIPTION:Shrine center
URL:https://www.hrslawrence.org/event/helping-hands-5/
END:VEVENT
BEGIN:VEVENT
DTSTART;TZID=America/New_York:20260311T190000
DTEND;TZID=America/New_York:20260311T190000
DTSTAMP:20260423T160249
CREATED:20260305T024654Z
LAST-MODIFIED:20260305T024654Z
UID:12553-1773255600-1773255600@www.hrslawrence.org
SUMMARY:Holy Hour/Hora Santa
DESCRIPTION:Lower church/Iglesia de abajo
URL:https://www.hrslawrence.org/event/holy-hour-hora-santa-28/
END:VEVENT
BEGIN:VEVENT
DTSTART;TZID=America/New_York:20260312T100000
DTEND;TZID=America/New_York:20260312T100000
DTSTAMP:20260423T160249
CREATED:20260305T024651Z
LAST-MODIFIED:20260305T024651Z
UID:12554-1773309600-1773309600@www.hrslawrence.org
SUMMARY:Legión de María
DESCRIPTION:Iglesia de abajo
URL:https://www.hrslawrence.org/event/legion-de-maria-20/
END:VEVENT
BEGIN:VEVENT
DTSTART;TZID=America/New_York:20260312T133000
DTEND;TZID=America/New_York:20260312T133000
DTSTAMP:20260423T160249
CREATED:20260305T024647Z
LAST-MODIFIED:20260305T024647Z
UID:12555-1773322200-1773322200@www.hrslawrence.org
SUMMARY:Legion of Mary Curia Meeting
DESCRIPTION:Shrine center
URL:https://www.hrslawrence.org/event/legion-of-mary-curia-meeting-2/
END:VEVENT
BEGIN:VEVENT
DTSTART;TZID=America/New_York:20260312T173000
DTEND;TZID=America/New_York:20260312T173000
DTSTAMP:20260423T160249
CREATED:20260305T024641Z
LAST-MODIFIED:20260305T024641Z
UID:12557-1773336600-1773336600@www.hrslawrence.org
SUMMARY:Curso Bíblico
DESCRIPTION:Centro del santuario
URL:https://www.hrslawrence.org/event/curso-biblico-71/
END:VEVENT
BEGIN:VEVENT
DTSTART;TZID=America/New_York:20260312T180000
DTEND;TZID=America/New_York:20260312T180000
DTSTAMP:20260423T160249
CREATED:20260305T024638Z
LAST-MODIFIED:20260305T024638Z
UID:12558-1773338400-1773338400@www.hrslawrence.org
SUMMARY:Confessions / Confesiones
DESCRIPTION:Lower church/Iglesia de abajo
URL:https://www.hrslawrence.org/event/confessions-confesiones-126/
END:VEVENT
BEGIN:VEVENT
DTSTART;TZID=America/New_York:20260312T180000
DTEND;TZID=America/New_York:20260312T180000
DTSTAMP:20260423T160249
CREATED:20260305T024644Z
LAST-MODIFIED:20260305T024644Z
UID:12556-1773338400-1773338400@www.hrslawrence.org
SUMMARY:Via Crucis
DESCRIPTION:Iglesia de abajo: Legión de María
URL:https://www.hrslawrence.org/event/via-crucis-8/
END:VEVENT
BEGIN:VEVENT
DTSTART;TZID=America/New_York:20260312T200000
DTEND;TZID=America/New_York:20260312T200000
DTSTAMP:20260423T160249
CREATED:20260305T024633Z
LAST-MODIFIED:20260305T024633Z
UID:12560-1773345600-1773345600@www.hrslawrence.org
SUMMARY:Charismatic Prayer Group
DESCRIPTION:Lower church
URL:https://www.hrslawrence.org/event/charismatic-prayer-group-18/
END:VEVENT
BEGIN:VEVENT
DTSTART;TZID=America/New_York:20260312T200000
DTEND;TZID=America/New_York:20260312T200000
DTSTAMP:20260423T160249
CREATED:20260305T024636Z
LAST-MODIFIED:20260305T024636Z
UID:12559-1773345600-1773345600@www.hrslawrence.org
SUMMARY:Reunión del Grupo CERS
DESCRIPTION:Centro del Santuario
URL:https://www.hrslawrence.org/event/reunion-del-grupo-cers-20/
END:VEVENT
END:VCALENDAR