BEGIN:VCALENDAR
VERSION:2.0
PRODID:-//Holy Rosary Shrine - ECPv6.15.20//NONSGML v1.0//EN
CALSCALE:GREGORIAN
METHOD:PUBLISH
X-WR-CALNAME:Holy Rosary Shrine
X-ORIGINAL-URL:https://www.hrslawrence.org
X-WR-CALDESC:Events for Holy Rosary Shrine
REFRESH-INTERVAL;VALUE=DURATION:PT1H
X-Robots-Tag:noindex
X-PUBLISHED-TTL:PT1H
BEGIN:VTIMEZONE
TZID:America/New_York
BEGIN:DAYLIGHT
TZOFFSETFROM:-0500
TZOFFSETTO:-0400
TZNAME:EDT
DTSTART:20240310T070000
END:DAYLIGHT
BEGIN:STANDARD
TZOFFSETFROM:-0400
TZOFFSETTO:-0500
TZNAME:EST
DTSTART:20241103T060000
END:STANDARD
BEGIN:DAYLIGHT
TZOFFSETFROM:-0500
TZOFFSETTO:-0400
TZNAME:EDT
DTSTART:20250309T070000
END:DAYLIGHT
BEGIN:STANDARD
TZOFFSETFROM:-0400
TZOFFSETTO:-0500
TZNAME:EST
DTSTART:20251102T060000
END:STANDARD
BEGIN:DAYLIGHT
TZOFFSETFROM:-0500
TZOFFSETTO:-0400
TZNAME:EDT
DTSTART:20260308T070000
END:DAYLIGHT
BEGIN:STANDARD
TZOFFSETFROM:-0400
TZOFFSETTO:-0500
TZNAME:EST
DTSTART:20261101T060000
END:STANDARD
END:VTIMEZONE
BEGIN:VEVENT
DTSTART;TZID=America/New_York:20250524T100000
DTEND;TZID=America/New_York:20250524T154500
DTSTAMP:20260425T070105
CREATED:20250517T031855Z
LAST-MODIFIED:20250517T031855Z
UID:10392-1748080800-1748101500@www.hrslawrence.org
SUMMARY:Confessions - Confesiones
DESCRIPTION:Upper church – Iglesia de arriba
URL:https://www.hrslawrence.org/event/confessions-confesiones-2/
END:VEVENT
BEGIN:VEVENT
DTSTART;TZID=America/New_York:20250524T100000
DTEND;TZID=America/New_York:20250524T100000
DTSTAMP:20260425T070105
CREATED:20250517T031857Z
LAST-MODIFIED:20250517T031857Z
UID:10391-1748080800-1748080800@www.hrslawrence.org
SUMMARY:Helping Hands
DESCRIPTION:Shrine center
URL:https://www.hrslawrence.org/event/helping-hands-3/
END:VEVENT
BEGIN:VEVENT
DTSTART;TZID=America/New_York:20250523T100000
DTEND;TZID=America/New_York:20250523T150000
DTSTAMP:20260425T070105
CREATED:20250517T031903Z
LAST-MODIFIED:20250517T031903Z
UID:10389-1747994400-1748012400@www.hrslawrence.org
SUMMARY:Confessions - Confesiones
DESCRIPTION:Upper church – Iglesia de arriba
URL:https://www.hrslawrence.org/event/confessions-confesiones-3/
END:VEVENT
BEGIN:VEVENT
DTSTART;TZID=America/New_York:20250523T100000
DTEND;TZID=America/New_York:20250523T150000
DTSTAMP:20260425T070105
CREATED:20250517T031900Z
LAST-MODIFIED:20250517T031900Z
UID:10390-1747994400-1748012400@www.hrslawrence.org
SUMMARY:Adoration - Adoración al Santísimo
DESCRIPTION:Upper church – Iglesia de arriba
URL:https://www.hrslawrence.org/event/adoration-adoracion-al-santisimo/
END:VEVENT
BEGIN:VEVENT
DTSTART;TZID=America/New_York:20250522T200000
DTEND;TZID=America/New_York:20250522T200000
DTSTAMP:20260425T070105
CREATED:20250517T031908Z
LAST-MODIFIED:20250517T031908Z
UID:10387-1747944000-1747944000@www.hrslawrence.org
SUMMARY:Charismatic Prayer Group
DESCRIPTION:Lower church
URL:https://www.hrslawrence.org/event/charismatic-prayer-group-29/
END:VEVENT
BEGIN:VEVENT
DTSTART;TZID=America/New_York:20250522T200000
DTEND;TZID=America/New_York:20250522T200000
DTSTAMP:20260425T070105
CREATED:20250517T031906Z
LAST-MODIFIED:20250517T031906Z
UID:10388-1747944000-1747944000@www.hrslawrence.org
SUMMARY:Reunión del Grupo CERS
DESCRIPTION:Centro del santuario
URL:https://www.hrslawrence.org/event/reunion-del-grupo-cers-34/
END:VEVENT
BEGIN:VEVENT
DTSTART;TZID=America/New_York:20250522T180000
DTEND;TZID=America/New_York:20250522T184500
DTSTAMP:20260425T070105
CREATED:20250517T031913Z
LAST-MODIFIED:20250517T031913Z
UID:10386-1747936800-1747939500@www.hrslawrence.org
SUMMARY:Confessions - Confesiones
DESCRIPTION:Lower church – Iglesia de abajo
URL:https://www.hrslawrence.org/event/confessions-confesiones-4/
END:VEVENT
BEGIN:VEVENT
DTSTART;TZID=America/New_York:20250522T173000
DTEND;TZID=America/New_York:20250522T173000
DTSTAMP:20260425T070105
CREATED:20250517T031916Z
LAST-MODIFIED:20250517T031916Z
UID:10385-1747935000-1747935000@www.hrslawrence.org
SUMMARY:Curso Bíblico
DESCRIPTION:Centro del Santuario
URL:https://www.hrslawrence.org/event/curso-biblico-19/
END:VEVENT
BEGIN:VEVENT
DTSTART;TZID=America/New_York:20250522T100000
DTEND;TZID=America/New_York:20250522T100000
DTSTAMP:20260425T070105
CREATED:20250517T031921Z
LAST-MODIFIED:20250517T031921Z
UID:10384-1747908000-1747908000@www.hrslawrence.org
SUMMARY:Legión de María
DESCRIPTION:Iglesia de abajo
URL:https://www.hrslawrence.org/event/legion-de-maria-39/
END:VEVENT
BEGIN:VEVENT
DTSTART;TZID=America/New_York:20250521T190000
DTEND;TZID=America/New_York:20250521T190000
DTSTAMP:20260425T070105
CREATED:20250517T031927Z
LAST-MODIFIED:20250517T031927Z
UID:10382-1747854000-1747854000@www.hrslawrence.org
SUMMARY:Emmaus Prayer  Group Women
DESCRIPTION:Shrine center
URL:https://www.hrslawrence.org/event/emmaus-prayer-group-women-16/
END:VEVENT
BEGIN:VEVENT
DTSTART;TZID=America/New_York:20250521T190000
DTEND;TZID=America/New_York:20250521T190000
DTSTAMP:20260425T070105
CREATED:20250517T031923Z
LAST-MODIFIED:20250517T031923Z
UID:10383-1747854000-1747854000@www.hrslawrence.org
SUMMARY:Holy Hour
DESCRIPTION:Lower church
URL:https://www.hrslawrence.org/event/holy-hour-9/
END:VEVENT
BEGIN:VEVENT
DTSTART;TZID=America/New_York:20250520T190000
DTEND;TZID=America/New_York:20250520T190000
DTSTAMP:20260425T070105
CREATED:20250517T031932Z
LAST-MODIFIED:20250517T031932Z
UID:10379-1747767600-1747767600@www.hrslawrence.org
SUMMARY:Curso Bíblico
DESCRIPTION:Centro del Santuario
URL:https://www.hrslawrence.org/event/curso-biblico-20/
END:VEVENT
BEGIN:VEVENT
DTSTART;TZID=America/New_York:20250520T190000
DTEND;TZID=America/New_York:20250520T190000
DTSTAMP:20260425T070105
CREATED:20250517T031930Z
LAST-MODIFIED:20250517T031930Z
UID:10381-1747767600-1747767600@www.hrslawrence.org
SUMMARY:St Anthony’s Novena Service
DESCRIPTION:Upper church
URL:https://www.hrslawrence.org/event/st-anthonys-novena-service-2/
END:VEVENT
BEGIN:VEVENT
DTSTART;TZID=America/New_York:20250519T190000
DTEND;TZID=America/New_York:20250519T190000
DTSTAMP:20260425T070105
CREATED:20250517T031938Z
LAST-MODIFIED:20250517T031938Z
UID:10378-1747681200-1747681200@www.hrslawrence.org
SUMMARY:Shrine Council Meeting
DESCRIPTION:Shrine Center
URL:https://www.hrslawrence.org/event/shrine-council-meeting-7/
END:VEVENT
BEGIN:VEVENT
DTSTART;TZID=America/New_York:20250518T103000
DTEND;TZID=America/New_York:20250518T103000
DTSTAMP:20260425T070105
CREATED:20250511T032522Z
LAST-MODIFIED:20250511T032522Z
UID:10340-1747564200-1747564200@www.hrslawrence.org
SUMMARY:Catecismo para Adultos en Español
DESCRIPTION:Centro del Santuario
URL:https://www.hrslawrence.org/event/catecismo-para-adultos-en-espanol-18/
END:VEVENT
BEGIN:VEVENT
DTSTART;TZID=America/New_York:20250518T101500
DTEND;TZID=America/New_York:20250518T101500
DTSTAMP:20260425T070105
CREATED:20250511T032520Z
LAST-MODIFIED:20250511T032520Z
UID:10348-1747563300-1747563300@www.hrslawrence.org
SUMMARY:Adult education
DESCRIPTION:Shrine center
URL:https://www.hrslawrence.org/event/adult-education-21/
END:VEVENT
BEGIN:VEVENT
DTSTART;TZID=America/New_York:20250518T083000
DTEND;TZID=America/New_York:20250518T083000
DTSTAMP:20260425T070105
CREATED:20250222T034432Z
LAST-MODIFIED:20250511T032654Z
UID:9635-1747557000-1747557000@www.hrslawrence.org
SUMMARY:Saint Rita of Cassia Feast Day Mass
DESCRIPTION:Holy Rosary Shrine Jubilee Events\nBreakfast served at 10:00am at the Shrine Center.
URL:https://www.hrslawrence.org/event/saint-rita-of-cassia-feast-day-mass/
END:VEVENT
BEGIN:VEVENT
DTSTART;TZID=America/New_York:20250517T100000
DTEND;TZID=America/New_York:20250517T154500
DTSTAMP:20260425T070105
CREATED:20250511T032525Z
LAST-MODIFIED:20250511T032525Z
UID:10339-1747476000-1747496700@www.hrslawrence.org
SUMMARY:Confessions
DESCRIPTION:Upper church
URL:https://www.hrslawrence.org/event/confessions-21/
END:VEVENT
BEGIN:VEVENT
DTSTART;TZID=America/New_York:20250516T100000
DTEND;TZID=America/New_York:20250516T150000
DTSTAMP:20260425T070105
CREATED:20250511T032810Z
LAST-MODIFIED:20250511T032810Z
UID:10337-1747389600-1747407600@www.hrslawrence.org
SUMMARY:Confessions
DESCRIPTION:Upper church
URL:https://www.hrslawrence.org/event/confessions-22/
END:VEVENT
BEGIN:VEVENT
DTSTART;TZID=America/New_York:20250516T100000
DTEND;TZID=America/New_York:20250516T150000
DTSTAMP:20260425T070105
CREATED:20250511T032528Z
LAST-MODIFIED:20250511T032528Z
UID:10338-1747389600-1747407600@www.hrslawrence.org
SUMMARY:Adoration
DESCRIPTION:Upper church
URL:https://www.hrslawrence.org/event/adoration-41/
END:VEVENT
BEGIN:VEVENT
DTSTART;TZID=America/New_York:20250515T200000
DTEND;TZID=America/New_York:20250515T200000
DTSTAMP:20260425T070105
CREATED:20250511T032009Z
LAST-MODIFIED:20250511T032009Z
UID:10317-1747339200-1747339200@www.hrslawrence.org
SUMMARY:Charismatic Prayer Group
DESCRIPTION:Lower church
URL:https://www.hrslawrence.org/event/charismatic-prayer-group-28/
END:VEVENT
BEGIN:VEVENT
DTSTART;TZID=America/New_York:20250515T200000
DTEND;TZID=America/New_York:20250515T200000
DTSTAMP:20260425T070105
CREATED:20250511T032007Z
LAST-MODIFIED:20250511T032007Z
UID:10324-1747339200-1747339200@www.hrslawrence.org
SUMMARY:Reunión del Grupo CERS
DESCRIPTION:Shrine center
URL:https://www.hrslawrence.org/event/reunion-del-grupo-cers-33/
END:VEVENT
BEGIN:VEVENT
DTSTART;TZID=America/New_York:20250515T190000
DTEND;TZID=America/New_York:20250515T190000
DTSTAMP:20260425T070105
CREATED:20250511T032011Z
LAST-MODIFIED:20250511T032011Z
UID:10316-1747335600-1747335600@www.hrslawrence.org
SUMMARY:Adult Formation
DESCRIPTION:Shrine center
URL:https://www.hrslawrence.org/event/adult-formation/
END:VEVENT
BEGIN:VEVENT
DTSTART;TZID=America/New_York:20250515T180000
DTEND;TZID=America/New_York:20250515T184500
DTSTAMP:20260425T070105
CREATED:20250511T032014Z
LAST-MODIFIED:20250511T032014Z
UID:10312-1747332000-1747334700@www.hrslawrence.org
SUMMARY:Confessions
DESCRIPTION:Lower church
URL:https://www.hrslawrence.org/event/confessions-20/
END:VEVENT
BEGIN:VEVENT
DTSTART;TZID=America/New_York:20250515T100000
DTEND;TZID=America/New_York:20250515T100000
DTSTAMP:20260425T070105
CREATED:20250511T032017Z
LAST-MODIFIED:20250511T032017Z
UID:10314-1747303200-1747303200@www.hrslawrence.org
SUMMARY:Legión de María
DESCRIPTION:Iglesia de abajo
URL:https://www.hrslawrence.org/event/legion-de-maria-38/
END:VEVENT
BEGIN:VEVENT
DTSTART;TZID=America/New_York:20250514T190000
DTEND;TZID=America/New_York:20250514T190000
DTSTAMP:20260425T070105
CREATED:20250511T032022Z
LAST-MODIFIED:20250511T032022Z
UID:10315-1747249200-1747249200@www.hrslawrence.org
SUMMARY:St Rita’s Orientation New Members
DESCRIPTION:Shrine center
URL:https://www.hrslawrence.org/event/st-ritas-orientation-new-members/
END:VEVENT
BEGIN:VEVENT
DTSTART;TZID=America/New_York:20250514T190000
DTEND;TZID=America/New_York:20250514T190000
DTSTAMP:20260425T070105
CREATED:20250511T032020Z
LAST-MODIFIED:20250511T032020Z
UID:10313-1747249200-1747249200@www.hrslawrence.org
SUMMARY:Emmaus Prayer Group Men
DESCRIPTION:Lower church
URL:https://www.hrslawrence.org/event/emmaus-prayer-group-men-19/
END:VEVENT
BEGIN:VEVENT
DTSTART;TZID=America/New_York:20250514T090000
DTEND;TZID=America/New_York:20250514T090000
DTSTAMP:20260425T070105
CREATED:20250511T032025Z
LAST-MODIFIED:20250511T032025Z
UID:10311-1747213200-1747213200@www.hrslawrence.org
SUMMARY:Homeschooling
DESCRIPTION:Shrine center
URL:https://www.hrslawrence.org/event/homeschooling-17/
END:VEVENT
BEGIN:VEVENT
DTSTART;TZID=America/New_York:20250513T190000
DTEND;TZID=America/New_York:20250513T190000
DTSTAMP:20260425T070105
CREATED:20250511T032041Z
LAST-MODIFIED:20250511T032041Z
UID:10308-1747162800-1747162800@www.hrslawrence.org
SUMMARY:Curso Bíblico
DESCRIPTION:Shrine center
URL:https://www.hrslawrence.org/event/curso-biblico-18/
END:VEVENT
BEGIN:VEVENT
DTSTART;TZID=America/New_York:20250513T190000
DTEND;TZID=America/New_York:20250513T190000
DTSTAMP:20260425T070105
CREATED:20250511T032034Z
LAST-MODIFIED:20250511T032034Z
UID:10309-1747162800-1747162800@www.hrslawrence.org
SUMMARY:St Anthony Novena
DESCRIPTION:Upper church
URL:https://www.hrslawrence.org/event/st-anthony-novena/
END:VEVENT
END:VCALENDAR