BEGIN:VCALENDAR
VERSION:2.0
PRODID:-//Holy Rosary Shrine - ECPv6.15.20//NONSGML v1.0//EN
CALSCALE:GREGORIAN
METHOD:PUBLISH
X-WR-CALNAME:Holy Rosary Shrine
X-ORIGINAL-URL:https://www.hrslawrence.org
X-WR-CALDESC:Events for Holy Rosary Shrine
REFRESH-INTERVAL;VALUE=DURATION:PT1H
X-Robots-Tag:noindex
X-PUBLISHED-TTL:PT1H
BEGIN:VTIMEZONE
TZID:America/New_York
BEGIN:DAYLIGHT
TZOFFSETFROM:-0500
TZOFFSETTO:-0400
TZNAME:EDT
DTSTART:20240310T070000
END:DAYLIGHT
BEGIN:STANDARD
TZOFFSETFROM:-0400
TZOFFSETTO:-0500
TZNAME:EST
DTSTART:20241103T060000
END:STANDARD
BEGIN:DAYLIGHT
TZOFFSETFROM:-0500
TZOFFSETTO:-0400
TZNAME:EDT
DTSTART:20250309T070000
END:DAYLIGHT
BEGIN:STANDARD
TZOFFSETFROM:-0400
TZOFFSETTO:-0500
TZNAME:EST
DTSTART:20251102T060000
END:STANDARD
BEGIN:DAYLIGHT
TZOFFSETFROM:-0500
TZOFFSETTO:-0400
TZNAME:EDT
DTSTART:20260308T070000
END:DAYLIGHT
BEGIN:STANDARD
TZOFFSETFROM:-0400
TZOFFSETTO:-0500
TZNAME:EST
DTSTART:20261101T060000
END:STANDARD
END:VTIMEZONE
BEGIN:VEVENT
DTSTART;TZID=America/New_York:20250427T133000
DTEND;TZID=America/New_York:20250427T133000
DTSTAMP:20260425T110748
CREATED:20250419T025139Z
LAST-MODIFIED:20250419T025914Z
UID:10139-1745760600-1745760600@www.hrslawrence.org
SUMMARY:Divine Mercy - Divina Misericordia
DESCRIPTION:Divine Mercy\, by Eugeniusz Kazimirowski (1873-1939) – Source\, Public Domain\, Link \nSchedule for Mercy Sunday\, April 27\, 2024\n\n1:30pm – Exposition of the Blessed Sacrament (Confessions Available)\n\n– Singing of the Divine Mercy Chaplet in Spanish\n\n\n2:00pm – Rosary in Spanish (Glorious Mysteries)\n2:30pm – Silence\n2:45pm – Song\, Brief Reflection\n3:00pm – Singing of the Chaplet in English\n3:30pm – Silence\n3:45pm – Rosary in English (Glorious Mysteries)\n4:15pm – Closing Benediction\n\nPrograma para el Domingo de la Misericordia\, 27 de abril de 2024\n\n1:30pm – Exposición del Santísimo Sacramento (confesiones disponibles)\n– Canto de la Coronilla de la Divina Misericordia en español\n2:00pm – Rosario en Español (Misterios Gloriosos)\n2:30pm – Silencio\n2:45pm – Canción\, breve reflexión\n3:00pm – Canto de la Coronilla en inglés\n3:30pm – Silencio\n3:45pm – Rosario en inglés (Misterios Gloriosos)\n4:15pm – Bendición de clausura\n\n 
URL:https://www.hrslawrence.org/event/divine-mercy-divina-misericordia/
END:VEVENT
BEGIN:VEVENT
DTSTART;TZID=America/New_York:20250427T111500
DTEND;TZID=America/New_York:20250427T231500
DTSTAMP:20260425T110748
CREATED:20250419T025141Z
LAST-MODIFIED:20250419T025141Z
UID:10140-1745752500-1745795700@www.hrslawrence.org
SUMMARY:Adult education
DESCRIPTION:Shrine center
URL:https://www.hrslawrence.org/event/adult-education-18/
END:VEVENT
BEGIN:VEVENT
DTSTART;TZID=America/New_York:20250427T103000
DTEND;TZID=America/New_York:20250427T103000
DTSTAMP:20260425T110748
CREATED:20250419T025144Z
LAST-MODIFIED:20250419T025144Z
UID:10141-1745749800-1745749800@www.hrslawrence.org
SUMMARY:Catecismo para Adultos en Español
DESCRIPTION:Centro del santuario
URL:https://www.hrslawrence.org/event/catecismo-para-adultos-en-espanol-15/
END:VEVENT
BEGIN:VEVENT
DTSTART;VALUE=DATE:20250427
DTEND;VALUE=DATE:20250428
DTSTAMP:20260425T110748
CREATED:20250222T034038Z
LAST-MODIFIED:20250426T030504Z
UID:9633-1745712000-1745798399@www.hrslawrence.org
SUMMARY:Divine Mercy Sunday
DESCRIPTION:Holy Rosary Shrine Jubilee Events\nDivine Mercy\, by Eugeniusz Kazimirowski (1873-1939) – Source\, Public Domain\, Link \nSchedule for Mercy Sunday\, April 27\, 2024\n\n1:30pm – Exposition of the Blessed Sacrament (Confessions Available)\n\n– Singing of the Divine Mercy Chaplet in Spanish\n\n\n2:00pm – Rosary in Spanish (Glorious Mysteries)\n2:30pm – Silence\n2:45pm – Song\, Brief Reflection\n3:00pm – Singing of the Chaplet in English\n3:30pm – Silence\n3:45pm – Rosary in English (Glorious Mysteries)\n4:15pm – Closing Benediction\n\nPrograma para el Domingo de la Misericordia\, 27 de abril de 2024\n\n1:30pm – Exposición del Santísimo Sacramento (confesiones disponibles)\n– Canto de la Coronilla de la Divina Misericordia en español\n2:00pm – Rosario en Español (Misterios Gloriosos)\n2:30pm – Silencio\n2:45pm – Canción\, breve reflexión\n3:00pm – Canto de la Coronilla en inglés\n3:30pm – Silencio\n3:45pm – Rosario en inglés (Misterios Gloriosos)\n4:15pm – Bendición de clausura\n\n  \n 
URL:https://www.hrslawrence.org/event/divine-mercy-sunday/
END:VEVENT
BEGIN:VEVENT
DTSTART;TZID=America/New_York:20250426T183000
DTEND;TZID=America/New_York:20250426T183000
DTSTAMP:20260425T110748
CREATED:20250419T025147Z
LAST-MODIFIED:20250419T025147Z
UID:10142-1745692200-1745692200@www.hrslawrence.org
SUMMARY:St Alfio’s 10k Raffle
DESCRIPTION:Shrine center
URL:https://www.hrslawrence.org/event/st-alfios-10k-raffle/
END:VEVENT
BEGIN:VEVENT
DTSTART;TZID=America/New_York:20250426T100000
DTEND;TZID=America/New_York:20250426T154500
DTSTAMP:20260425T110748
CREATED:20250419T025153Z
LAST-MODIFIED:20250419T025153Z
UID:10147-1745661600-1745682300@www.hrslawrence.org
SUMMARY:Confessions
DESCRIPTION:Upper church
URL:https://www.hrslawrence.org/event/confessions-14/
END:VEVENT
BEGIN:VEVENT
DTSTART;TZID=America/New_York:20250426T100000
DTEND;TZID=America/New_York:20250426T154500
DTSTAMP:20260425T110748
CREATED:20250419T025149Z
LAST-MODIFIED:20250419T025149Z
UID:10144-1745661600-1745682300@www.hrslawrence.org
SUMMARY:Bautismos en Español
DESCRIPTION:Iglesia de abajo
URL:https://www.hrslawrence.org/event/bautismos-en-espanol-2/
END:VEVENT
BEGIN:VEVENT
DTSTART;TZID=America/New_York:20250425T100000
DTEND;TZID=America/New_York:20250425T150000
DTSTAMP:20260425T110748
CREATED:20250419T025159Z
LAST-MODIFIED:20250419T025159Z
UID:10148-1745575200-1745593200@www.hrslawrence.org
SUMMARY:Adoration - Adoración
DESCRIPTION:Upper church / Iglesia de arriba
URL:https://www.hrslawrence.org/event/adoration-adoracion-2/
END:VEVENT
BEGIN:VEVENT
DTSTART;TZID=America/New_York:20250425T100000
DTEND;TZID=America/New_York:20250425T150000
DTSTAMP:20260425T110748
CREATED:20250419T023706Z
LAST-MODIFIED:20250419T023706Z
UID:10125-1745575200-1745593200@www.hrslawrence.org
SUMMARY:Confessions
DESCRIPTION:Upper church
URL:https://www.hrslawrence.org/event/confessions-12/
END:VEVENT
BEGIN:VEVENT
DTSTART;TZID=America/New_York:20250424T200000
DTEND;TZID=America/New_York:20250424T200000
DTSTAMP:20260425T110748
CREATED:20250419T023710Z
LAST-MODIFIED:20250419T023710Z
UID:10123-1745524800-1745524800@www.hrslawrence.org
SUMMARY:Charismatic Prayer Group
DESCRIPTION:Lower church
URL:https://www.hrslawrence.org/event/charismatic-prayer-group-25/
END:VEVENT
BEGIN:VEVENT
DTSTART;TZID=America/New_York:20250424T200000
DTEND;TZID=America/New_York:20250424T200000
DTSTAMP:20260425T110748
CREATED:20250419T023708Z
LAST-MODIFIED:20250419T023708Z
UID:10124-1745524800-1745524800@www.hrslawrence.org
SUMMARY:Reunión del Grupo CERS
DESCRIPTION:Centro del Santuario
URL:https://www.hrslawrence.org/event/reunion-del-grupo-cers-30/
END:VEVENT
BEGIN:VEVENT
DTSTART;TZID=America/New_York:20250424T190000
DTEND;TZID=America/New_York:20250424T190000
DTSTAMP:20260425T110748
CREATED:20250419T023713Z
LAST-MODIFIED:20250419T023713Z
UID:10122-1745521200-1745521200@www.hrslawrence.org
SUMMARY:Adult Formation Talk: Theology of the Body
DESCRIPTION:On Thursday\, April 24th\, Fr. Andrew will give a talk about the “Theology of the Body” from 7:00pm to 8:00pm in the Shrine Center. A discussion and question and answer session will follow. All are invited.
URL:https://www.hrslawrence.org/event/adult-formation-talk-theology-of-the-body/
END:VEVENT
BEGIN:VEVENT
DTSTART;TZID=America/New_York:20250424T180000
DTEND;TZID=America/New_York:20250424T184500
DTSTAMP:20260425T110748
CREATED:20250419T023716Z
LAST-MODIFIED:20250419T023716Z
UID:10121-1745517600-1745520300@www.hrslawrence.org
SUMMARY:Confessions
DESCRIPTION:Lower church
URL:https://www.hrslawrence.org/event/confessions-13/
END:VEVENT
BEGIN:VEVENT
DTSTART;VALUE=DATE:20250423
DTEND;VALUE=DATE:20250425
DTSTAMP:20260425T110748
CREATED:20250419T023725Z
LAST-MODIFIED:20250419T023725Z
UID:10118-1745366400-1745539199@www.hrslawrence.org
SUMMARY:Youth Days
DESCRIPTION:Our Lady of Guadalupe Franciscan Youth Group Retreat\n \nThis Wednesday\, April 23rd and 24th\, 2024 from 9:00am to 4:00pm at Holy Rosary Shrine Center. There will be prayers\, games\, crafts\, catechesis\, prizes\, lunch\, snack and water provided. Young people from ages 8-18 are welcome. Those under 8 need to be accompanied by a parent or legal guardian at all times. Youth Mass at 2:00pm in the Upper Church.
URL:https://www.hrslawrence.org/event/youth-days/
END:VEVENT
END:VCALENDAR