BEGIN:VCALENDAR
VERSION:2.0
PRODID:-//Holy Rosary Shrine - ECPv6.15.20//NONSGML v1.0//EN
CALSCALE:GREGORIAN
METHOD:PUBLISH
X-WR-CALNAME:Holy Rosary Shrine
X-ORIGINAL-URL:https://www.hrslawrence.org
X-WR-CALDESC:Events for Holy Rosary Shrine
REFRESH-INTERVAL;VALUE=DURATION:PT1H
X-Robots-Tag:noindex
X-PUBLISHED-TTL:PT1H
BEGIN:VTIMEZONE
TZID:America/New_York
BEGIN:DAYLIGHT
TZOFFSETFROM:-0500
TZOFFSETTO:-0400
TZNAME:EDT
DTSTART:20240310T070000
END:DAYLIGHT
BEGIN:STANDARD
TZOFFSETFROM:-0400
TZOFFSETTO:-0500
TZNAME:EST
DTSTART:20241103T060000
END:STANDARD
BEGIN:DAYLIGHT
TZOFFSETFROM:-0500
TZOFFSETTO:-0400
TZNAME:EDT
DTSTART:20250309T070000
END:DAYLIGHT
BEGIN:STANDARD
TZOFFSETFROM:-0400
TZOFFSETTO:-0500
TZNAME:EST
DTSTART:20251102T060000
END:STANDARD
BEGIN:DAYLIGHT
TZOFFSETFROM:-0500
TZOFFSETTO:-0400
TZNAME:EDT
DTSTART:20260308T070000
END:DAYLIGHT
BEGIN:STANDARD
TZOFFSETFROM:-0400
TZOFFSETTO:-0500
TZNAME:EST
DTSTART:20261101T060000
END:STANDARD
END:VTIMEZONE
BEGIN:VEVENT
DTSTART;TZID=America/New_York:20250514T190000
DTEND;TZID=America/New_York:20250514T190000
DTSTAMP:20260425T091302
CREATED:20250511T032020Z
LAST-MODIFIED:20250511T032020Z
UID:10313-1747249200-1747249200@www.hrslawrence.org
SUMMARY:Emmaus Prayer Group Men
DESCRIPTION:Lower church
URL:https://www.hrslawrence.org/event/emmaus-prayer-group-men-19/
END:VEVENT
BEGIN:VEVENT
DTSTART;TZID=America/New_York:20250514T090000
DTEND;TZID=America/New_York:20250514T090000
DTSTAMP:20260425T091302
CREATED:20250511T032025Z
LAST-MODIFIED:20250511T032025Z
UID:10311-1747213200-1747213200@www.hrslawrence.org
SUMMARY:Homeschooling
DESCRIPTION:Shrine center
URL:https://www.hrslawrence.org/event/homeschooling-17/
END:VEVENT
BEGIN:VEVENT
DTSTART;TZID=America/New_York:20250513T190000
DTEND;TZID=America/New_York:20250513T190000
DTSTAMP:20260425T091302
CREATED:20250511T032041Z
LAST-MODIFIED:20250511T032041Z
UID:10308-1747162800-1747162800@www.hrslawrence.org
SUMMARY:Curso Bíblico
DESCRIPTION:Shrine center
URL:https://www.hrslawrence.org/event/curso-biblico-18/
END:VEVENT
BEGIN:VEVENT
DTSTART;TZID=America/New_York:20250513T190000
DTEND;TZID=America/New_York:20250513T190000
DTSTAMP:20260425T091302
CREATED:20250511T032034Z
LAST-MODIFIED:20250511T032034Z
UID:10309-1747162800-1747162800@www.hrslawrence.org
SUMMARY:St Anthony Novena
DESCRIPTION:Upper church
URL:https://www.hrslawrence.org/event/st-anthony-novena/
END:VEVENT
BEGIN:VEVENT
DTSTART;TZID=America/New_York:20250513T190000
DTEND;TZID=America/New_York:20250513T190000
DTSTAMP:20260425T091302
CREATED:20250511T032028Z
LAST-MODIFIED:20250511T032028Z
UID:10310-1747162800-1747162800@www.hrslawrence.org
SUMMARY:Baptism Class English
DESCRIPTION:Lower church
URL:https://www.hrslawrence.org/event/baptism-class-english-7/
END:VEVENT
BEGIN:VEVENT
DTSTART;TZID=America/New_York:20250512T190000
DTEND;TZID=America/New_York:20250512T190000
DTSTAMP:20260425T091302
CREATED:20250511T032043Z
LAST-MODIFIED:20250511T032043Z
UID:10307-1747076400-1747076400@www.hrslawrence.org
SUMMARY:Raffle committee meeting
DESCRIPTION:Shrine center
URL:https://www.hrslawrence.org/event/raffle-committee-meeting/
END:VEVENT
BEGIN:VEVENT
DTSTART;TZID=America/New_York:20250511T200000
DTEND;TZID=America/New_York:20250511T200000
DTSTAMP:20260425T091302
CREATED:20250222T034258Z
LAST-MODIFIED:20250222T034351Z
UID:9634-1746993600-1746993600@www.hrslawrence.org
SUMMARY:Our Lady of Fatima Candlelight Procession
DESCRIPTION:Holy Rosary Shrine Jubilee Events\nUpper church
URL:https://www.hrslawrence.org/event/our-lady-of-fatima-candlelight-procession/
END:VEVENT
BEGIN:VEVENT
DTSTART;TZID=America/New_York:20250511T111500
DTEND;TZID=America/New_York:20250511T111500
DTSTAMP:20260425T091302
CREATED:20250426T031744Z
LAST-MODIFIED:20250426T031744Z
UID:10212-1746962100-1746962100@www.hrslawrence.org
SUMMARY:Adult Education
DESCRIPTION:Shrine center
URL:https://www.hrslawrence.org/event/adult-education-20/
END:VEVENT
BEGIN:VEVENT
DTSTART;TZID=America/New_York:20250511T103000
DTEND;TZID=America/New_York:20250511T103000
DTSTAMP:20260425T091302
CREATED:20250426T031747Z
LAST-MODIFIED:20250426T031747Z
UID:10213-1746959400-1746959400@www.hrslawrence.org
SUMMARY:Catecismo para Adultos en Español
DESCRIPTION:Centro del Santuario
URL:https://www.hrslawrence.org/event/catecismo-para-adultos-en-espanol-17/
END:VEVENT
BEGIN:VEVENT
DTSTART;TZID=America/New_York:20250510T141500
DTEND;TZID=America/New_York:20250510T141500
DTSTAMP:20260425T091302
CREATED:20250501T024129Z
LAST-MODIFIED:20250501T024129Z
UID:10273-1746886500-1746886500@www.hrslawrence.org
SUMMARY:BVM Meeting
DESCRIPTION:Shrine center
URL:https://www.hrslawrence.org/event/bvm-meeting-3/
END:VEVENT
BEGIN:VEVENT
DTSTART;TZID=America/New_York:20250510T100000
DTEND;TZID=America/New_York:20250510T154500
DTSTAMP:20260425T091302
CREATED:20250501T024131Z
LAST-MODIFIED:20250501T024131Z
UID:10272-1746871200-1746891900@www.hrslawrence.org
SUMMARY:Confessions
DESCRIPTION:Upper church / Iglesia de arriba
URL:https://www.hrslawrence.org/event/confessions-19/
END:VEVENT
BEGIN:VEVENT
DTSTART;TZID=America/New_York:20250510T100000
DTEND;TZID=America/New_York:20250510T100000
DTSTAMP:20260425T091302
CREATED:20250501T024133Z
LAST-MODIFIED:20250501T024133Z
UID:10271-1746871200-1746871200@www.hrslawrence.org
SUMMARY:Pro-Life Rosary
DESCRIPTION:Lower church
URL:https://www.hrslawrence.org/event/pro-life-rosary/
END:VEVENT
BEGIN:VEVENT
DTSTART;TZID=America/New_York:20250509T100000
DTEND;TZID=America/New_York:20250509T150000
DTSTAMP:20260425T091302
CREATED:20250426T031751Z
LAST-MODIFIED:20250426T031751Z
UID:10215-1746784800-1746802800@www.hrslawrence.org
SUMMARY:Confessions
DESCRIPTION:Upper church / Iglesia de arriba
URL:https://www.hrslawrence.org/event/confessions-17/
END:VEVENT
BEGIN:VEVENT
DTSTART;TZID=America/New_York:20250509T100000
DTEND;TZID=America/New_York:20250509T150000
DTSTAMP:20260425T091302
CREATED:20250426T031749Z
LAST-MODIFIED:20250426T031749Z
UID:10214-1746784800-1746802800@www.hrslawrence.org
SUMMARY:Adoration
DESCRIPTION:Upper church/Iglesia de arriba
URL:https://www.hrslawrence.org/event/adoration-40/
END:VEVENT
BEGIN:VEVENT
DTSTART;TZID=America/New_York:20250508T200000
DTEND;TZID=America/New_York:20250508T200000
DTSTAMP:20260425T091302
CREATED:20250426T031757Z
LAST-MODIFIED:20250426T031757Z
UID:10231-1746734400-1746734400@www.hrslawrence.org
SUMMARY:Charismatic Prayer Group
DESCRIPTION:Lower church
URL:https://www.hrslawrence.org/event/charismatic-prayer-group-27/
END:VEVENT
BEGIN:VEVENT
DTSTART;TZID=America/New_York:20250508T200000
DTEND;TZID=America/New_York:20250508T200000
DTSTAMP:20260425T091302
CREATED:20250426T031754Z
LAST-MODIFIED:20250426T031754Z
UID:10216-1746734400-1746734400@www.hrslawrence.org
SUMMARY:Reunión del Grupo CERS
DESCRIPTION:Centro del Santuario
URL:https://www.hrslawrence.org/event/reunion-del-grupo-cers-32/
END:VEVENT
BEGIN:VEVENT
DTSTART;TZID=America/New_York:20250508T180000
DTEND;TZID=America/New_York:20250508T184500
DTSTAMP:20260425T091302
CREATED:20250426T031801Z
LAST-MODIFIED:20250426T031801Z
UID:10230-1746727200-1746729900@www.hrslawrence.org
SUMMARY:Confessions
DESCRIPTION:Lower church / Iglesia de abajo
URL:https://www.hrslawrence.org/event/confessions-18/
END:VEVENT
BEGIN:VEVENT
DTSTART;TZID=America/New_York:20250508T130000
DTEND;TZID=America/New_York:20250508T130000
DTSTAMP:20260425T091302
CREATED:20250501T024136Z
LAST-MODIFIED:20250501T024136Z
UID:10270-1746709200-1746709200@www.hrslawrence.org
SUMMARY:Legion of Mary Curia Meeting
DESCRIPTION:Shrine center
URL:https://www.hrslawrence.org/event/legion-of-mary-curia-meeting-9/
END:VEVENT
BEGIN:VEVENT
DTSTART;TZID=America/New_York:20250508T100000
DTEND;TZID=America/New_York:20250508T100000
DTSTAMP:20260425T091302
CREATED:20250501T024140Z
LAST-MODIFIED:20250501T024140Z
UID:10269-1746698400-1746698400@www.hrslawrence.org
SUMMARY:Legión de María
DESCRIPTION:Iglesia de abajo
URL:https://www.hrslawrence.org/event/legion-de-maria-37/
END:VEVENT
BEGIN:VEVENT
DTSTART;TZID=America/New_York:20250507T190000
DTEND;TZID=America/New_York:20250507T190000
DTSTAMP:20260425T091302
CREATED:20250501T024142Z
LAST-MODIFIED:20250501T024142Z
UID:10268-1746644400-1746644400@www.hrslawrence.org
SUMMARY:Emmaus Prayer Group Women
DESCRIPTION:Shrine Center
URL:https://www.hrslawrence.org/event/emmaus-prayer-group-women-15/
END:VEVENT
BEGIN:VEVENT
DTSTART;TZID=America/New_York:20250507T100000
DTEND;TZID=America/New_York:20250507T100000
DTSTAMP:20260425T091302
CREATED:20250426T031807Z
LAST-MODIFIED:20250426T031807Z
UID:10228-1746612000-1746612000@www.hrslawrence.org
SUMMARY:Curso Bíblico
DESCRIPTION:Iglesia de abajo
URL:https://www.hrslawrence.org/event/curso-biblico-16/
END:VEVENT
BEGIN:VEVENT
DTSTART;TZID=America/New_York:20250506T190000
DTEND;TZID=America/New_York:20250506T190000
DTSTAMP:20260425T091302
CREATED:20250426T031811Z
LAST-MODIFIED:20250426T031811Z
UID:10227-1746558000-1746558000@www.hrslawrence.org
SUMMARY:Curso Bíblico
DESCRIPTION:Centro del Santuario
URL:https://www.hrslawrence.org/event/curso-biblico-17/
END:VEVENT
BEGIN:VEVENT
DTSTART;TZID=America/New_York:20250506T190000
DTEND;TZID=America/New_York:20250506T190000
DTSTAMP:20260425T091302
CREATED:20250426T031804Z
LAST-MODIFIED:20250426T031804Z
UID:10229-1746558000-1746558000@www.hrslawrence.org
SUMMARY:St Anthony’s Novena Service
DESCRIPTION:Upper church
URL:https://www.hrslawrence.org/event/st-anthonys-novena-service/
END:VEVENT
BEGIN:VEVENT
DTSTART;TZID=America/New_York:20250504T170000
DTEND;TZID=America/New_York:20250504T170000
DTSTAMP:20260425T091302
CREATED:20250501T023619Z
LAST-MODIFIED:20250501T023619Z
UID:10266-1746378000-1746378000@www.hrslawrence.org
SUMMARY:Portuguese Crowns
DESCRIPTION:Shrine Center
URL:https://www.hrslawrence.org/event/portuguese-crowns/
END:VEVENT
BEGIN:VEVENT
DTSTART;TZID=America/New_York:20250504T111500
DTEND;TZID=America/New_York:20250504T111500
DTSTAMP:20260425T091302
CREATED:20250426T030946Z
LAST-MODIFIED:20250426T030946Z
UID:10217-1746357300-1746357300@www.hrslawrence.org
SUMMARY:Adult Education
DESCRIPTION:Shrine center
URL:https://www.hrslawrence.org/event/adult-education-19/
END:VEVENT
BEGIN:VEVENT
DTSTART;TZID=America/New_York:20250504T103000
DTEND;TZID=America/New_York:20250504T103000
DTSTAMP:20260425T091302
CREATED:20250426T030949Z
LAST-MODIFIED:20250426T030949Z
UID:10218-1746354600-1746354600@www.hrslawrence.org
SUMMARY:Catecismo para Adultos en Español
DESCRIPTION:Shrine center
URL:https://www.hrslawrence.org/event/catecismo-para-adultos-en-espanol-16/
END:VEVENT
BEGIN:VEVENT
DTSTART;VALUE=DATE:20250504
DTEND;VALUE=DATE:20250505
DTSTAMP:20260425T091302
CREATED:20250426T030951Z
LAST-MODIFIED:20250426T030951Z
UID:10219-1746316800-1746403199@www.hrslawrence.org
SUMMARY:BVM Raffle all Masses
DESCRIPTION:After 10:00am mass \nAfter 12:00pm mass
URL:https://www.hrslawrence.org/event/bvm-raffle-all-masses/
END:VEVENT
BEGIN:VEVENT
DTSTART;TZID=America/New_York:20250503T160000
DTEND;TZID=America/New_York:20250503T160000
DTSTAMP:20260425T091302
CREATED:20250426T030954Z
LAST-MODIFIED:20250426T030954Z
UID:10220-1746288000-1746288000@www.hrslawrence.org
SUMMARY:BVM Raffle after Mass
DESCRIPTION:Upper church \nAfter vigil mass at 4:00pm
URL:https://www.hrslawrence.org/event/bvm-raffle-after-mass/
END:VEVENT
BEGIN:VEVENT
DTSTART;TZID=America/New_York:20250503T143000
DTEND;TZID=America/New_York:20250503T143000
DTSTAMP:20260425T091302
CREATED:20250426T030957Z
LAST-MODIFIED:20250426T030957Z
UID:10221-1746282600-1746282600@www.hrslawrence.org
SUMMARY:St Rita’s Meeting
DESCRIPTION:Shrine center
URL:https://www.hrslawrence.org/event/st-ritas-meeting-2/
END:VEVENT
BEGIN:VEVENT
DTSTART;TZID=America/New_York:20250502T170000
DTEND;TZID=America/New_York:20250502T170000
DTSTAMP:20260425T091302
CREATED:20250426T025833Z
LAST-MODIFIED:20250426T025833Z
UID:10196-1746205200-1746205200@www.hrslawrence.org
SUMMARY:Cofradía del Sagrado Corazón de Jesús
DESCRIPTION:Centro del Santuario
URL:https://www.hrslawrence.org/event/cofradia-del-sagrado-corazon-de-jesus/
END:VEVENT
END:VCALENDAR