BEGIN:VCALENDAR
VERSION:2.0
PRODID:-//Holy Rosary Shrine - ECPv6.15.20//NONSGML v1.0//EN
CALSCALE:GREGORIAN
METHOD:PUBLISH
X-WR-CALNAME:Holy Rosary Shrine
X-ORIGINAL-URL:https://www.hrslawrence.org
X-WR-CALDESC:Events for Holy Rosary Shrine
REFRESH-INTERVAL;VALUE=DURATION:PT1H
X-Robots-Tag:noindex
X-PUBLISHED-TTL:PT1H
BEGIN:VTIMEZONE
TZID:America/New_York
BEGIN:DAYLIGHT
TZOFFSETFROM:-0500
TZOFFSETTO:-0400
TZNAME:EDT
DTSTART:20240310T070000
END:DAYLIGHT
BEGIN:STANDARD
TZOFFSETFROM:-0400
TZOFFSETTO:-0500
TZNAME:EST
DTSTART:20241103T060000
END:STANDARD
BEGIN:DAYLIGHT
TZOFFSETFROM:-0500
TZOFFSETTO:-0400
TZNAME:EDT
DTSTART:20250309T070000
END:DAYLIGHT
BEGIN:STANDARD
TZOFFSETFROM:-0400
TZOFFSETTO:-0500
TZNAME:EST
DTSTART:20251102T060000
END:STANDARD
BEGIN:DAYLIGHT
TZOFFSETFROM:-0500
TZOFFSETTO:-0400
TZNAME:EDT
DTSTART:20260308T070000
END:DAYLIGHT
BEGIN:STANDARD
TZOFFSETFROM:-0400
TZOFFSETTO:-0500
TZNAME:EST
DTSTART:20261101T060000
END:STANDARD
END:VTIMEZONE
BEGIN:VEVENT
DTSTART;TZID=America/New_York:20250424T190000
DTEND;TZID=America/New_York:20250424T190000
DTSTAMP:20260425T103605
CREATED:20250419T023713Z
LAST-MODIFIED:20250419T023713Z
UID:10122-1745521200-1745521200@www.hrslawrence.org
SUMMARY:Adult Formation Talk: Theology of the Body
DESCRIPTION:On Thursday\, April 24th\, Fr. Andrew will give a talk about the “Theology of the Body” from 7:00pm to 8:00pm in the Shrine Center. A discussion and question and answer session will follow. All are invited.
URL:https://www.hrslawrence.org/event/adult-formation-talk-theology-of-the-body/
END:VEVENT
BEGIN:VEVENT
DTSTART;TZID=America/New_York:20250424T180000
DTEND;TZID=America/New_York:20250424T184500
DTSTAMP:20260425T103605
CREATED:20250419T023716Z
LAST-MODIFIED:20250419T023716Z
UID:10121-1745517600-1745520300@www.hrslawrence.org
SUMMARY:Confessions
DESCRIPTION:Lower church
URL:https://www.hrslawrence.org/event/confessions-13/
END:VEVENT
BEGIN:VEVENT
DTSTART;VALUE=DATE:20250423
DTEND;VALUE=DATE:20250425
DTSTAMP:20260425T103605
CREATED:20250419T023725Z
LAST-MODIFIED:20250419T023725Z
UID:10118-1745366400-1745539199@www.hrslawrence.org
SUMMARY:Youth Days
DESCRIPTION:Our Lady of Guadalupe Franciscan Youth Group Retreat\n \nThis Wednesday\, April 23rd and 24th\, 2024 from 9:00am to 4:00pm at Holy Rosary Shrine Center. There will be prayers\, games\, crafts\, catechesis\, prizes\, lunch\, snack and water provided. Young people from ages 8-18 are welcome. Those under 8 need to be accompanied by a parent or legal guardian at all times. Youth Mass at 2:00pm in the Upper Church.
URL:https://www.hrslawrence.org/event/youth-days/
END:VEVENT
END:VCALENDAR