BEGIN:VCALENDAR
VERSION:2.0
PRODID:-//Holy Rosary Shrine - ECPv6.15.20//NONSGML v1.0//EN
CALSCALE:GREGORIAN
METHOD:PUBLISH
X-WR-CALNAME:Holy Rosary Shrine
X-ORIGINAL-URL:https://www.hrslawrence.org
X-WR-CALDESC:Events for Holy Rosary Shrine
REFRESH-INTERVAL;VALUE=DURATION:PT1H
X-Robots-Tag:noindex
X-PUBLISHED-TTL:PT1H
BEGIN:VTIMEZONE
TZID:America/New_York
BEGIN:DAYLIGHT
TZOFFSETFROM:-0500
TZOFFSETTO:-0400
TZNAME:EDT
DTSTART:20240310T070000
END:DAYLIGHT
BEGIN:STANDARD
TZOFFSETFROM:-0400
TZOFFSETTO:-0500
TZNAME:EST
DTSTART:20241103T060000
END:STANDARD
BEGIN:DAYLIGHT
TZOFFSETFROM:-0500
TZOFFSETTO:-0400
TZNAME:EDT
DTSTART:20250309T070000
END:DAYLIGHT
BEGIN:STANDARD
TZOFFSETFROM:-0400
TZOFFSETTO:-0500
TZNAME:EST
DTSTART:20251102T060000
END:STANDARD
BEGIN:DAYLIGHT
TZOFFSETFROM:-0500
TZOFFSETTO:-0400
TZNAME:EDT
DTSTART:20260308T070000
END:DAYLIGHT
BEGIN:STANDARD
TZOFFSETFROM:-0400
TZOFFSETTO:-0500
TZNAME:EST
DTSTART:20261101T060000
END:STANDARD
END:VTIMEZONE
BEGIN:VEVENT
DTSTART;TZID=America/New_York:20250715T190000
DTEND;TZID=America/New_York:20250715T190000
DTSTAMP:20260425T092014
CREATED:20250709T220620Z
LAST-MODIFIED:20250709T220620Z
UID:10781-1752606000-1752606000@www.hrslawrence.org
SUMMARY:Curso Bíblico
DESCRIPTION:Centro del santuario
URL:https://www.hrslawrence.org/event/curso-biblico-36/
END:VEVENT
BEGIN:VEVENT
DTSTART;TZID=America/New_York:20250713T103000
DTEND;TZID=America/New_York:20250713T103000
DTSTAMP:20260425T092014
CREATED:20250705T032203Z
LAST-MODIFIED:20250705T032203Z
UID:10764-1752402600-1752402600@www.hrslawrence.org
SUMMARY:Catecismo para adultos en Español
DESCRIPTION:Centro del santuario
URL:https://www.hrslawrence.org/event/catecismo-para-adultos-en-espanol-26/
END:VEVENT
BEGIN:VEVENT
DTSTART;VALUE=DATE:20250713
DTEND;VALUE=DATE:20250721
DTSTAMP:20260425T092014
CREATED:20250705T032525Z
LAST-MODIFIED:20250705T032525Z
UID:10777-1752364800-1753055999@www.hrslawrence.org
SUMMARY:Friars Retreat
DESCRIPTION:The friars will be out for the week on their annual community retreat.
URL:https://www.hrslawrence.org/event/friars-retreat/
END:VEVENT
BEGIN:VEVENT
DTSTART;TZID=America/New_York:20250712T140000
DTEND;TZID=America/New_York:20250712T140000
DTSTAMP:20260425T092014
CREATED:20250705T032205Z
LAST-MODIFIED:20250705T032205Z
UID:10763-1752328800-1752328800@www.hrslawrence.org
SUMMARY:Bautismo
DESCRIPTION:Iglesia de arriba
URL:https://www.hrslawrence.org/event/bautismo-4/
END:VEVENT
BEGIN:VEVENT
DTSTART;TZID=America/New_York:20250712T100000
DTEND;TZID=America/New_York:20250712T154500
DTSTAMP:20260425T092014
CREATED:20250705T032207Z
LAST-MODIFIED:20250705T032207Z
UID:10761-1752314400-1752335100@www.hrslawrence.org
SUMMARY:Confessions - Confesiones
DESCRIPTION:Upper church – Iglesia de arriba
URL:https://www.hrslawrence.org/event/confessions-confesiones-23/
END:VEVENT
BEGIN:VEVENT
DTSTART;TZID=America/New_York:20250711T170000
DTEND;TZID=America/New_York:20250711T170000
DTSTAMP:20260425T092014
CREATED:20250705T032210Z
LAST-MODIFIED:20250705T032210Z
UID:10760-1752253200-1752253200@www.hrslawrence.org
SUMMARY:Sagrado Corazón de Jesús
DESCRIPTION:Centro del Santuario
URL:https://www.hrslawrence.org/event/sagrado-corazon-de-jesus-2/
END:VEVENT
BEGIN:VEVENT
DTSTART;TZID=America/New_York:20250711T100000
DTEND;TZID=America/New_York:20250711T150000
DTSTAMP:20260425T092014
CREATED:20250705T032215Z
LAST-MODIFIED:20250705T032215Z
UID:10758-1752228000-1752246000@www.hrslawrence.org
SUMMARY:Confessions - Confesiones
DESCRIPTION:Upper church – Iglesia de arriba
URL:https://www.hrslawrence.org/event/confessions-confesiones-24/
END:VEVENT
BEGIN:VEVENT
DTSTART;TZID=America/New_York:20250711T100000
DTEND;TZID=America/New_York:20250711T150000
DTSTAMP:20260425T092014
CREATED:20250705T032212Z
LAST-MODIFIED:20250705T032212Z
UID:10759-1752228000-1752246000@www.hrslawrence.org
SUMMARY:Adoration - Adoración
DESCRIPTION:Upper church – Iglesia de arriba
URL:https://www.hrslawrence.org/event/adoration-adoracion-9/
END:VEVENT
BEGIN:VEVENT
DTSTART;TZID=America/New_York:20250710T200000
DTEND;TZID=America/New_York:20250710T200000
DTSTAMP:20260425T092014
CREATED:20250705T032222Z
LAST-MODIFIED:20250705T032222Z
UID:10756-1752177600-1752177600@www.hrslawrence.org
SUMMARY:Charismatic Prayer Group
DESCRIPTION:Lower church
URL:https://www.hrslawrence.org/event/charismatic-prayer-group-36/
END:VEVENT
BEGIN:VEVENT
DTSTART;TZID=America/New_York:20250710T200000
DTEND;TZID=America/New_York:20250710T200000
DTSTAMP:20260425T092014
CREATED:20250705T032218Z
LAST-MODIFIED:20250705T032218Z
UID:10757-1752177600-1752177600@www.hrslawrence.org
SUMMARY:Reunión del Grupo CERS
DESCRIPTION:Centro del Santuario
URL:https://www.hrslawrence.org/event/reunion-del-grupo-cers-38/
END:VEVENT
BEGIN:VEVENT
DTSTART;TZID=America/New_York:20250710T180000
DTEND;TZID=America/New_York:20250710T184500
DTSTAMP:20260425T092014
CREATED:20250705T032224Z
LAST-MODIFIED:20250705T032225Z
UID:10755-1752170400-1752173100@www.hrslawrence.org
SUMMARY:Confessions - Confesiones
DESCRIPTION:Iglesia de abajo
URL:https://www.hrslawrence.org/event/confessions-confesiones-25/
END:VEVENT
BEGIN:VEVENT
DTSTART;TZID=America/New_York:20250710T173000
DTEND;TZID=America/New_York:20250710T173000
DTSTAMP:20260425T092014
CREATED:20250705T032226Z
LAST-MODIFIED:20250705T032226Z
UID:10754-1752168600-1752168600@www.hrslawrence.org
SUMMARY:Curso Bíblico
DESCRIPTION:Centro del santuario
URL:https://www.hrslawrence.org/event/curso-biblico-33/
END:VEVENT
BEGIN:VEVENT
DTSTART;TZID=America/New_York:20250710T100000
DTEND;TZID=America/New_York:20250710T100000
DTSTAMP:20260425T092014
CREATED:20250705T032703Z
LAST-MODIFIED:20250705T032703Z
UID:10779-1752141600-1752141600@www.hrslawrence.org
SUMMARY:Legión de María
DESCRIPTION:Iglesia de abajo
URL:https://www.hrslawrence.org/event/legion-de-maria-46/
END:VEVENT
BEGIN:VEVENT
DTSTART;TZID=America/New_York:20250709T080000
DTEND;TZID=America/New_York:20250709T170000
DTSTAMP:20260425T092014
CREATED:20250709T220555Z
LAST-MODIFIED:20250709T220555Z
UID:10789-1752048000-1752080400@www.hrslawrence.org
SUMMARY:Confessions - Confesiones
DESCRIPTION:Upper church
URL:https://www.hrslawrence.org/event/confessions-confesiones-27/
END:VEVENT
BEGIN:VEVENT
DTSTART;TZID=America/New_York:20250708T190000
DTEND;TZID=America/New_York:20250708T190000
DTSTAMP:20260425T092014
CREATED:20250705T032231Z
LAST-MODIFIED:20250705T032231Z
UID:10762-1752001200-1752001200@www.hrslawrence.org
SUMMARY:Curso Bíblico
DESCRIPTION:Centro del santuario
URL:https://www.hrslawrence.org/event/curso-biblico-34/
END:VEVENT
BEGIN:VEVENT
DTSTART;TZID=America/New_York:20250706T103000
DTEND;TZID=America/New_York:20250706T103000
DTSTAMP:20260425T092014
CREATED:20250628T033627Z
LAST-MODIFIED:20250628T033627Z
UID:10714-1751797800-1751797800@www.hrslawrence.org
SUMMARY:Catecismo para Adultos en Español
DESCRIPTION:Centro del santuario
URL:https://www.hrslawrence.org/event/catecismo-para-adultos-en-espanol-25/
END:VEVENT
BEGIN:VEVENT
DTSTART;TZID=America/New_York:20250705T140000
DTEND;TZID=America/New_York:20250705T140000
DTSTAMP:20260425T092014
CREATED:20250628T033838Z
LAST-MODIFIED:20250628T033838Z
UID:10728-1751724000-1751724000@www.hrslawrence.org
SUMMARY:Bautismo
DESCRIPTION:Iglesia de arriba
URL:https://www.hrslawrence.org/event/bautismo-3/
END:VEVENT
BEGIN:VEVENT
DTSTART;TZID=America/New_York:20250705T100000
DTEND;TZID=America/New_York:20250705T154500
DTSTAMP:20260425T092014
CREATED:20250628T033629Z
LAST-MODIFIED:20250628T033629Z
UID:10713-1751709600-1751730300@www.hrslawrence.org
SUMMARY:Confessions - Confesiones
DESCRIPTION:Iglesia de arriba
URL:https://www.hrslawrence.org/event/confessions-confesiones-20/
END:VEVENT
BEGIN:VEVENT
DTSTART;TZID=America/New_York:20250704T100000
DTEND;TZID=America/New_York:20250704T150000
DTSTAMP:20260425T092014
CREATED:20250628T033636Z
LAST-MODIFIED:20250628T033636Z
UID:10710-1751623200-1751641200@www.hrslawrence.org
SUMMARY:Confessions - Confesiones
DESCRIPTION:Upper church – Iglesia de arriba.
URL:https://www.hrslawrence.org/event/confessions-confesiones-21/
END:VEVENT
BEGIN:VEVENT
DTSTART;TZID=America/New_York:20250704T100000
DTEND;TZID=America/New_York:20250704T150000
DTSTAMP:20260425T092014
CREATED:20250628T033634Z
LAST-MODIFIED:20250628T033634Z
UID:10711-1751623200-1751641200@www.hrslawrence.org
SUMMARY:Adoration - Adoración
DESCRIPTION:Upper church – Iglesia de arriba
URL:https://www.hrslawrence.org/event/adoration-adoracion-8/
END:VEVENT
BEGIN:VEVENT
DTSTART;TZID=America/New_York:20250703T200000
DTEND;TZID=America/New_York:20250703T200000
DTSTAMP:20260425T092014
CREATED:20250628T033646Z
LAST-MODIFIED:20250628T033646Z
UID:10707-1751572800-1751572800@www.hrslawrence.org
SUMMARY:Reunión del Grupo CERS
DESCRIPTION:Centro del santuario
URL:https://www.hrslawrence.org/event/reunion-del-grupo-cers-37/
END:VEVENT
BEGIN:VEVENT
DTSTART;TZID=America/New_York:20250703T200000
DTEND;TZID=America/New_York:20250703T200000
DTSTAMP:20260425T092014
CREATED:20250628T033641Z
LAST-MODIFIED:20250628T033641Z
UID:10709-1751572800-1751572800@www.hrslawrence.org
SUMMARY:Charismatic Prayer Group
DESCRIPTION:Loer church
URL:https://www.hrslawrence.org/event/charismatic-prayer-group-35/
END:VEVENT
BEGIN:VEVENT
DTSTART;TZID=America/New_York:20250703T180000
DTEND;TZID=America/New_York:20250703T184500
DTSTAMP:20260425T092014
CREATED:20250628T033643Z
LAST-MODIFIED:20250628T033643Z
UID:10708-1751565600-1751568300@www.hrslawrence.org
SUMMARY:Confessions - Confesiones
DESCRIPTION:Lower church – Iglesia de abajo
URL:https://www.hrslawrence.org/event/confessions-confesiones-22/
END:VEVENT
BEGIN:VEVENT
DTSTART;TZID=America/New_York:20250703T173000
DTEND;TZID=America/New_York:20250703T173000
DTSTAMP:20260425T092014
CREATED:20250628T033654Z
LAST-MODIFIED:20250628T033654Z
UID:10705-1751563800-1751563800@www.hrslawrence.org
SUMMARY:Curso Bíblico
DESCRIPTION:Iglesia de abajo
URL:https://www.hrslawrence.org/event/curso-biblico-31/
END:VEVENT
BEGIN:VEVENT
DTSTART;TZID=America/New_York:20250703T100000
DTEND;TZID=America/New_York:20250703T100000
DTSTAMP:20260425T092014
CREATED:20250628T033651Z
LAST-MODIFIED:20250628T033651Z
UID:10706-1751536800-1751536800@www.hrslawrence.org
SUMMARY:Legión de María
DESCRIPTION:Iglesia de abajo
URL:https://www.hrslawrence.org/event/legion-de-maria-45/
END:VEVENT
BEGIN:VEVENT
DTSTART;TZID=America/New_York:20250702T190000
DTEND;TZID=America/New_York:20250702T190000
DTSTAMP:20260425T092014
CREATED:20250628T033657Z
LAST-MODIFIED:20250628T033657Z
UID:10704-1751482800-1751482800@www.hrslawrence.org
SUMMARY:Holy Hour
DESCRIPTION:Lower church
URL:https://www.hrslawrence.org/event/holy-hour-10/
END:VEVENT
BEGIN:VEVENT
DTSTART;TZID=America/New_York:20250701T190000
DTEND;TZID=America/New_York:20250701T190000
DTSTAMP:20260425T092014
CREATED:20250628T033700Z
LAST-MODIFIED:20250628T033700Z
UID:10716-1751396400-1751396400@www.hrslawrence.org
SUMMARY:Curso Bíblico
DESCRIPTION:Centro del Santuario
URL:https://www.hrslawrence.org/event/curso-biblico-32/
END:VEVENT
BEGIN:VEVENT
DTSTART;TZID=America/New_York:20250630T093000
DTEND;TZID=America/New_York:20250703T113000
DTSTAMP:20260425T092014
CREATED:20250628T032834Z
LAST-MODIFIED:20250628T032834Z
UID:10703-1751275800-1751542200@www.hrslawrence.org
SUMMARY:Teen Summer Camp
DESCRIPTION:This week we are offering a Teen Summer Class in Church History from 9:30 am to 11:30 am\, Monday to Thursday in the Lower Church. We will study the major Ecumenical Councils of the Church. Anyone from ages 14-20 who likes Church History and wishes to learn more is welcome to attend. Afterwards\, participants can pray the Rosary\, attend Mass\, and stay for lunch. \nPlease bring your own bag lunch\, we are only providing snacks and water. If there is sufficient interest\, we can have an outdoor activity until 3:00 pm. I will offer a similar program of study for adults in the Fall. ~Fr. Andrew. \n 
URL:https://www.hrslawrence.org/event/teen-summer-camp/
END:VEVENT
BEGIN:VEVENT
DTSTART;TZID=America/New_York:20250629T100000
DTEND;TZID=America/New_York:20250629T100000
DTSTAMP:20260425T092014
CREATED:20250624T024453Z
LAST-MODIFIED:20250624T024553Z
UID:10668-1751191200-1751191200@www.hrslawrence.org
SUMMARY:Catecismo para Adultos en Español
DESCRIPTION:Centro del santuario
URL:https://www.hrslawrence.org/event/catecismo-para-adultos-en-espanol-24/
END:VEVENT
BEGIN:VEVENT
DTSTART;TZID=America/New_York:20250628T140000
DTEND;TZID=America/New_York:20250628T140000
DTSTAMP:20260425T092014
CREATED:20250624T024450Z
LAST-MODIFIED:20250624T024556Z
UID:10681-1751119200-1751119200@www.hrslawrence.org
SUMMARY:Bautismo
DESCRIPTION:Iglesia de arriba
URL:https://www.hrslawrence.org/event/bautismo-2/
END:VEVENT
END:VCALENDAR