BEGIN:VCALENDAR
VERSION:2.0
PRODID:-//Holy Rosary Shrine - ECPv6.15.20//NONSGML v1.0//EN
CALSCALE:GREGORIAN
METHOD:PUBLISH
X-WR-CALNAME:Holy Rosary Shrine
X-ORIGINAL-URL:https://www.hrslawrence.org
X-WR-CALDESC:Events for Holy Rosary Shrine
REFRESH-INTERVAL;VALUE=DURATION:PT1H
X-Robots-Tag:noindex
X-PUBLISHED-TTL:PT1H
BEGIN:VTIMEZONE
TZID:America/New_York
BEGIN:DAYLIGHT
TZOFFSETFROM:-0500
TZOFFSETTO:-0400
TZNAME:EDT
DTSTART:20240310T070000
END:DAYLIGHT
BEGIN:STANDARD
TZOFFSETFROM:-0400
TZOFFSETTO:-0500
TZNAME:EST
DTSTART:20241103T060000
END:STANDARD
BEGIN:DAYLIGHT
TZOFFSETFROM:-0500
TZOFFSETTO:-0400
TZNAME:EDT
DTSTART:20250309T070000
END:DAYLIGHT
BEGIN:STANDARD
TZOFFSETFROM:-0400
TZOFFSETTO:-0500
TZNAME:EST
DTSTART:20251102T060000
END:STANDARD
BEGIN:DAYLIGHT
TZOFFSETFROM:-0500
TZOFFSETTO:-0400
TZNAME:EDT
DTSTART:20260308T070000
END:DAYLIGHT
BEGIN:STANDARD
TZOFFSETFROM:-0400
TZOFFSETTO:-0500
TZNAME:EST
DTSTART:20261101T060000
END:STANDARD
END:VTIMEZONE
BEGIN:VEVENT
DTSTART;TZID=America/New_York:20250617T190000
DTEND;TZID=America/New_York:20250617T190000
DTSTAMP:20260425T114924
CREATED:20250614T030826Z
LAST-MODIFIED:20250614T030826Z
UID:10635-1750186800-1750186800@www.hrslawrence.org
SUMMARY:Finance Council Meeting
DESCRIPTION:Shrine center
URL:https://www.hrslawrence.org/event/finance-council-meeting-2/
END:VEVENT
BEGIN:VEVENT
DTSTART;TZID=America/New_York:20250617T190000
DTEND;TZID=America/New_York:20250617T190000
DTSTAMP:20260425T114924
CREATED:20250612T025810Z
LAST-MODIFIED:20250612T025810Z
UID:10590-1750186800-1750186800@www.hrslawrence.org
SUMMARY:Curso Bíblico
DESCRIPTION:Centro del Santuario
URL:https://www.hrslawrence.org/event/curso-biblico-28/
END:VEVENT
BEGIN:VEVENT
DTSTART;TZID=America/New_York:20250615T111500
DTEND;TZID=America/New_York:20250615T111500
DTSTAMP:20260425T114924
CREATED:20250605T022820Z
LAST-MODIFIED:20250605T022820Z
UID:10544-1749986100-1749986100@www.hrslawrence.org
SUMMARY:Adult education
DESCRIPTION:Shrine center
URL:https://www.hrslawrence.org/event/adult-education-25/
END:VEVENT
BEGIN:VEVENT
DTSTART;TZID=America/New_York:20250615T103000
DTEND;TZID=America/New_York:20250615T103000
DTSTAMP:20260425T114924
CREATED:20250605T022822Z
LAST-MODIFIED:20250605T022822Z
UID:10543-1749983400-1749983400@www.hrslawrence.org
SUMMARY:Catecismo para Adultos en Español
DESCRIPTION:Centro del santuario
URL:https://www.hrslawrence.org/event/catecismo-para-adultos-en-espanol-22/
END:VEVENT
BEGIN:VEVENT
DTSTART;TZID=America/New_York:20250614T143000
DTEND;TZID=America/New_York:20250614T143000
DTSTAMP:20260425T114924
CREATED:20250607T025039Z
LAST-MODIFIED:20250607T025039Z
UID:10576-1749911400-1749911400@www.hrslawrence.org
SUMMARY:BVM Sodality
DESCRIPTION:Shrine center
URL:https://www.hrslawrence.org/event/bvm-sodality/
END:VEVENT
BEGIN:VEVENT
DTSTART;TZID=America/New_York:20250614T100000
DTEND;TZID=America/New_York:20250614T154500
DTSTAMP:20260425T114924
CREATED:20250605T022825Z
LAST-MODIFIED:20250605T022825Z
UID:10542-1749895200-1749915900@www.hrslawrence.org
SUMMARY:Confessions/Confesiones
DESCRIPTION:Upper church / Iglesia de arriba
URL:https://www.hrslawrence.org/event/confessions-confesiones-11/
END:VEVENT
BEGIN:VEVENT
DTSTART;TZID=America/New_York:20250613T100000
DTEND;TZID=America/New_York:20250613T150000
DTSTAMP:20260425T114924
CREATED:20250605T022829Z
LAST-MODIFIED:20250605T022829Z
UID:10539-1749808800-1749826800@www.hrslawrence.org
SUMMARY:Confessions/Confesiones
DESCRIPTION:Upper church/Iglesia de arriba
URL:https://www.hrslawrence.org/event/confessions-confesiones-12/
END:VEVENT
BEGIN:VEVENT
DTSTART;TZID=America/New_York:20250613T100000
DTEND;TZID=America/New_York:20250613T150000
DTSTAMP:20260425T114924
CREATED:20250605T022827Z
LAST-MODIFIED:20250605T022827Z
UID:10540-1749808800-1749826800@www.hrslawrence.org
SUMMARY:Adoration/Adoración
DESCRIPTION:Upper church / Iglesia de arriba
URL:https://www.hrslawrence.org/event/adoration-adoracion-5/
END:VEVENT
BEGIN:VEVENT
DTSTART;TZID=America/New_York:20250612T200000
DTEND;TZID=America/New_York:20250612T200000
DTSTAMP:20260425T114924
CREATED:20250605T022835Z
LAST-MODIFIED:20250605T022835Z
UID:10537-1749758400-1749758400@www.hrslawrence.org
SUMMARY:Charismatic Prayer Group
DESCRIPTION:Lower church
URL:https://www.hrslawrence.org/event/charismatic-prayer-group-32/
END:VEVENT
BEGIN:VEVENT
DTSTART;TZID=America/New_York:20250612T200000
DTEND;TZID=America/New_York:20250612T200000
DTSTAMP:20260425T114924
CREATED:20250605T022833Z
LAST-MODIFIED:20250605T022833Z
UID:10538-1749758400-1749758400@www.hrslawrence.org
SUMMARY:Reunión del Grupo CERS
DESCRIPTION:Centro del santuario
URL:https://www.hrslawrence.org/event/reunion-del-grupo-cers/
END:VEVENT
BEGIN:VEVENT
DTSTART;TZID=America/New_York:20250612T180000
DTEND;TZID=America/New_York:20250612T184500
DTSTAMP:20260425T114924
CREATED:20250605T022838Z
LAST-MODIFIED:20250605T022838Z
UID:10536-1749751200-1749753900@www.hrslawrence.org
SUMMARY:Confessions/Confesiones
DESCRIPTION:Lower church / Iglesia de abajo
URL:https://www.hrslawrence.org/event/confessions-confesiones-13/
END:VEVENT
BEGIN:VEVENT
DTSTART;TZID=America/New_York:20250612T173000
DTEND;TZID=America/New_York:20250612T173000
DTSTAMP:20260425T114924
CREATED:20250605T022842Z
LAST-MODIFIED:20250605T022842Z
UID:10535-1749749400-1749749400@www.hrslawrence.org
SUMMARY:Curso Bíblico
DESCRIPTION:Centro del santuario
URL:https://www.hrslawrence.org/event/curso-biblico-25/
END:VEVENT
BEGIN:VEVENT
DTSTART;TZID=America/New_York:20250612T130000
DTEND;TZID=America/New_York:20250612T130000
DTSTAMP:20260425T114924
CREATED:20250607T025041Z
LAST-MODIFIED:20250607T025041Z
UID:10575-1749733200-1749733200@www.hrslawrence.org
SUMMARY:Legion of Mary Curia Meeting
DESCRIPTION:Shrine center
URL:https://www.hrslawrence.org/event/legion-of-mary-curia-meeting-10/
END:VEVENT
BEGIN:VEVENT
DTSTART;TZID=America/New_York:20250612T100000
DTEND;TZID=America/New_York:20250612T100000
DTSTAMP:20260425T114924
CREATED:20250607T025043Z
LAST-MODIFIED:20250607T025043Z
UID:10574-1749722400-1749722400@www.hrslawrence.org
SUMMARY:Legión de María
DESCRIPTION:Iglesia de abajo.
URL:https://www.hrslawrence.org/event/legion-de-maria-42/
END:VEVENT
BEGIN:VEVENT
DTSTART;TZID=America/New_York:20250611T190000
DTEND;TZID=America/New_York:20250611T190000
DTSTAMP:20260425T114924
CREATED:20250607T025045Z
LAST-MODIFIED:20250607T025045Z
UID:10573-1749668400-1749668400@www.hrslawrence.org
SUMMARY:Emmaus Prayer Group Men
DESCRIPTION:Shrine center
URL:https://www.hrslawrence.org/event/emmaus-prayer-group-men-21/
END:VEVENT
BEGIN:VEVENT
DTSTART;TZID=America/New_York:20250610T190000
DTEND;TZID=America/New_York:20250610T190000
DTSTAMP:20260425T114924
CREATED:20250607T025048Z
LAST-MODIFIED:20250607T025048Z
UID:10572-1749582000-1749582000@www.hrslawrence.org
SUMMARY:St Anthony’s Novena Mass and Reception
DESCRIPTION:Upper church and Shrine center
URL:https://www.hrslawrence.org/event/st-anthonys-novena-mass-and-reception/
END:VEVENT
BEGIN:VEVENT
DTSTART;TZID=America/New_York:20250610T190000
DTEND;TZID=America/New_York:20250610T190000
DTSTAMP:20260425T114924
CREATED:20250605T022844Z
LAST-MODIFIED:20250605T022844Z
UID:10534-1749582000-1749582000@www.hrslawrence.org
SUMMARY:Curso Bíblico
DESCRIPTION:Centro del Santuario
URL:https://www.hrslawrence.org/event/curso-biblico-26/
END:VEVENT
BEGIN:VEVENT
DTSTART;TZID=America/New_York:20250608T111500
DTEND;TZID=America/New_York:20250608T111500
DTSTAMP:20260425T114924
CREATED:20250529T011134Z
LAST-MODIFIED:20250529T011134Z
UID:10508-1749381300-1749381300@www.hrslawrence.org
SUMMARY:Adult Education
DESCRIPTION:Shrine center
URL:https://www.hrslawrence.org/event/adult-education-24/
END:VEVENT
BEGIN:VEVENT
DTSTART;TZID=America/New_York:20250608T103000
DTEND;TZID=America/New_York:20250608T103000
DTSTAMP:20260425T114924
CREATED:20250529T011136Z
LAST-MODIFIED:20250529T011136Z
UID:10507-1749378600-1749378600@www.hrslawrence.org
SUMMARY:Catecismo para Adultos en Español
DESCRIPTION:Centro del Santuario
URL:https://www.hrslawrence.org/event/catecismo-para-adultos-en-espanol-21/
END:VEVENT
BEGIN:VEVENT
DTSTART;TZID=America/New_York:20250607T143000
DTEND;TZID=America/New_York:20250607T143000
DTSTAMP:20260425T114924
CREATED:20250529T011139Z
LAST-MODIFIED:20250529T011139Z
UID:10506-1749306600-1749306600@www.hrslawrence.org
SUMMARY:St Rita Sodality
DESCRIPTION:Shrine center
URL:https://www.hrslawrence.org/event/st-rita-sodality-3/
END:VEVENT
BEGIN:VEVENT
DTSTART;TZID=America/New_York:20250607T103000
DTEND;TZID=America/New_York:20250607T103000
DTSTAMP:20260425T114924
CREATED:20250529T011142Z
LAST-MODIFIED:20250529T011142Z
UID:10505-1749292200-1749292200@www.hrslawrence.org
SUMMARY:Religious Pilgrimage
DESCRIPTION:Lower church and shrine center
URL:https://www.hrslawrence.org/event/religious-pilgrimage/
END:VEVENT
BEGIN:VEVENT
DTSTART;TZID=America/New_York:20250607T100000
DTEND;TZID=America/New_York:20250607T154500
DTSTAMP:20260425T114924
CREATED:20250529T011145Z
LAST-MODIFIED:20250529T011145Z
UID:10504-1749290400-1749311100@www.hrslawrence.org
SUMMARY:Confessions / Confesiones
DESCRIPTION:Upper church / Iglesia de arriba
URL:https://www.hrslawrence.org/event/confessions-confesiones-10/
END:VEVENT
BEGIN:VEVENT
DTSTART;TZID=America/New_York:20250606T170000
DTEND;TZID=America/New_York:20250606T170000
DTSTAMP:20260425T114924
CREATED:20250529T000219Z
LAST-MODIFIED:20250529T000219Z
UID:10491-1749229200-1749229200@www.hrslawrence.org
SUMMARY:Sagrado Corazón de Jesús
DESCRIPTION:Centro del santuario
URL:https://www.hrslawrence.org/event/sagrado-corazon-de-jesus/
END:VEVENT
BEGIN:VEVENT
DTSTART;TZID=America/New_York:20250606T100000
DTEND;TZID=America/New_York:20250606T150000
DTSTAMP:20260425T114924
CREATED:20250529T000224Z
LAST-MODIFIED:20250529T000224Z
UID:10489-1749204000-1749222000@www.hrslawrence.org
SUMMARY:Confessions / Confesiones
DESCRIPTION:Upper church / Iglesia de arriba
URL:https://www.hrslawrence.org/event/confessions-confesiones-8/
END:VEVENT
BEGIN:VEVENT
DTSTART;TZID=America/New_York:20250605T200000
DTEND;TZID=America/New_York:20250605T200000
DTSTAMP:20260425T114924
CREATED:20250529T000231Z
LAST-MODIFIED:20250529T000231Z
UID:10487-1749153600-1749153600@www.hrslawrence.org
SUMMARY:Charismatic Prayer Group
DESCRIPTION:Lower church
URL:https://www.hrslawrence.org/event/charismatic-prayer-group-31/
END:VEVENT
BEGIN:VEVENT
DTSTART;TZID=America/New_York:20250605T200000
DTEND;TZID=America/New_York:20250605T200000
DTSTAMP:20260425T114924
CREATED:20250529T000228Z
LAST-MODIFIED:20250529T000228Z
UID:10488-1749153600-1749153600@www.hrslawrence.org
SUMMARY:Reunión del Grupo CERS
DESCRIPTION:Centro del Santuario
URL:https://www.hrslawrence.org/event/reunion-del-grupo-cers-35/
END:VEVENT
BEGIN:VEVENT
DTSTART;TZID=America/New_York:20250605T180000
DTEND;TZID=America/New_York:20250605T184500
DTSTAMP:20260425T114924
CREATED:20250529T000232Z
LAST-MODIFIED:20250529T000232Z
UID:10486-1749146400-1749149100@www.hrslawrence.org
SUMMARY:Confessions / Confesiones
DESCRIPTION:Lower church / Iglesia de abajo
URL:https://www.hrslawrence.org/event/confessions-confesiones-9/
END:VEVENT
BEGIN:VEVENT
DTSTART;TZID=America/New_York:20250605T173000
DTEND;TZID=America/New_York:20250605T173000
DTSTAMP:20260425T114924
CREATED:20250529T000236Z
LAST-MODIFIED:20250529T000236Z
UID:10485-1749144600-1749144600@www.hrslawrence.org
SUMMARY:Curso Bíblico
DESCRIPTION:Centro del santuario
URL:https://www.hrslawrence.org/event/curso-biblico-23/
END:VEVENT
BEGIN:VEVENT
DTSTART;TZID=America/New_York:20250605T100000
DTEND;TZID=America/New_York:20250605T100000
DTSTAMP:20260425T114924
CREATED:20250529T000240Z
LAST-MODIFIED:20250529T000240Z
UID:10484-1749117600-1749117600@www.hrslawrence.org
SUMMARY:Legión de María
DESCRIPTION:Iglesia de abajo
URL:https://www.hrslawrence.org/event/legion-de-maria-41/
END:VEVENT
BEGIN:VEVENT
DTSTART;TZID=America/New_York:20250604T190000
DTEND;TZID=America/New_York:20250604T190000
DTSTAMP:20260425T114924
CREATED:20250529T000244Z
LAST-MODIFIED:20250529T000244Z
UID:10483-1749063600-1749063600@www.hrslawrence.org
SUMMARY:Emmaus Prayer Group Women
DESCRIPTION:Shrine center
URL:https://www.hrslawrence.org/event/emmaus-prayer-group-women-17/
END:VEVENT
END:VCALENDAR