BEGIN:VCALENDAR
VERSION:2.0
PRODID:-//Holy Rosary Shrine - ECPv6.15.20//NONSGML v1.0//EN
CALSCALE:GREGORIAN
METHOD:PUBLISH
X-ORIGINAL-URL:https://www.hrslawrence.org
X-WR-CALDESC:Events for Holy Rosary Shrine
REFRESH-INTERVAL;VALUE=DURATION:PT1H
X-Robots-Tag:noindex
X-PUBLISHED-TTL:PT1H
BEGIN:VTIMEZONE
TZID:America/New_York
BEGIN:DAYLIGHT
TZOFFSETFROM:-0500
TZOFFSETTO:-0400
TZNAME:EDT
DTSTART:20250309T070000
END:DAYLIGHT
BEGIN:STANDARD
TZOFFSETFROM:-0400
TZOFFSETTO:-0500
TZNAME:EST
DTSTART:20251102T060000
END:STANDARD
BEGIN:DAYLIGHT
TZOFFSETFROM:-0500
TZOFFSETTO:-0400
TZNAME:EDT
DTSTART:20260308T070000
END:DAYLIGHT
BEGIN:STANDARD
TZOFFSETFROM:-0400
TZOFFSETTO:-0500
TZNAME:EST
DTSTART:20261101T060000
END:STANDARD
BEGIN:DAYLIGHT
TZOFFSETFROM:-0500
TZOFFSETTO:-0400
TZNAME:EDT
DTSTART:20270314T070000
END:DAYLIGHT
BEGIN:STANDARD
TZOFFSETFROM:-0400
TZOFFSETTO:-0500
TZNAME:EST
DTSTART:20271107T060000
END:STANDARD
END:VTIMEZONE
BEGIN:VEVENT
DTSTART;TZID=America/New_York:20260501T100000
DTEND;TZID=America/New_York:20260501T150000
DTSTAMP:20260425T102939
CREATED:20260425T023335Z
LAST-MODIFIED:20260425T023335Z
UID:13000-1777629600-1777647600@www.hrslawrence.org
SUMMARY:Confessions / Confesiones
DESCRIPTION:Upper church / Iglesia de arriba
URL:https://www.hrslawrence.org/event/confessions-confesiones-144/
END:VEVENT
BEGIN:VEVENT
DTSTART;TZID=America/New_York:20260501T190000
DTEND;TZID=America/New_York:20260501T190000
DTSTAMP:20260425T102939
CREATED:20260425T023329Z
LAST-MODIFIED:20260425T023329Z
UID:13003-1777662000-1777662000@www.hrslawrence.org
SUMMARY:Sagrado Corazón de Jesús
DESCRIPTION:Iglesia de abajo
URL:https://www.hrslawrence.org/event/sagrado-corazon-de-jesus-9/
END:VEVENT
BEGIN:VEVENT
DTSTART;VALUE=DATE:20260502
DTEND;VALUE=DATE:20260504
DTSTAMP:20260425T102939
CREATED:20260425T024212Z
LAST-MODIFIED:20260425T024212Z
UID:13023-1777680000-1777852799@www.hrslawrence.org
SUMMARY:BVM Spring Raffle
DESCRIPTION:Tickets sell after all masses
URL:https://www.hrslawrence.org/event/bvm-spring-raffle/
END:VEVENT
BEGIN:VEVENT
DTSTART;TZID=America/New_York:20260502T073000
DTEND;TZID=America/New_York:20260502T073000
DTSTAMP:20260425T102939
CREATED:20260425T024228Z
LAST-MODIFIED:20260425T024228Z
UID:13018-1777707000-1777707000@www.hrslawrence.org
SUMMARY:Bible Study
DESCRIPTION:Lower church
URL:https://www.hrslawrence.org/event/bible-study/
END:VEVENT
BEGIN:VEVENT
DTSTART;TZID=America/New_York:20260502T100000
DTEND;TZID=America/New_York:20260502T154500
DTSTAMP:20260425T102939
CREATED:20260425T023331Z
LAST-MODIFIED:20260425T023331Z
UID:13002-1777716000-1777736700@www.hrslawrence.org
SUMMARY:Confessions / Confesiones
DESCRIPTION:Upper church / Iglesia de arriba
URL:https://www.hrslawrence.org/event/confessions-confesiones-143/
END:VEVENT
BEGIN:VEVENT
DTSTART;TZID=America/New_York:20260502T143000
DTEND;TZID=America/New_York:20260502T143000
DTSTAMP:20260425T102939
CREATED:20260425T024225Z
LAST-MODIFIED:20260425T024225Z
UID:13019-1777732200-1777732200@www.hrslawrence.org
SUMMARY:St Rita Sodality Meeting
DESCRIPTION:Shrine center
URL:https://www.hrslawrence.org/event/st-rita-sodality-meeting-2/
END:VEVENT
BEGIN:VEVENT
DTSTART;TZID=America/New_York:20260502T150000
DTEND;TZID=America/New_York:20260502T150000
DTSTAMP:20260425T102939
CREATED:20260425T024223Z
LAST-MODIFIED:20260425T024223Z
UID:13020-1777734000-1777734000@www.hrslawrence.org
SUMMARY:Choir Practice
DESCRIPTION:Upper church
URL:https://www.hrslawrence.org/event/choir-practice-22/
END:VEVENT
BEGIN:VEVENT
DTSTART;TZID=America/New_York:20260502T170000
DTEND;TZID=America/New_York:20260502T170000
DTSTAMP:20260425T102939
CREATED:20260425T024220Z
LAST-MODIFIED:20260425T024220Z
UID:13021-1777741200-1777741200@www.hrslawrence.org
SUMMARY:Concierto Carismático
DESCRIPTION:Centro del santuario
URL:https://www.hrslawrence.org/event/concierto-carismatico/
END:VEVENT
BEGIN:VEVENT
DTSTART;TZID=America/New_York:20260503T190000
DTEND;TZID=America/New_York:20260503T190000
DTSTAMP:20260425T102939
CREATED:20260425T024214Z
LAST-MODIFIED:20260425T024214Z
UID:13022-1777834800-1777834800@www.hrslawrence.org
SUMMARY:Marriage Prep
DESCRIPTION:Shrine center
URL:https://www.hrslawrence.org/event/marriage-prep/
END:VEVENT
END:VCALENDAR