BEGIN:VCALENDAR
VERSION:2.0
PRODID:-//Holy Rosary Shrine - ECPv6.15.20//NONSGML v1.0//EN
CALSCALE:GREGORIAN
METHOD:PUBLISH
X-ORIGINAL-URL:https://www.hrslawrence.org
X-WR-CALDESC:Events for Holy Rosary Shrine
REFRESH-INTERVAL;VALUE=DURATION:PT1H
X-Robots-Tag:noindex
X-PUBLISHED-TTL:PT1H
BEGIN:VTIMEZONE
TZID:America/New_York
BEGIN:DAYLIGHT
TZOFFSETFROM:-0500
TZOFFSETTO:-0400
TZNAME:EDT
DTSTART:20250309T070000
END:DAYLIGHT
BEGIN:STANDARD
TZOFFSETFROM:-0400
TZOFFSETTO:-0500
TZNAME:EST
DTSTART:20251102T060000
END:STANDARD
BEGIN:DAYLIGHT
TZOFFSETFROM:-0500
TZOFFSETTO:-0400
TZNAME:EDT
DTSTART:20260308T070000
END:DAYLIGHT
BEGIN:STANDARD
TZOFFSETFROM:-0400
TZOFFSETTO:-0500
TZNAME:EST
DTSTART:20261101T060000
END:STANDARD
BEGIN:DAYLIGHT
TZOFFSETFROM:-0500
TZOFFSETTO:-0400
TZNAME:EDT
DTSTART:20270314T070000
END:DAYLIGHT
BEGIN:STANDARD
TZOFFSETFROM:-0400
TZOFFSETTO:-0500
TZNAME:EST
DTSTART:20271107T060000
END:STANDARD
END:VTIMEZONE
BEGIN:VEVENT
DTSTART;TZID=America/New_York:20260122T180000
DTEND;TZID=America/New_York:20260122T184500
DTSTAMP:20260423T190638
CREATED:20260115T005640Z
LAST-MODIFIED:20260115T005640Z
UID:12141-1769104800-1769107500@www.hrslawrence.org
SUMMARY:Confessions/Confesiones
DESCRIPTION:Lower church/Iglesia de abajo
URL:https://www.hrslawrence.org/event/confessions-confesiones-106/
END:VEVENT
BEGIN:VEVENT
DTSTART;TZID=America/New_York:20260122T200000
DTEND;TZID=America/New_York:20260122T200000
DTSTAMP:20260423T190638
CREATED:20260115T005644Z
LAST-MODIFIED:20260115T005644Z
UID:12140-1769112000-1769112000@www.hrslawrence.org
SUMMARY:Reunión del Grupo CERS
DESCRIPTION:Centro del Santuario
URL:https://www.hrslawrence.org/event/reunion-del-grupo-cers-13/
END:VEVENT
BEGIN:VEVENT
DTSTART;TZID=America/New_York:20260122T200000
DTEND;TZID=America/New_York:20260122T200000
DTSTAMP:20260423T190638
CREATED:20260115T005649Z
LAST-MODIFIED:20260115T005649Z
UID:12139-1769112000-1769112000@www.hrslawrence.org
SUMMARY:Charismatic Prayer Group
DESCRIPTION:Lower church
URL:https://www.hrslawrence.org/event/charismatic-prayer-group-12/
END:VEVENT
BEGIN:VEVENT
DTSTART;TZID=America/New_York:20260123T100000
DTEND;TZID=America/New_York:20260123T150000
DTSTAMP:20260423T190638
CREATED:20260115T005636Z
LAST-MODIFIED:20260115T005636Z
UID:12143-1769162400-1769180400@www.hrslawrence.org
SUMMARY:Adoration/Adoración al Santísimo
DESCRIPTION:Upper church/Iglesia de arriba
URL:https://www.hrslawrence.org/event/adoration-adoracion-al-santisimo-11/
END:VEVENT
BEGIN:VEVENT
DTSTART;TZID=America/New_York:20260123T100000
DTEND;TZID=America/New_York:20260123T150000
DTSTAMP:20260423T190638
CREATED:20260115T005637Z
LAST-MODIFIED:20260115T005637Z
UID:12142-1769162400-1769180400@www.hrslawrence.org
SUMMARY:Confessions/Confesiones
DESCRIPTION:Upper church/Iglesia de arriba
URL:https://www.hrslawrence.org/event/confessions-confesiones-105/
END:VEVENT
BEGIN:VEVENT
DTSTART;TZID=America/New_York:20260124T100000
DTEND;TZID=America/New_York:20260124T154500
DTSTAMP:20260423T190638
CREATED:20260115T005632Z
LAST-MODIFIED:20260115T005632Z
UID:12144-1769248800-1769269500@www.hrslawrence.org
SUMMARY:Confessions/Confesiones
DESCRIPTION:Upper church / Iglesia de arriba
URL:https://www.hrslawrence.org/event/confessions-confesiones-104/
END:VEVENT
BEGIN:VEVENT
DTSTART;TZID=America/New_York:20260124T140000
DTEND;TZID=America/New_York:20260124T140000
DTSTAMP:20260423T190638
CREATED:20260115T005940Z
LAST-MODIFIED:20260115T005940Z
UID:12157-1769263200-1769263200@www.hrslawrence.org
SUMMARY:Clase de Bautismo
DESCRIPTION:Iglesia de arriba
URL:https://www.hrslawrence.org/event/clase-de-bautismo/
END:VEVENT
BEGIN:VEVENT
DTSTART;TZID=America/New_York:20260124T150000
DTEND;TZID=America/New_York:20260124T150000
DTSTAMP:20260423T190638
CREATED:20260115T005937Z
LAST-MODIFIED:20260115T005937Z
UID:12158-1769266800-1769266800@www.hrslawrence.org
SUMMARY:Choir Practice
DESCRIPTION:Upper church
URL:https://www.hrslawrence.org/event/choir-practice-9/
END:VEVENT
BEGIN:VEVENT
DTSTART;TZID=America/New_York:20260126T190000
DTEND;TZID=America/New_York:20260126T190000
DTSTAMP:20260423T190638
CREATED:20260122T024551Z
LAST-MODIFIED:20260122T024551Z
UID:12188-1769454000-1769454000@www.hrslawrence.org
SUMMARY:Men's Bible Study
DESCRIPTION:Shrine center
URL:https://www.hrslawrence.org/event/mens-bible-study-4/
END:VEVENT
BEGIN:VEVENT
DTSTART;TZID=America/New_York:20260127T190000
DTEND;TZID=America/New_York:20260127T190000
DTSTAMP:20260423T190638
CREATED:20260122T024554Z
LAST-MODIFIED:20260122T024554Z
UID:12187-1769540400-1769540400@www.hrslawrence.org
SUMMARY:Curso Bíblico
DESCRIPTION:Centro del santuario
URL:https://www.hrslawrence.org/event/curso-biblico-60/
END:VEVENT
BEGIN:VEVENT
DTSTART;TZID=America/New_York:20260127T190000
DTEND;TZID=America/New_York:20260127T190000
DTSTAMP:20260423T190638
CREATED:20260122T024943Z
LAST-MODIFIED:20260122T024943Z
UID:12221-1769540400-1769540400@www.hrslawrence.org
SUMMARY:Baptism classes
DESCRIPTION:Upper church
URL:https://www.hrslawrence.org/event/baptism-classes/
END:VEVENT
BEGIN:VEVENT
DTSTART;TZID=America/New_York:20260128T090000
DTEND;TZID=America/New_York:20260128T090000
DTSTAMP:20260423T190638
CREATED:20260122T024548Z
LAST-MODIFIED:20260122T024548Z
UID:12189-1769590800-1769590800@www.hrslawrence.org
SUMMARY:Regina Caeli Academy
DESCRIPTION:Shrine center
URL:https://www.hrslawrence.org/event/regina-caeli-academy/
END:VEVENT
BEGIN:VEVENT
DTSTART;TZID=America/New_York:20260128T190000
DTEND;TZID=America/New_York:20260128T190000
DTSTAMP:20260423T190638
CREATED:20260122T024540Z
LAST-MODIFIED:20260122T024540Z
UID:12191-1769626800-1769626800@www.hrslawrence.org
SUMMARY:Holy Hour / Hora Santa
DESCRIPTION:Lower church / Iglesia de abajo
URL:https://www.hrslawrence.org/event/holy-hour-hora-santa-24/
END:VEVENT
BEGIN:VEVENT
DTSTART;TZID=America/New_York:20260128T190000
DTEND;TZID=America/New_York:20260128T190000
DTSTAMP:20260423T190638
CREATED:20260122T024543Z
LAST-MODIFIED:20260122T024543Z
UID:12190-1769626800-1769626800@www.hrslawrence.org
SUMMARY:Emmaus Prayer Group Men
DESCRIPTION:Shrine center
URL:https://www.hrslawrence.org/event/emmaus-prayer-group-men-5/
END:VEVENT
BEGIN:VEVENT
DTSTART;TZID=America/New_York:20260129T100000
DTEND;TZID=America/New_York:20260129T100000
DTSTAMP:20260423T190638
CREATED:20260122T024537Z
LAST-MODIFIED:20260122T024537Z
UID:12192-1769680800-1769680800@www.hrslawrence.org
SUMMARY:Legión de María
DESCRIPTION:Iglesia de abajo
URL:https://www.hrslawrence.org/event/legion-de-maria-14/
END:VEVENT
BEGIN:VEVENT
DTSTART;TZID=America/New_York:20260129T173000
DTEND;TZID=America/New_York:20260129T173000
DTSTAMP:20260423T190638
CREATED:20260122T024534Z
LAST-MODIFIED:20260122T024534Z
UID:12193-1769707800-1769707800@www.hrslawrence.org
SUMMARY:Curso Bíblico
DESCRIPTION:Centro del santuario
URL:https://www.hrslawrence.org/event/curso-biblico-59/
END:VEVENT
BEGIN:VEVENT
DTSTART;TZID=America/New_York:20260129T180000
DTEND;TZID=America/New_York:20260129T184500
DTSTAMP:20260423T190638
CREATED:20260122T024525Z
LAST-MODIFIED:20260122T024525Z
UID:12196-1769709600-1769712300@www.hrslawrence.org
SUMMARY:Confessions / Confessiones
DESCRIPTION:Lower church / Iglesia de abajo
URL:https://www.hrslawrence.org/event/confessions-confessiones/
END:VEVENT
BEGIN:VEVENT
DTSTART;TZID=America/New_York:20260129T200000
DTEND;TZID=America/New_York:20260129T200000
DTSTAMP:20260423T190638
CREATED:20260122T024528Z
LAST-MODIFIED:20260122T024528Z
UID:12195-1769716800-1769716800@www.hrslawrence.org
SUMMARY:Charismatic Prayer Group
DESCRIPTION:Shrine center
URL:https://www.hrslawrence.org/event/charismatic-prayer-group-13/
END:VEVENT
BEGIN:VEVENT
DTSTART;TZID=America/New_York:20260129T200000
DTEND;TZID=America/New_York:20260129T200000
DTSTAMP:20260423T190638
CREATED:20260122T024531Z
LAST-MODIFIED:20260122T024531Z
UID:12194-1769716800-1769716800@www.hrslawrence.org
SUMMARY:Reunión del Grupo CERS
DESCRIPTION:Centro del santuario
URL:https://www.hrslawrence.org/event/reunion-del-grupo-cers-14/
END:VEVENT
BEGIN:VEVENT
DTSTART;TZID=America/New_York:20260130T100000
DTEND;TZID=America/New_York:20260130T150000
DTSTAMP:20260423T190638
CREATED:20260122T024520Z
LAST-MODIFIED:20260122T024520Z
UID:12198-1769767200-1769785200@www.hrslawrence.org
SUMMARY:Adoration / Adoración al Santísimo
DESCRIPTION:Upper church / Iglesia de arriba
URL:https://www.hrslawrence.org/event/adoration-adoracion-al-santisimo-12/
END:VEVENT
BEGIN:VEVENT
DTSTART;TZID=America/New_York:20260130T100000
DTEND;TZID=America/New_York:20260130T150000
DTSTAMP:20260423T190638
CREATED:20260122T024522Z
LAST-MODIFIED:20260122T024522Z
UID:12197-1769767200-1769785200@www.hrslawrence.org
SUMMARY:Confessions / Confesiones
DESCRIPTION:Upper church / Iglesia de arriba
URL:https://www.hrslawrence.org/event/confessions-confesiones-108/
END:VEVENT
BEGIN:VEVENT
DTSTART;TZID=America/New_York:20260131T100000
DTEND;TZID=America/New_York:20260131T100000
DTSTAMP:20260423T190638
CREATED:20260122T024517Z
LAST-MODIFIED:20260122T024517Z
UID:12200-1769853600-1769853600@www.hrslawrence.org
SUMMARY:Baptism (English)
DESCRIPTION:Upper church
URL:https://www.hrslawrence.org/event/baptism-english/
END:VEVENT
BEGIN:VEVENT
DTSTART;TZID=America/New_York:20260131T100000
DTEND;TZID=America/New_York:20260131T154500
DTSTAMP:20260423T190638
CREATED:20260122T024518Z
LAST-MODIFIED:20260122T024518Z
UID:12199-1769853600-1769874300@www.hrslawrence.org
SUMMARY:Confessions / Confesiones
DESCRIPTION:Upper church / Iglesia de arriba
URL:https://www.hrslawrence.org/event/confessions-confesiones-107/
END:VEVENT
BEGIN:VEVENT
DTSTART;TZID=America/New_York:20260131T140000
DTEND;TZID=America/New_York:20260131T140000
DTSTAMP:20260423T190638
CREATED:20260122T024514Z
LAST-MODIFIED:20260122T024514Z
UID:12202-1769868000-1769868000@www.hrslawrence.org
SUMMARY:Bautismo (Español)
DESCRIPTION:Iglesia de arriba
URL:https://www.hrslawrence.org/event/bautismo-espanol/
END:VEVENT
BEGIN:VEVENT
DTSTART;TZID=America/New_York:20260131T150000
DTEND;TZID=America/New_York:20260131T150000
DTSTAMP:20260423T190638
CREATED:20260122T024904Z
LAST-MODIFIED:20260122T024904Z
UID:12219-1769871600-1769871600@www.hrslawrence.org
SUMMARY:Choir Practice
DESCRIPTION:Upper church
URL:https://www.hrslawrence.org/event/choir-practice-10/
END:VEVENT
BEGIN:VEVENT
DTSTART;TZID=America/New_York:20260201T110000
DTEND;TZID=America/New_York:20260201T110000
DTSTAMP:20260423T190638
CREATED:20260122T024901Z
LAST-MODIFIED:20260122T024901Z
UID:12220-1769943600-1769943600@www.hrslawrence.org
SUMMARY:Tau Maria Franciscans
DESCRIPTION:Shrine center
URL:https://www.hrslawrence.org/event/tau-maria-franciscans/
END:VEVENT
BEGIN:VEVENT
DTSTART;TZID=America/New_York:20260202T190000
DTEND;TZID=America/New_York:20260202T190000
DTSTAMP:20260423T190638
CREATED:20260129T022730Z
LAST-MODIFIED:20260129T022730Z
UID:12253-1770058800-1770058800@www.hrslawrence.org
SUMMARY:Men's Bible Study Group
DESCRIPTION:Shrine center
URL:https://www.hrslawrence.org/event/mens-bible-study-group/
END:VEVENT
BEGIN:VEVENT
DTSTART;TZID=America/New_York:20260203T190000
DTEND;TZID=America/New_York:20260203T190000
DTSTAMP:20260423T190638
CREATED:20260129T022727Z
LAST-MODIFIED:20260129T022727Z
UID:12254-1770145200-1770145200@www.hrslawrence.org
SUMMARY:Curso Bíblico
DESCRIPTION:Centro del santuario
URL:https://www.hrslawrence.org/event/curso-biblico-62/
END:VEVENT
BEGIN:VEVENT
DTSTART;TZID=America/New_York:20260204T090000
DTEND;TZID=America/New_York:20260204T090000
DTSTAMP:20260423T190638
CREATED:20260129T022724Z
LAST-MODIFIED:20260129T022724Z
UID:12255-1770195600-1770195600@www.hrslawrence.org
SUMMARY:Regina Caeli Academy
DESCRIPTION:Shrine center
URL:https://www.hrslawrence.org/event/regina-caeli-academy-2/
END:VEVENT
BEGIN:VEVENT
DTSTART;TZID=America/New_York:20260204T190000
DTEND;TZID=America/New_York:20260204T190000
DTSTAMP:20260423T190638
CREATED:20260129T022720Z
LAST-MODIFIED:20260129T022720Z
UID:12256-1770231600-1770231600@www.hrslawrence.org
SUMMARY:Holy Hour/Hora Santa
DESCRIPTION:Lower church/Iglesia de abajo
URL:https://www.hrslawrence.org/event/holy-hour-hora-santa-25/
END:VEVENT
END:VCALENDAR