BEGIN:VCALENDAR
VERSION:2.0
PRODID:-//Holy Rosary Shrine - ECPv6.15.20//NONSGML v1.0//EN
CALSCALE:GREGORIAN
METHOD:PUBLISH
X-WR-CALNAME:Holy Rosary Shrine
X-ORIGINAL-URL:https://www.hrslawrence.org
X-WR-CALDESC:Events for Holy Rosary Shrine
REFRESH-INTERVAL;VALUE=DURATION:PT1H
X-Robots-Tag:noindex
X-PUBLISHED-TTL:PT1H
BEGIN:VTIMEZONE
TZID:America/New_York
BEGIN:DAYLIGHT
TZOFFSETFROM:-0500
TZOFFSETTO:-0400
TZNAME:EDT
DTSTART:20240310T070000
END:DAYLIGHT
BEGIN:STANDARD
TZOFFSETFROM:-0400
TZOFFSETTO:-0500
TZNAME:EST
DTSTART:20241103T060000
END:STANDARD
BEGIN:DAYLIGHT
TZOFFSETFROM:-0500
TZOFFSETTO:-0400
TZNAME:EDT
DTSTART:20250309T070000
END:DAYLIGHT
BEGIN:STANDARD
TZOFFSETFROM:-0400
TZOFFSETTO:-0500
TZNAME:EST
DTSTART:20251102T060000
END:STANDARD
BEGIN:DAYLIGHT
TZOFFSETFROM:-0500
TZOFFSETTO:-0400
TZNAME:EDT
DTSTART:20260308T070000
END:DAYLIGHT
BEGIN:STANDARD
TZOFFSETFROM:-0400
TZOFFSETTO:-0500
TZNAME:EST
DTSTART:20261101T060000
END:STANDARD
END:VTIMEZONE
BEGIN:VEVENT
DTSTART;TZID=America/New_York:20250807T100000
DTEND;TZID=America/New_York:20250807T100000
DTSTAMP:20260424T062212
CREATED:20250731T014650Z
LAST-MODIFIED:20250731T014650Z
UID:10922-1754560800-1754560800@www.hrslawrence.org
SUMMARY:Legión de María
DESCRIPTION:Iglesia de abajo
URL:https://www.hrslawrence.org/event/legion-de-maria/
END:VEVENT
BEGIN:VEVENT
DTSTART;TZID=America/New_York:20250806T190000
DTEND;TZID=America/New_York:20250806T190000
DTSTAMP:20260424T062212
CREATED:20250731T014811Z
LAST-MODIFIED:20250731T014811Z
UID:10929-1754506800-1754506800@www.hrslawrence.org
SUMMARY:Holy Hour - Hora Santa
DESCRIPTION:Lower church – Iglesia de abajo
URL:https://www.hrslawrence.org/event/holy-hour-hora-santa-2/
END:VEVENT
BEGIN:VEVENT
DTSTART;TZID=America/New_York:20250805T190000
DTEND;TZID=America/New_York:20250805T190000
DTSTAMP:20260424T062212
CREATED:20250731T014656Z
LAST-MODIFIED:20250731T014656Z
UID:10920-1754420400-1754420400@www.hrslawrence.org
SUMMARY:Curso Bíblico
DESCRIPTION:Centro del santuario o iglesia de abajo
URL:https://www.hrslawrence.org/event/curso-biblico-41/
END:VEVENT
BEGIN:VEVENT
DTSTART;TZID=America/New_York:20250804T180000
DTEND;TZID=America/New_York:20250804T200000
DTSTAMP:20260424T062212
CREATED:20250731T014700Z
LAST-MODIFIED:20250731T014700Z
UID:10919-1754330400-1754337600@www.hrslawrence.org
SUMMARY:Shrine Fair Collection
DESCRIPTION:Shrine center
URL:https://www.hrslawrence.org/event/shrine-fair-collection-3/
END:VEVENT
BEGIN:VEVENT
DTSTART;TZID=America/New_York:20250803T131500
DTEND;TZID=America/New_York:20250803T131500
DTSTAMP:20260424T062212
CREATED:20250724T015652Z
LAST-MODIFIED:20250724T015652Z
UID:10896-1754226900-1754226900@www.hrslawrence.org
SUMMARY:Los Caballeros de Colón - Compartir
DESCRIPTION:Centro del santuario
URL:https://www.hrslawrence.org/event/los-caballeros-de-colon-compartir/
END:VEVENT
BEGIN:VEVENT
DTSTART;TZID=America/New_York:20250803T103000
DTEND;TZID=America/New_York:20250803T103000
DTSTAMP:20260424T062212
CREATED:20250724T014611Z
LAST-MODIFIED:20250724T014611Z
UID:10882-1754217000-1754217000@www.hrslawrence.org
SUMMARY:Catecismo para Adultos en Español
DESCRIPTION:Centro del santuario
URL:https://www.hrslawrence.org/event/catecismo-para-adultos-en-espanol-29/
END:VEVENT
BEGIN:VEVENT
DTSTART;TZID=America/New_York:20250802T100000
DTEND;TZID=America/New_York:20250802T154500
DTSTAMP:20260424T062212
CREATED:20250724T014613Z
LAST-MODIFIED:20250724T014613Z
UID:10881-1754128800-1754149500@www.hrslawrence.org
SUMMARY:Confessions - Confesiones
DESCRIPTION:Upper church
URL:https://www.hrslawrence.org/event/confessions-confesiones-33/
END:VEVENT
BEGIN:VEVENT
DTSTART;TZID=America/New_York:20250801T170000
DTEND;TZID=America/New_York:20250801T170000
DTSTAMP:20260424T062212
CREATED:20250724T015655Z
LAST-MODIFIED:20250724T015655Z
UID:10884-1754067600-1754067600@www.hrslawrence.org
SUMMARY:Sagrado Corazón de Jesús
DESCRIPTION:Iglesia de abajo
URL:https://www.hrslawrence.org/event/sagrado-corazon-de-jesus-3/
END:VEVENT
BEGIN:VEVENT
DTSTART;TZID=America/New_York:20250801T100000
DTEND;TZID=America/New_York:20250801T150000
DTSTAMP:20260424T062212
CREATED:20250724T014620Z
LAST-MODIFIED:20250724T014620Z
UID:10879-1754042400-1754060400@www.hrslawrence.org
SUMMARY:Confessions - Confesiones
DESCRIPTION:Upper church – Iglesia de arriba
URL:https://www.hrslawrence.org/event/confessions-confesiones-34/
END:VEVENT
BEGIN:VEVENT
DTSTART;TZID=America/New_York:20250801T100000
DTEND;TZID=America/New_York:20250801T150000
DTSTAMP:20260424T062212
CREATED:20250724T014616Z
LAST-MODIFIED:20250724T014616Z
UID:10880-1754042400-1754060400@www.hrslawrence.org
SUMMARY:Adoration - Adoración
DESCRIPTION:Upper church – Iglesia de arriba
URL:https://www.hrslawrence.org/event/adoration-adoracion-12/
END:VEVENT
BEGIN:VEVENT
DTSTART;TZID=America/New_York:20250731T200000
DTEND;TZID=America/New_York:20250731T200000
DTSTAMP:20260424T062212
CREATED:20250724T014627Z
LAST-MODIFIED:20250724T014627Z
UID:10877-1753992000-1753992000@www.hrslawrence.org
SUMMARY:Reunión del Grupo CERS
DESCRIPTION:Centro del santuario
URL:https://www.hrslawrence.org/event/reunion-del-grupo-cers-41/
END:VEVENT
BEGIN:VEVENT
DTSTART;TZID=America/New_York:20250731T200000
DTEND;TZID=America/New_York:20250731T200000
DTSTAMP:20260424T062212
CREATED:20250724T014623Z
LAST-MODIFIED:20250724T014623Z
UID:10878-1753992000-1753992000@www.hrslawrence.org
SUMMARY:Charismatic Prayer Group
DESCRIPTION:Lower church
URL:https://www.hrslawrence.org/event/charismatic-prayer-group-39/
END:VEVENT
BEGIN:VEVENT
DTSTART;TZID=America/New_York:20250731T180000
DTEND;TZID=America/New_York:20250731T184500
DTSTAMP:20260424T062212
CREATED:20250724T014630Z
LAST-MODIFIED:20250724T014630Z
UID:10875-1753984800-1753987500@www.hrslawrence.org
SUMMARY:Confessions - Confesiones
DESCRIPTION:Lower church – Iglesia de abajo
URL:https://www.hrslawrence.org/event/confessions-confesiones-35/
END:VEVENT
BEGIN:VEVENT
DTSTART;TZID=America/New_York:20250731T100000
DTEND;TZID=America/New_York:20250731T100000
DTSTAMP:20260424T062212
CREATED:20250724T014633Z
LAST-MODIFIED:20250724T014633Z
UID:10876-1753956000-1753956000@www.hrslawrence.org
SUMMARY:Legión de María
DESCRIPTION:Iglesia de abajo
URL:https://www.hrslawrence.org/event/legion-de-maria-49/
END:VEVENT
BEGIN:VEVENT
DTSTART;TZID=America/New_York:20250730T190000
DTEND;TZID=America/New_York:20250730T190000
DTSTAMP:20260424T062212
CREATED:20250724T014637Z
LAST-MODIFIED:20250724T014637Z
UID:10874-1753902000-1753902000@www.hrslawrence.org
SUMMARY:Holy Hour - Hora Santa
DESCRIPTION:Lower church – Iglesia de abajo
URL:https://www.hrslawrence.org/event/holy-hour-hora-santa/
END:VEVENT
BEGIN:VEVENT
DTSTART;TZID=America/New_York:20250729T190000
DTEND;TZID=America/New_York:20250729T190000
DTSTAMP:20260424T062212
CREATED:20250724T014642Z
LAST-MODIFIED:20250724T014642Z
UID:10873-1753815600-1753815600@www.hrslawrence.org
SUMMARY:Curso Bíblico
DESCRIPTION:Centro del santuario o Iglesia de abajo
URL:https://www.hrslawrence.org/event/curso-biblico-39/
END:VEVENT
BEGIN:VEVENT
DTSTART;TZID=America/New_York:20250728T180000
DTEND;TZID=America/New_York:20250728T200000
DTSTAMP:20260424T062212
CREATED:20250724T015659Z
LAST-MODIFIED:20250724T015659Z
UID:10883-1753725600-1753732800@www.hrslawrence.org
SUMMARY:Shrine Fair Collection
DESCRIPTION:Shrine center
URL:https://www.hrslawrence.org/event/shrine-fair-collection-2/
END:VEVENT
BEGIN:VEVENT
DTSTART;TZID=America/New_York:20250727T103000
DTEND;TZID=America/New_York:20250727T103000
DTSTAMP:20260424T062212
CREATED:20250717T022028Z
LAST-MODIFIED:20250717T022028Z
UID:10832-1753612200-1753612200@www.hrslawrence.org
SUMMARY:Catecismo para Adultos en Español
DESCRIPTION:Centro del santuario
URL:https://www.hrslawrence.org/event/catecismo-para-adultos-en-espanol-28/
END:VEVENT
BEGIN:VEVENT
DTSTART;TZID=America/New_York:20250726T140000
DTEND;TZID=America/New_York:20250726T140000
DTSTAMP:20260424T062212
CREATED:20250718T021433Z
LAST-MODIFIED:20250718T021433Z
UID:10868-1753538400-1753538400@www.hrslawrence.org
SUMMARY:Bautismo - En Español
DESCRIPTION:Iglesia de abajo
URL:https://www.hrslawrence.org/event/bautismo-en-espanol/
END:VEVENT
BEGIN:VEVENT
DTSTART;TZID=America/New_York:20250726T100000
DTEND;TZID=America/New_York:20250726T154500
DTSTAMP:20260424T062212
CREATED:20250717T022033Z
LAST-MODIFIED:20250717T022033Z
UID:10830-1753524000-1753544700@www.hrslawrence.org
SUMMARY:Confessions - Confesiones
DESCRIPTION:Upper church / Iglesia de arriba
URL:https://www.hrslawrence.org/event/confessions-confesiones-30/
END:VEVENT
BEGIN:VEVENT
DTSTART;TZID=America/New_York:20250726T100000
DTEND;TZID=America/New_York:20250726T100000
DTSTAMP:20260424T062212
CREATED:20250718T021341Z
LAST-MODIFIED:20250718T021341Z
UID:10866-1753524000-1753524000@www.hrslawrence.org
SUMMARY:Baptism - English
DESCRIPTION:Lower church
URL:https://www.hrslawrence.org/event/baptism-english-5/
END:VEVENT
BEGIN:VEVENT
DTSTART;TZID=America/New_York:20250725T100000
DTEND;TZID=America/New_York:20250725T150000
DTSTAMP:20260424T062212
CREATED:20250717T022038Z
LAST-MODIFIED:20250717T022038Z
UID:10828-1753437600-1753455600@www.hrslawrence.org
SUMMARY:Confessions - Confesiones
DESCRIPTION:Upper church / Iglesia de arriba
URL:https://www.hrslawrence.org/event/confessions-confesiones-31/
END:VEVENT
BEGIN:VEVENT
DTSTART;TZID=America/New_York:20250725T100000
DTEND;TZID=America/New_York:20250725T150000
DTSTAMP:20260424T062212
CREATED:20250717T022036Z
LAST-MODIFIED:20250717T022139Z
UID:10829-1753437600-1753455600@www.hrslawrence.org
SUMMARY:Adoration - Adoración
DESCRIPTION:Upper church/Iglesia de arriba
URL:https://www.hrslawrence.org/event/adoration-adoracion-11/
END:VEVENT
BEGIN:VEVENT
DTSTART;TZID=America/New_York:20250724T200000
DTEND;TZID=America/New_York:20250724T200000
DTSTAMP:20260424T062212
CREATED:20250717T022045Z
LAST-MODIFIED:20250717T022045Z
UID:10826-1753387200-1753387200@www.hrslawrence.org
SUMMARY:Charismatic Prayer Group
DESCRIPTION:Lower church
URL:https://www.hrslawrence.org/event/charismatic-prayer-group-38/
END:VEVENT
BEGIN:VEVENT
DTSTART;TZID=America/New_York:20250724T200000
DTEND;TZID=America/New_York:20250724T200000
DTSTAMP:20260424T062212
CREATED:20250717T022042Z
LAST-MODIFIED:20250717T022042Z
UID:10827-1753387200-1753387200@www.hrslawrence.org
SUMMARY:Reunión del Grupo CERS
DESCRIPTION:Centro del Santuario
URL:https://www.hrslawrence.org/event/reunion-del-grupo-cers-40/
END:VEVENT
BEGIN:VEVENT
DTSTART;TZID=America/New_York:20250724T180000
DTEND;TZID=America/New_York:20250724T184500
DTSTAMP:20260424T062212
CREATED:20250717T022048Z
LAST-MODIFIED:20250717T022048Z
UID:10825-1753380000-1753382700@www.hrslawrence.org
SUMMARY:Confessions  - Confesiones
DESCRIPTION:Iglesia de abajo
URL:https://www.hrslawrence.org/event/confessions-confesiones-32/
END:VEVENT
BEGIN:VEVENT
DTSTART;TZID=America/New_York:20250724T100000
DTEND;TZID=America/New_York:20250724T100000
DTSTAMP:20260424T062212
CREATED:20250717T022052Z
LAST-MODIFIED:20250717T022052Z
UID:10824-1753351200-1753351200@www.hrslawrence.org
SUMMARY:Legión de María
DESCRIPTION:Iglesia de abajo
URL:https://www.hrslawrence.org/event/legion-de-maria-48/
END:VEVENT
BEGIN:VEVENT
DTSTART;TZID=America/New_York:20250722T190000
DTEND;TZID=America/New_York:20250722T190000
DTSTAMP:20260424T062212
CREATED:20250718T021143Z
LAST-MODIFIED:20250718T021143Z
UID:10864-1753210800-1753210800@www.hrslawrence.org
SUMMARY:Baptism Class
DESCRIPTION:Lower church
URL:https://www.hrslawrence.org/event/baptism-class/
END:VEVENT
BEGIN:VEVENT
DTSTART;TZID=America/New_York:20250722T190000
DTEND;TZID=America/New_York:20250722T190000
DTSTAMP:20260424T062212
CREATED:20250717T022100Z
LAST-MODIFIED:20250718T021245Z
UID:10822-1753210800-1753210800@www.hrslawrence.org
SUMMARY:Curso Bíblico
DESCRIPTION:Centro del santuario
URL:https://www.hrslawrence.org/event/curso-biblico-38/
END:VEVENT
BEGIN:VEVENT
DTSTART;TZID=America/New_York:20250721T180000
DTEND;TZID=America/New_York:20250721T200000
DTSTAMP:20260424T062212
CREATED:20250718T021514Z
LAST-MODIFIED:20250718T021514Z
UID:10870-1753120800-1753128000@www.hrslawrence.org
SUMMARY:Shrine Fair Collection
DESCRIPTION:Shrine center
URL:https://www.hrslawrence.org/event/shrine-fair-collection/
END:VEVENT
END:VCALENDAR