BEGIN:VCALENDAR
VERSION:2.0
PRODID:-//Holy Rosary Shrine - ECPv6.15.20//NONSGML v1.0//EN
CALSCALE:GREGORIAN
METHOD:PUBLISH
X-WR-CALNAME:Holy Rosary Shrine
X-ORIGINAL-URL:https://www.hrslawrence.org
X-WR-CALDESC:Events for Holy Rosary Shrine
REFRESH-INTERVAL;VALUE=DURATION:PT1H
X-Robots-Tag:noindex
X-PUBLISHED-TTL:PT1H
BEGIN:VTIMEZONE
TZID:America/New_York
BEGIN:DAYLIGHT
TZOFFSETFROM:-0500
TZOFFSETTO:-0400
TZNAME:EDT
DTSTART:20240310T070000
END:DAYLIGHT
BEGIN:STANDARD
TZOFFSETFROM:-0400
TZOFFSETTO:-0500
TZNAME:EST
DTSTART:20241103T060000
END:STANDARD
BEGIN:DAYLIGHT
TZOFFSETFROM:-0500
TZOFFSETTO:-0400
TZNAME:EDT
DTSTART:20250309T070000
END:DAYLIGHT
BEGIN:STANDARD
TZOFFSETFROM:-0400
TZOFFSETTO:-0500
TZNAME:EST
DTSTART:20251102T060000
END:STANDARD
BEGIN:DAYLIGHT
TZOFFSETFROM:-0500
TZOFFSETTO:-0400
TZNAME:EDT
DTSTART:20260308T070000
END:DAYLIGHT
BEGIN:STANDARD
TZOFFSETFROM:-0400
TZOFFSETTO:-0500
TZNAME:EST
DTSTART:20261101T060000
END:STANDARD
END:VTIMEZONE
BEGIN:VEVENT
DTSTART;TZID=America/New_York:20251002T200000
DTEND;TZID=America/New_York:20251002T200000
DTSTAMP:20260424T080717
CREATED:20250925T020257Z
LAST-MODIFIED:20250925T020257Z
UID:11333-1759435200-1759435200@www.hrslawrence.org
SUMMARY:Reunión del Grupo CERS
DESCRIPTION:Centro del santuario
URL:https://www.hrslawrence.org/event/reunion-del-grupo-cers-7/
END:VEVENT
BEGIN:VEVENT
DTSTART;TZID=America/New_York:20251002T180000
DTEND;TZID=America/New_York:20251002T184500
DTSTAMP:20260424T080717
CREATED:20250925T020302Z
LAST-MODIFIED:20250925T020302Z
UID:11331-1759428000-1759430700@www.hrslawrence.org
SUMMARY:Confessions - Confesiones
DESCRIPTION:Lower church / Iglesia de abajo
URL:https://www.hrslawrence.org/event/confessions-confesiones-63/
END:VEVENT
BEGIN:VEVENT
DTSTART;TZID=America/New_York:20251002T173000
DTEND;TZID=America/New_York:20251002T173000
DTSTAMP:20260424T080717
CREATED:20250925T020309Z
LAST-MODIFIED:20250925T020309Z
UID:11330-1759426200-1759426200@www.hrslawrence.org
SUMMARY:Curso Bíblico Avanzado
DESCRIPTION:Centro del santuario
URL:https://www.hrslawrence.org/event/curso-biblico-avanzado-6/
END:VEVENT
BEGIN:VEVENT
DTSTART;TZID=America/New_York:20251002T100000
DTEND;TZID=America/New_York:20251002T100000
DTSTAMP:20260424T080717
CREATED:20250925T020314Z
LAST-MODIFIED:20250925T020314Z
UID:11329-1759399200-1759399200@www.hrslawrence.org
SUMMARY:Legión de María
DESCRIPTION:Iglesia de abajo
URL:https://www.hrslawrence.org/event/legion-de-maria-9/
END:VEVENT
BEGIN:VEVENT
DTSTART;TZID=America/New_York:20251001T190000
DTEND;TZID=America/New_York:20251001T190000
DTSTAMP:20260424T080717
CREATED:20250925T020318Z
LAST-MODIFIED:20250925T020318Z
UID:11328-1759345200-1759345200@www.hrslawrence.org
SUMMARY:Holy Hour - Hora Santa
DESCRIPTION:Lower church / Iglesia de abajo
URL:https://www.hrslawrence.org/event/holy-hour-hora-santa-10/
END:VEVENT
BEGIN:VEVENT
DTSTART;TZID=America/New_York:20250930T190000
DTEND;TZID=America/New_York:20250930T190000
DTSTAMP:20260424T080717
CREATED:20250925T020322Z
LAST-MODIFIED:20250925T020322Z
UID:11327-1759258800-1759258800@www.hrslawrence.org
SUMMARY:Curso Bíblico
DESCRIPTION:Centro del Santuario
URL:https://www.hrslawrence.org/event/curso-biblico-48/
END:VEVENT
BEGIN:VEVENT
DTSTART;TZID=America/New_York:20250928T100000
DTEND;TZID=America/New_York:20250928T100000
DTSTAMP:20260424T080717
CREATED:20250918T020728Z
LAST-MODIFIED:20250918T021747Z
UID:11292-1759053600-1759053600@www.hrslawrence.org
SUMMARY:Confirmation Mass
DESCRIPTION:With Bishop Robert Hennessey
URL:https://www.hrslawrence.org/event/confirmation-mass-2/
END:VEVENT
BEGIN:VEVENT
DTSTART;TZID=America/New_York:20250927T140000
DTEND;TZID=America/New_York:20250927T140000
DTSTAMP:20260424T080717
CREATED:20250918T020730Z
LAST-MODIFIED:20250918T020730Z
UID:11291-1758981600-1758981600@www.hrslawrence.org
SUMMARY:Bautismo en Español
DESCRIPTION:Iglesia de arriba
URL:https://www.hrslawrence.org/event/bautismo-en-espanol-3/
END:VEVENT
BEGIN:VEVENT
DTSTART;TZID=America/New_York:20250927T100000
DTEND;TZID=America/New_York:20250927T154500
DTSTAMP:20260424T080717
CREATED:20250918T020734Z
LAST-MODIFIED:20250918T020734Z
UID:11290-1758967200-1758987900@www.hrslawrence.org
SUMMARY:Confessions / Confesiones
DESCRIPTION:Upper church – Iglesia de arriba
URL:https://www.hrslawrence.org/event/confessions-confesiones-58/
END:VEVENT
BEGIN:VEVENT
DTSTART;TZID=America/New_York:20250926T100000
DTEND;TZID=America/New_York:20250926T150000
DTSTAMP:20260424T080717
CREATED:20250918T020742Z
LAST-MODIFIED:20250918T020742Z
UID:11287-1758880800-1758898800@www.hrslawrence.org
SUMMARY:Confessions / Confesiones
DESCRIPTION:Upper church / Iglesia de arriba
URL:https://www.hrslawrence.org/event/confessions-confesiones-59/
END:VEVENT
BEGIN:VEVENT
DTSTART;TZID=America/New_York:20250926T100000
DTEND;TZID=America/New_York:20250926T150000
DTSTAMP:20260424T080717
CREATED:20250918T020739Z
LAST-MODIFIED:20250918T020739Z
UID:11288-1758880800-1758898800@www.hrslawrence.org
SUMMARY:Adoration / Adoración
DESCRIPTION:Upper church – Iglesia de arriba
URL:https://www.hrslawrence.org/event/adoration-adoracion-19/
END:VEVENT
BEGIN:VEVENT
DTSTART;VALUE=DATE:20250926
DTEND;VALUE=DATE:20250928
DTSTAMP:20260424T080717
CREATED:20250918T020737Z
LAST-MODIFIED:20250918T020737Z
UID:11289-1758844800-1759017599@www.hrslawrence.org
SUMMARY:Retiro Comunidad Hispana
DESCRIPTION:Centro del Santuario\nViernes a partir de las 6pm \nSábado a partir de las 8am
URL:https://www.hrslawrence.org/event/retiro-comunidad-hispana/
END:VEVENT
BEGIN:VEVENT
DTSTART;TZID=America/New_York:20250925T200000
DTEND;TZID=America/New_York:20250925T200000
DTSTAMP:20260424T080717
CREATED:20250918T020749Z
LAST-MODIFIED:20250918T020749Z
UID:11285-1758830400-1758830400@www.hrslawrence.org
SUMMARY:Charismatic Prayer Group
DESCRIPTION:Lower church
URL:https://www.hrslawrence.org/event/charismatic-prayer-group-45/
END:VEVENT
BEGIN:VEVENT
DTSTART;TZID=America/New_York:20250925T200000
DTEND;TZID=America/New_York:20250925T200000
DTSTAMP:20260424T080717
CREATED:20250918T020745Z
LAST-MODIFIED:20250918T020745Z
UID:11286-1758830400-1758830400@www.hrslawrence.org
SUMMARY:Reunión del Grupo CERS
DESCRIPTION:Centro del santuario
URL:https://www.hrslawrence.org/event/reunion-del-grupo-cers-6/
END:VEVENT
BEGIN:VEVENT
DTSTART;TZID=America/New_York:20250925T180000
DTEND;TZID=America/New_York:20250925T184500
DTSTAMP:20260424T080717
CREATED:20250918T020752Z
LAST-MODIFIED:20250918T020752Z
UID:11284-1758823200-1758825900@www.hrslawrence.org
SUMMARY:Confessions / Confesiones
DESCRIPTION:Lower church – Iglesia de abajo
URL:https://www.hrslawrence.org/event/confessions-confesiones-60/
END:VEVENT
BEGIN:VEVENT
DTSTART;TZID=America/New_York:20250925T173000
DTEND;TZID=America/New_York:20250925T173000
DTSTAMP:20260424T080717
CREATED:20250918T020802Z
LAST-MODIFIED:20250925T020403Z
UID:11281-1758821400-1758821400@www.hrslawrence.org
SUMMARY:Curso Bíblico Avanzado
DESCRIPTION:Centro del santuario
URL:https://www.hrslawrence.org/event/curso-biblico-avanzado-5/
END:VEVENT
BEGIN:VEVENT
DTSTART;TZID=America/New_York:20250925T100000
DTEND;TZID=America/New_York:20250925T100000
DTSTAMP:20260424T080717
CREATED:20250918T020755Z
LAST-MODIFIED:20250918T020755Z
UID:11283-1758794400-1758794400@www.hrslawrence.org
SUMMARY:Legión de María
DESCRIPTION:Iglesia de abajo
URL:https://www.hrslawrence.org/event/legion-de-maria-8/
END:VEVENT
BEGIN:VEVENT
DTSTART;TZID=America/New_York:20250924T190000
DTEND;TZID=America/New_York:20250924T190000
DTSTAMP:20260424T080717
CREATED:20250918T020806Z
LAST-MODIFIED:20250918T020806Z
UID:11280-1758740400-1758740400@www.hrslawrence.org
SUMMARY:Holy Hour / Hora Santa
DESCRIPTION:Lower church / Iglesia de abajo
URL:https://www.hrslawrence.org/event/holy-hour-hora-santa-9/
END:VEVENT
BEGIN:VEVENT
DTSTART;TZID=America/New_York:20250924T190000
DTEND;TZID=America/New_York:20250924T190000
DTSTAMP:20260424T080717
CREATED:20250918T020759Z
LAST-MODIFIED:20250918T020759Z
UID:11282-1758740400-1758740400@www.hrslawrence.org
SUMMARY:Emmaus Prayer Group Men
DESCRIPTION:Shrine center
URL:https://www.hrslawrence.org/event/emmaus-prayer-group-men/
END:VEVENT
BEGIN:VEVENT
DTSTART;TZID=America/New_York:20250923T190000
DTEND;TZID=America/New_York:20250923T190000
DTSTAMP:20260424T080717
CREATED:20250918T020810Z
LAST-MODIFIED:20250918T020810Z
UID:11279-1758654000-1758654000@www.hrslawrence.org
SUMMARY:Curso Bíblico
DESCRIPTION:Centro del santuario
URL:https://www.hrslawrence.org/event/curso-biblico-47/
END:VEVENT
BEGIN:VEVENT
DTSTART;TZID=America/New_York:20250922T190000
DTEND;TZID=America/New_York:20250922T190000
DTSTAMP:20260424T080717
CREATED:20250918T020813Z
LAST-MODIFIED:20250918T020813Z
UID:11278-1758567600-1758567600@www.hrslawrence.org
SUMMARY:Shrine Fair Wrap-up Meeting
DESCRIPTION:There will be a shrine fair wrap-up meeting on Monday\, September 22 at 7:00pm in the Shrine Center. All Shrine Fair workers are invited and encouraged to attend and share any advice or suggestions regarding the Fair. I will review each table’s sales and all the money collected and deposited. Hope to see you all there\, and once again\, thank-you for helping and for all your hard work which made the fair a huge success. ~Wayne Pickles
URL:https://www.hrslawrence.org/event/shrine-fair-wrap-up-meeting-2/
END:VEVENT
BEGIN:VEVENT
DTSTART;VALUE=DATE:20250921
DTEND;VALUE=DATE:20250922
DTSTAMP:20260424T080717
CREATED:20250911T022412Z
LAST-MODIFIED:20250912T020259Z
UID:11232-1758412800-1758499199@www.hrslawrence.org
SUMMARY:Holy Ghost Feast
DESCRIPTION:Holy Rosary Shrine Jubilee Events\nHoly Ghost Feast\n9:30 AM – Procession to church from shrine center\n10:00 AM – Celebration of Holy Mass in Honor of the Holy Ghost\n11:00 AM – Procession from church to shrine center\n12:00 PM – Gathering\n12:30 PM – Serving of Traditional Holy Ghost Soups\n3:00-9:00 PM – Music and Dancing with DJ Matrix \nEvening – Drawing of 7 weeks crowns
URL:https://www.hrslawrence.org/event/holy-ghost-feast-2/
END:VEVENT
BEGIN:VEVENT
DTSTART;TZID=America/New_York:20250920T140000
DTEND;TZID=America/New_York:20250920T140000
DTSTAMP:20260424T080717
CREATED:20250911T022415Z
LAST-MODIFIED:20250911T022415Z
UID:11231-1758376800-1758376800@www.hrslawrence.org
SUMMARY:Clases de Bautismo
DESCRIPTION:Iglesia de arriba
URL:https://www.hrslawrence.org/event/clases-de-bautismo-3/
END:VEVENT
BEGIN:VEVENT
DTSTART;TZID=America/New_York:20250920T100000
DTEND;TZID=America/New_York:20250920T154500
DTSTAMP:20260424T080717
CREATED:20250911T022418Z
LAST-MODIFIED:20250911T022418Z
UID:11230-1758362400-1758383100@www.hrslawrence.org
SUMMARY:Confessions - Confesiones
DESCRIPTION:Upper church / Iglesia de arriba
URL:https://www.hrslawrence.org/event/confessions-confesiones-55/
END:VEVENT
BEGIN:VEVENT
DTSTART;TZID=America/New_York:20250919T100000
DTEND;TZID=America/New_York:20250919T150000
DTSTAMP:20260424T080717
CREATED:20250911T022422Z
LAST-MODIFIED:20250911T022422Z
UID:11228-1758276000-1758294000@www.hrslawrence.org
SUMMARY:Confessions - Confesiones
DESCRIPTION:Upper church / Iglesia de arriba
URL:https://www.hrslawrence.org/event/confessions-confesiones-56/
END:VEVENT
BEGIN:VEVENT
DTSTART;TZID=America/New_York:20250919T100000
DTEND;TZID=America/New_York:20250919T150000
DTSTAMP:20260424T080717
CREATED:20250911T022420Z
LAST-MODIFIED:20250911T022420Z
UID:11229-1758276000-1758294000@www.hrslawrence.org
SUMMARY:Adoration - Adoración al Santísimo
DESCRIPTION:Upper church / Iglesia de arriba
URL:https://www.hrslawrence.org/event/adoration-adoracion-al-santisimo-2/
END:VEVENT
BEGIN:VEVENT
DTSTART;TZID=America/New_York:20250918T200000
DTEND;TZID=America/New_York:20250918T200000
DTSTAMP:20260424T080717
CREATED:20250911T022429Z
LAST-MODIFIED:20250911T022429Z
UID:11225-1758225600-1758225600@www.hrslawrence.org
SUMMARY:Charismatic Prayer Group
DESCRIPTION:Lower church
URL:https://www.hrslawrence.org/event/charismatic-prayer-group-44/
END:VEVENT
BEGIN:VEVENT
DTSTART;TZID=America/New_York:20250918T200000
DTEND;TZID=America/New_York:20250918T200000
DTSTAMP:20260424T080717
CREATED:20250911T022426Z
LAST-MODIFIED:20250911T022426Z
UID:11227-1758225600-1758225600@www.hrslawrence.org
SUMMARY:Reunión del Grupo CERS
DESCRIPTION:Centro del santuario
URL:https://www.hrslawrence.org/event/reunion-del-grupo-cers-5/
END:VEVENT
BEGIN:VEVENT
DTSTART;TZID=America/New_York:20250918T180000
DTEND;TZID=America/New_York:20250918T184500
DTSTAMP:20260424T080717
CREATED:20250911T022433Z
LAST-MODIFIED:20250911T022433Z
UID:11223-1758218400-1758221100@www.hrslawrence.org
SUMMARY:Confessions - Confesiones
DESCRIPTION:Lower church / Iglesia de abajo
URL:https://www.hrslawrence.org/event/confessions-confesiones-57/
END:VEVENT
BEGIN:VEVENT
DTSTART;TZID=America/New_York:20250918T173000
DTEND;TZID=America/New_York:20250918T173000
DTSTAMP:20260424T080717
CREATED:20250911T022431Z
LAST-MODIFIED:20250911T022431Z
UID:11224-1758216600-1758216600@www.hrslawrence.org
SUMMARY:Curso Bíblico Avanzado
DESCRIPTION:Iglesia de abajo
URL:https://www.hrslawrence.org/event/curso-biblico-avanzado-4/
END:VEVENT
END:VCALENDAR