BEGIN:VCALENDAR
VERSION:2.0
PRODID:-//Holy Rosary Shrine - ECPv6.15.20//NONSGML v1.0//EN
CALSCALE:GREGORIAN
METHOD:PUBLISH
X-ORIGINAL-URL:https://www.hrslawrence.org
X-WR-CALDESC:Events for Holy Rosary Shrine
REFRESH-INTERVAL;VALUE=DURATION:PT1H
X-Robots-Tag:noindex
X-PUBLISHED-TTL:PT1H
BEGIN:VTIMEZONE
TZID:America/New_York
BEGIN:DAYLIGHT
TZOFFSETFROM:-0500
TZOFFSETTO:-0400
TZNAME:EDT
DTSTART:20240310T070000
END:DAYLIGHT
BEGIN:STANDARD
TZOFFSETFROM:-0400
TZOFFSETTO:-0500
TZNAME:EST
DTSTART:20241103T060000
END:STANDARD
BEGIN:DAYLIGHT
TZOFFSETFROM:-0500
TZOFFSETTO:-0400
TZNAME:EDT
DTSTART:20250309T070000
END:DAYLIGHT
BEGIN:STANDARD
TZOFFSETFROM:-0400
TZOFFSETTO:-0500
TZNAME:EST
DTSTART:20251102T060000
END:STANDARD
BEGIN:DAYLIGHT
TZOFFSETFROM:-0500
TZOFFSETTO:-0400
TZNAME:EDT
DTSTART:20260308T070000
END:DAYLIGHT
BEGIN:STANDARD
TZOFFSETFROM:-0400
TZOFFSETTO:-0500
TZNAME:EST
DTSTART:20261101T060000
END:STANDARD
END:VTIMEZONE
BEGIN:VEVENT
DTSTART;VALUE=DATE:20250901
DTEND;VALUE=DATE:20250902
DTSTAMP:20260423T184600
CREATED:20250828T031948Z
LAST-MODIFIED:20250828T031948Z
UID:11100-1756684800-1756771199@www.hrslawrence.org
SUMMARY:Office closed
DESCRIPTION:
URL:https://www.hrslawrence.org/event/office-closed-5/
END:VEVENT
BEGIN:VEVENT
DTSTART;TZID=America/New_York:20250901T090000
DTEND;TZID=America/New_York:20250901T090000
DTSTAMP:20260423T184600
CREATED:20250828T031945Z
LAST-MODIFIED:20250828T031945Z
UID:11101-1756717200-1756717200@www.hrslawrence.org
SUMMARY:RCA
DESCRIPTION:Lower church
URL:https://www.hrslawrence.org/event/rca-2/
END:VEVENT
BEGIN:VEVENT
DTSTART;TZID=America/New_York:20250902T190000
DTEND;TZID=America/New_York:20250902T190000
DTSTAMP:20260423T184600
CREATED:20250828T031941Z
LAST-MODIFIED:20250828T031941Z
UID:11102-1756839600-1756839600@www.hrslawrence.org
SUMMARY:Curso Bíblico
DESCRIPTION:Iglesia de abajo
URL:https://www.hrslawrence.org/event/curso-biblico-44/
END:VEVENT
BEGIN:VEVENT
DTSTART;TZID=America/New_York:20250903T190000
DTEND;TZID=America/New_York:20250903T190000
DTSTAMP:20260423T184600
CREATED:20250828T031938Z
LAST-MODIFIED:20250828T031938Z
UID:11103-1756926000-1756926000@www.hrslawrence.org
SUMMARY:Holy Hour - Hora Santa
DESCRIPTION:Iglesia de abajo
URL:https://www.hrslawrence.org/event/holy-hour-hora-santa-6/
END:VEVENT
BEGIN:VEVENT
DTSTART;TZID=America/New_York:20250904T090000
DTEND;TZID=America/New_York:20250904T090000
DTSTAMP:20260423T184600
CREATED:20250828T031918Z
LAST-MODIFIED:20250828T031918Z
UID:11109-1756976400-1756976400@www.hrslawrence.org
SUMMARY:RCA
DESCRIPTION:Lower church
URL:https://www.hrslawrence.org/event/rca/
END:VEVENT
BEGIN:VEVENT
DTSTART;TZID=America/New_York:20250904T100000
DTEND;TZID=America/New_York:20250904T100000
DTSTAMP:20260423T184600
CREATED:20250828T031935Z
LAST-MODIFIED:20250828T031935Z
UID:11104-1756980000-1756980000@www.hrslawrence.org
SUMMARY:Legión de María
DESCRIPTION:Iglesia de abajo
URL:https://www.hrslawrence.org/event/legion-de-maria-6/
END:VEVENT
BEGIN:VEVENT
DTSTART;TZID=America/New_York:20250904T173000
DTEND;TZID=America/New_York:20250904T173000
DTSTAMP:20260423T184600
CREATED:20250828T031921Z
LAST-MODIFIED:20250828T031921Z
UID:11108-1757007000-1757007000@www.hrslawrence.org
SUMMARY:Curso Bíblico Avanzado
DESCRIPTION:Centro del Santuario
URL:https://www.hrslawrence.org/event/curso-biblico-avanzado-2/
END:VEVENT
BEGIN:VEVENT
DTSTART;TZID=America/New_York:20250904T180000
DTEND;TZID=America/New_York:20250904T184500
DTSTAMP:20260423T184600
CREATED:20250828T031933Z
LAST-MODIFIED:20250828T031933Z
UID:11105-1757008800-1757011500@www.hrslawrence.org
SUMMARY:Confessions - Confesiones
DESCRIPTION:Lower church – Iglesia de abajo
URL:https://www.hrslawrence.org/event/confessions-confesiones-51/
END:VEVENT
BEGIN:VEVENT
DTSTART;TZID=America/New_York:20250904T200000
DTEND;TZID=America/New_York:20250904T200000
DTSTAMP:20260423T184600
CREATED:20250828T031924Z
LAST-MODIFIED:20250828T031924Z
UID:11107-1757016000-1757016000@www.hrslawrence.org
SUMMARY:Reunión del Grupo CERS
DESCRIPTION:Iglesia de abajo
URL:https://www.hrslawrence.org/event/reunion-del-grupo-cers-3/
END:VEVENT
BEGIN:VEVENT
DTSTART;TZID=America/New_York:20250904T200000
DTEND;TZID=America/New_York:20250904T200000
DTSTAMP:20260423T184600
CREATED:20250828T031930Z
LAST-MODIFIED:20250828T031930Z
UID:11106-1757016000-1757016000@www.hrslawrence.org
SUMMARY:Charismatic Prayer Group
DESCRIPTION:Lower church
URL:https://www.hrslawrence.org/event/charismatic-prayer-group-42/
END:VEVENT
BEGIN:VEVENT
DTSTART;TZID=America/New_York:20250905T100000
DTEND;TZID=America/New_York:20250905T150000
DTSTAMP:20260423T184600
CREATED:20250828T031913Z
LAST-MODIFIED:20250828T031913Z
UID:11111-1757066400-1757084400@www.hrslawrence.org
SUMMARY:Adoration - Adoración
DESCRIPTION:Upper church – Iglesia de arriba
URL:https://www.hrslawrence.org/event/adoration-adoracion-17/
END:VEVENT
BEGIN:VEVENT
DTSTART;TZID=America/New_York:20250905T100000
DTEND;TZID=America/New_York:20250905T150000
DTSTAMP:20260423T184600
CREATED:20250828T031916Z
LAST-MODIFIED:20250828T031916Z
UID:11110-1757066400-1757084400@www.hrslawrence.org
SUMMARY:Confessions - Confesiones
DESCRIPTION:Upper church – Iglesia de arriba
URL:https://www.hrslawrence.org/event/confessions-confesiones-50/
END:VEVENT
BEGIN:VEVENT
DTSTART;TZID=America/New_York:20250905T170000
DTEND;TZID=America/New_York:20250905T170000
DTSTAMP:20260423T184600
CREATED:20250828T031911Z
LAST-MODIFIED:20250828T031911Z
UID:11112-1757091600-1757091600@www.hrslawrence.org
SUMMARY:Sagrado Corazón de Jesús
DESCRIPTION:Centro del santuario
URL:https://www.hrslawrence.org/event/sagrado-corazon-de-jesus-4/
END:VEVENT
BEGIN:VEVENT
DTSTART;TZID=America/New_York:20250906T100000
DTEND;TZID=America/New_York:20250906T154500
DTSTAMP:20260423T184600
CREATED:20250828T031908Z
LAST-MODIFIED:20250828T031908Z
UID:11113-1757152800-1757173500@www.hrslawrence.org
SUMMARY:Confessions - Confesiones
DESCRIPTION:Upper church – Iglesia de arriba
URL:https://www.hrslawrence.org/event/confessions-confesiones-49/
END:VEVENT
BEGIN:VEVENT
DTSTART;TZID=America/New_York:20250906T101500
DTEND;TZID=America/New_York:20250906T101500
DTSTAMP:20260423T184600
CREATED:20250828T031905Z
LAST-MODIFIED:20250828T031905Z
UID:11114-1757153700-1757153700@www.hrslawrence.org
SUMMARY:Traditional Latin Mass
DESCRIPTION:Upper church
URL:https://www.hrslawrence.org/event/traditional-latin-mass-2/
END:VEVENT
BEGIN:VEVENT
DTSTART;TZID=America/New_York:20250907T160000
DTEND;TZID=America/New_York:20250907T160000
DTSTAMP:20260423T184600
CREATED:20250828T031903Z
LAST-MODIFIED:20250828T031903Z
UID:11115-1757260800-1757260800@www.hrslawrence.org
SUMMARY:Penny Sale
DESCRIPTION:Shrine center
URL:https://www.hrslawrence.org/event/penny-sale-2/
END:VEVENT
BEGIN:VEVENT
DTSTART;TZID=America/New_York:20250908T190000
DTEND;TZID=America/New_York:20250908T190000
DTSTAMP:20260423T184600
CREATED:20250904T024210Z
LAST-MODIFIED:20250904T024210Z
UID:11171-1757358000-1757358000@www.hrslawrence.org
SUMMARY:Marian Gathering
DESCRIPTION:Shrine center
URL:https://www.hrslawrence.org/event/marian-gathering/
END:VEVENT
BEGIN:VEVENT
DTSTART;TZID=America/New_York:20250909T190000
DTEND;TZID=America/New_York:20250909T190000
DTSTAMP:20260423T184600
CREATED:20250904T023722Z
LAST-MODIFIED:20250904T023722Z
UID:11161-1757444400-1757444400@www.hrslawrence.org
SUMMARY:Curso Bíblico
DESCRIPTION:Iglesia de abajo o Centro del Santuario
URL:https://www.hrslawrence.org/event/curso-biblico-45/
END:VEVENT
BEGIN:VEVENT
DTSTART;TZID=America/New_York:20250910T190000
DTEND;TZID=America/New_York:20250910T190000
DTSTAMP:20260423T184600
CREATED:20250904T023718Z
LAST-MODIFIED:20250904T023718Z
UID:11162-1757530800-1757530800@www.hrslawrence.org
SUMMARY:Holy Hour - Hora Santa
DESCRIPTION:Lower church / Iglesia de abajo
URL:https://www.hrslawrence.org/event/holy-hour-hora-santa-7/
END:VEVENT
BEGIN:VEVENT
DTSTART;TZID=America/New_York:20250911T100000
DTEND;TZID=America/New_York:20250911T100000
DTSTAMP:20260423T184600
CREATED:20250904T023716Z
LAST-MODIFIED:20250904T023716Z
UID:11164-1757584800-1757584800@www.hrslawrence.org
SUMMARY:Legión de María
DESCRIPTION:Iglesia de abajo
URL:https://www.hrslawrence.org/event/legion-de-maria-7/
END:VEVENT
BEGIN:VEVENT
DTSTART;TZID=America/New_York:20250911T173000
DTEND;TZID=America/New_York:20250911T173000
DTSTAMP:20260423T184600
CREATED:20250904T023709Z
LAST-MODIFIED:20250904T023709Z
UID:11165-1757611800-1757611800@www.hrslawrence.org
SUMMARY:Curso Bíblico Avanzado
DESCRIPTION:Iglesia de abajo o centro del santuario
URL:https://www.hrslawrence.org/event/curso-biblico-avanzado-3/
END:VEVENT
BEGIN:VEVENT
DTSTART;TZID=America/New_York:20250911T180000
DTEND;TZID=America/New_York:20250911T184500
DTSTAMP:20260423T184600
CREATED:20250904T023712Z
LAST-MODIFIED:20250904T023712Z
UID:11163-1757613600-1757616300@www.hrslawrence.org
SUMMARY:Confessions - Confesiones
DESCRIPTION:Lower church / Iglesia de abajo
URL:https://www.hrslawrence.org/event/confessions-confesiones-54/
END:VEVENT
BEGIN:VEVENT
DTSTART;TZID=America/New_York:20250911T200000
DTEND;TZID=America/New_York:20250911T200000
DTSTAMP:20260423T184600
CREATED:20250904T023703Z
LAST-MODIFIED:20250904T023703Z
UID:11167-1757620800-1757620800@www.hrslawrence.org
SUMMARY:Reunión del Grupo CERS
DESCRIPTION:Iglesia de abajo o centro del santuario
URL:https://www.hrslawrence.org/event/reunion-del-grupo-cers-4/
END:VEVENT
BEGIN:VEVENT
DTSTART;TZID=America/New_York:20250911T200000
DTEND;TZID=America/New_York:20250911T200000
DTSTAMP:20260423T184600
CREATED:20250904T023706Z
LAST-MODIFIED:20250904T023706Z
UID:11166-1757620800-1757620800@www.hrslawrence.org
SUMMARY:Charismatic Prayer Group
DESCRIPTION:Lower church
URL:https://www.hrslawrence.org/event/charismatic-prayer-group-43/
END:VEVENT
BEGIN:VEVENT
DTSTART;TZID=America/New_York:20250912T100000
DTEND;TZID=America/New_York:20250912T150000
DTSTAMP:20260423T184600
CREATED:20250904T023657Z
LAST-MODIFIED:20250904T023657Z
UID:11169-1757671200-1757689200@www.hrslawrence.org
SUMMARY:Adoration - Adoración
DESCRIPTION:Upper church / Iglesia de arriba
URL:https://www.hrslawrence.org/event/adoration-adoracion-18/
END:VEVENT
BEGIN:VEVENT
DTSTART;TZID=America/New_York:20250912T100000
DTEND;TZID=America/New_York:20250912T150000
DTSTAMP:20260423T184600
CREATED:20250904T023700Z
LAST-MODIFIED:20250904T023700Z
UID:11168-1757671200-1757689200@www.hrslawrence.org
SUMMARY:Confessions - Confesiones
DESCRIPTION:Upper church / Iglesia de arriba
URL:https://www.hrslawrence.org/event/confessions-confesiones-53/
END:VEVENT
BEGIN:VEVENT
DTSTART;TZID=America/New_York:20250913T100000
DTEND;TZID=America/New_York:20250913T100000
DTSTAMP:20260423T184600
CREATED:20250904T024201Z
LAST-MODIFIED:20250904T024201Z
UID:11173-1757757600-1757757600@www.hrslawrence.org
SUMMARY:Baptism
DESCRIPTION:Upper church
URL:https://www.hrslawrence.org/event/baptism/
END:VEVENT
BEGIN:VEVENT
DTSTART;TZID=America/New_York:20250913T100000
DTEND;TZID=America/New_York:20250913T100000
DTSTAMP:20260423T184600
CREATED:20250904T024205Z
LAST-MODIFIED:20250904T024205Z
UID:11172-1757757600-1757757600@www.hrslawrence.org
SUMMARY:Pro Life Rosary
DESCRIPTION:Upper church
URL:https://www.hrslawrence.org/event/pro-life-rosary-2/
END:VEVENT
BEGIN:VEVENT
DTSTART;TZID=America/New_York:20250913T100000
DTEND;TZID=America/New_York:20250913T154500
DTSTAMP:20260423T184600
CREATED:20250904T023655Z
LAST-MODIFIED:20250904T023655Z
UID:11170-1757757600-1757778300@www.hrslawrence.org
SUMMARY:Confessions - Confesiones
DESCRIPTION:Upper church / Iglesia de arriba
URL:https://www.hrslawrence.org/event/confessions-confesiones-52/
END:VEVENT
BEGIN:VEVENT
DTSTART;TZID=America/New_York:20250914T100000
DTEND;TZID=America/New_York:20250914T100000
DTSTAMP:20260423T184600
CREATED:20250904T024158Z
LAST-MODIFIED:20250904T024158Z
UID:11185-1757844000-1757844000@www.hrslawrence.org
SUMMARY:BVM Install New Members
DESCRIPTION:10:00 AM Upper church – mass service \n11:00 AM Gathering
URL:https://www.hrslawrence.org/event/bvm-install-new-members/
END:VEVENT
END:VCALENDAR