BEGIN:VCALENDAR
VERSION:2.0
PRODID:-//Holy Rosary Shrine - ECPv6.15.20//NONSGML v1.0//EN
CALSCALE:GREGORIAN
METHOD:PUBLISH
X-ORIGINAL-URL:https://www.hrslawrence.org
X-WR-CALDESC:Events for Holy Rosary Shrine
REFRESH-INTERVAL;VALUE=DURATION:PT1H
X-Robots-Tag:noindex
X-PUBLISHED-TTL:PT1H
BEGIN:VTIMEZONE
TZID:America/New_York
BEGIN:DAYLIGHT
TZOFFSETFROM:-0500
TZOFFSETTO:-0400
TZNAME:EDT
DTSTART:20250309T070000
END:DAYLIGHT
BEGIN:STANDARD
TZOFFSETFROM:-0400
TZOFFSETTO:-0500
TZNAME:EST
DTSTART:20251102T060000
END:STANDARD
BEGIN:DAYLIGHT
TZOFFSETFROM:-0500
TZOFFSETTO:-0400
TZNAME:EDT
DTSTART:20260308T070000
END:DAYLIGHT
BEGIN:STANDARD
TZOFFSETFROM:-0400
TZOFFSETTO:-0500
TZNAME:EST
DTSTART:20261101T060000
END:STANDARD
BEGIN:DAYLIGHT
TZOFFSETFROM:-0500
TZOFFSETTO:-0400
TZNAME:EDT
DTSTART:20270314T070000
END:DAYLIGHT
BEGIN:STANDARD
TZOFFSETFROM:-0400
TZOFFSETTO:-0500
TZNAME:EST
DTSTART:20271107T060000
END:STANDARD
END:VTIMEZONE
BEGIN:VEVENT
DTSTART;VALUE=DATE:20260420
DTEND;VALUE=DATE:20260424
DTSTAMP:20260423T091807
CREATED:20260416T023245Z
LAST-MODIFIED:20260416T023245Z
UID:12946-1776643200-1776988799@www.hrslawrence.org
SUMMARY:Franciscan Youth Retreat
DESCRIPTION:During the April vacation we will be having a Retreat for the Youth from Monday through Thursday\, on April 20th to the 23rd\, from 9:00am to 4:00pm. Mass at 2:00pm each day. We hope to also have Rosary\, talks\, games \,and Confessions\, and other activities . Lunch will be provided \,we hope\, by our generous volunteers. \nPlease youth under 8 years old must be accompanied by parent/guardian throughout the event. Our Lady of Guadalupe and St. Francis\, pray for us! ~Fr. Joseph
URL:https://www.hrslawrence.org/event/franciscan-youth-retreat-2/
END:VEVENT
BEGIN:VEVENT
DTSTART;TZID=America/New_York:20260423T100000
DTEND;TZID=America/New_York:20260423T100000
DTSTAMP:20260423T091807
CREATED:20260415T022114Z
LAST-MODIFIED:20260415T022114Z
UID:12910-1776938400-1776938400@www.hrslawrence.org
SUMMARY:Legión de María
DESCRIPTION:Iglesia de abajo
URL:https://www.hrslawrence.org/event/legion-de-maria-25/
END:VEVENT
BEGIN:VEVENT
DTSTART;TZID=America/New_York:20260423T173000
DTEND;TZID=America/New_York:20260423T173000
DTSTAMP:20260423T091807
CREATED:20260415T022111Z
LAST-MODIFIED:20260415T022111Z
UID:12911-1776965400-1776965400@www.hrslawrence.org
SUMMARY:Curso Bíblico
DESCRIPTION:Centro del santuario
URL:https://www.hrslawrence.org/event/curso-biblico-74/
END:VEVENT
BEGIN:VEVENT
DTSTART;TZID=America/New_York:20260423T180000
DTEND;TZID=America/New_York:20260423T184500
DTSTAMP:20260423T091807
CREATED:20260415T022108Z
LAST-MODIFIED:20260415T022108Z
UID:12912-1776967200-1776969900@www.hrslawrence.org
SUMMARY:Confessions - Confesiones
DESCRIPTION:Lower church – Iglesia de abajo
URL:https://www.hrslawrence.org/event/confessions-confesiones-142/
END:VEVENT
BEGIN:VEVENT
DTSTART;TZID=America/New_York:20260423T200000
DTEND;TZID=America/New_York:20260423T200000
DTSTAMP:20260423T091807
CREATED:20260415T022100Z
LAST-MODIFIED:20260415T022100Z
UID:12915-1776974400-1776974400@www.hrslawrence.org
SUMMARY:Charismatic Prayer Group
DESCRIPTION:Lower church
URL:https://www.hrslawrence.org/event/charismatic-prayer-group-23/
END:VEVENT
BEGIN:VEVENT
DTSTART;TZID=America/New_York:20260423T200000
DTEND;TZID=America/New_York:20260423T200000
DTSTAMP:20260423T091807
CREATED:20260415T022103Z
LAST-MODIFIED:20260415T022103Z
UID:12913-1776974400-1776974400@www.hrslawrence.org
SUMMARY:Reunión del Grupo CERS
DESCRIPTION:Centro del santuario
URL:https://www.hrslawrence.org/event/reunion-del-grupo-cers-25/
END:VEVENT
END:VCALENDAR